PDS_VERSION_ID = PDS3
/* FILE DATA ELEMENTS */
RECORD_TYPE = STREAM
/* POINTERS TO DATA OBJECTS */
^COMPRESSED_FILE = "HA581_0000_IR3.JP2"
/* IDENTIFICATION DATA ELEMENTS */
DATA_SET_ID = "MEX-M-HRSC-5-REFDR-MAPPROJECTED-V3.0"
DATA_SET_NAME = "MARS EXPRESS HRSC MAP PROJECTED REFDR V3.0"
DETECTOR_ID = MEX_HRSC_IR
EVENT_TYPE = "MARS-REGIONAL-MAPPING-Im-Fl"
INSTRUMENT_HOST_ID = MEX
INSTRUMENT_HOST_NAME = "MARS EXPRESS"
INSTRUMENT_ID = HRSC
INSTRUMENT_NAME = "HIGH RESOLUTION STEREO CAMERA"
MISSION_NAME = "MARS EXPRESS"
MISSION_PHASE_NAME = ME_Phase_25
PROCESSING_LEVEL_ID = 3
PRODUCT_CREATION_TIME = 2016-10-27T15:49:42.000Z
PRODUCT_ID = "HA581_0000_IR3.JP2"
RELEASE_ID = 0108
REVISION_ID = 0000
/* QUALITY DATA ELEMENTS */
DATA_QUALITY_ID = 1
DATA_QUALITY_DESC = "Data calculated based on original SPICE kernels"
/* TIME DATA ELEMENTS */
SPACECRAFT_CLOCK_START_COUNT = "1/0283121880.08249"
SPACECRAFT_CLOCK_STOP_COUNT = "1/0283122077.21779"
START_TIME = 2012-04-21T20:59:19.003Z
STOP_TIME = 2012-04-21T21:01:08.857Z
/* ORBITAL DATA ELEMENTS */
ASCENDING_NODE_LONGITUDE = 15.35
MAXIMUM_RESOLUTION = 76.8
FOOTPRINT_POINT_LATITUDE = (-25.2095,-25.2099,-25.2107,-25.211, -25.2116,-25.2118,-25.212,-25.2242, -24.9908,-24.6992,-24.5277,-24.2923, -24.1132,-23.8178,-23.5822,-23.4025, -23.2824,-23.1625,-23.0425,-22.9228, -22.8033,-22.682,-22.56,-22.4381, -22.3163,-22.1946,-22.0728,-21.8876, -21.7637,-21.5787,-21.4545,-21.3311, -21.2057,-21.0801,-20.8918,-20.7665, -20.6414,-20.4507,-20.3235,-20.196, -20.069,-19.9421,-19.8125,-19.6187, -19.49,-19.3619,-19.2339,-19.0413, -19.0401,-19.0379,-19.0357,-19.0348, -19.0347,-19.0309,-19.0294,-19.028, -19.0266,-19.0248,-19.0245,-19.156, -19.2873,-19.4161,-19.5452,-19.6748, -19.8044,-19.9343,-20.0622,-20.2534, -20.3807,-20.5079,-20.6977,-20.8232, -21.0113,-21.1372,-21.3257,-21.4494, -21.5733,-21.6973,-21.8838,-22.0084, -22.1303,-22.2525,-22.3747,-22.4969, -22.6193,-22.7419,-22.8624,-22.9826, -23.1029,-23.2233,-23.3438,-23.4645, -23.7023,-23.8796,-24.117,-24.4704, -24.6452,-24.8202,-24.9962,-25.2095)
FOOTPRINT_POINT_LONGITUDE = (317.916,317.784,317.522,317.39,317.045 ,316.783,316.454,316.263,316.26,316.256 ,316.252,316.249,316.247,316.242, 316.237,316.234,316.232,316.229,316.227 ,316.225,316.222,316.22,316.217,316.215 ,316.212,316.21,316.207,316.203,316.2, 316.196,316.193,316.19,316.188,316.184, 316.18,316.177,316.174,316.169,316.166, 316.162,316.159,316.156,316.152,316.147 ,316.144,316.14,316.135,316.131,316.297 ,316.521,316.782,316.95,317.117,317.341 ,317.509,317.639,317.825,317.993,318.13 ,318.128,318.126,318.124,318.122, 318.121,318.119,318.117,318.115,318.113 ,318.111,318.108,318.106,318.104, 318.101,318.099,318.096,318.094,318.092 ,318.09,318.088,318.086,318.084,318.082 ,318.081,318.079,318.077,318.075, 318.073,318.072,318.07,318.068,318.066, 318.064,318.061,318.058,318.054,318.049 ,318.046,318.043,318.041,317.916)
ORBIT_NUMBER = 10581
ORBITAL_ECCENTRICITY = 0.578
ORBITAL_INCLINATION = 86.89
ORBITAL_SEMIMAJOR_AXIS = 8798.04
PERIAPSIS_ALTITUDE = 331.42
PERIAPSIS_ARGUMENT_ANGLE = 311.67
PERIAPSIS_TIME = 2012-04-21T20:52:45.000Z
SPACECRAFT_ORIENTATION = (0.0,1.0,0.0)
^MEX_ORIENTATION_DESC = "MEX_ORIENTATION_DESC.TXT"
SPACECRAFT_POINTING_MODE = NADIR
^MEX_POINTING_DESC = "MEX_POINTING_DESC.TXT"
RIGHT_ASCENSION = -1e+32
DECLINATION = -1e+32
OFFSET_ANGLE = -1e+32
SPACECRAFT_SOLAR_DISTANCE = 2.46037e+08
TARGET_NAME = MARS
/* CAMERA DATA ELEMENTS */
DETECTOR_TEMPERATURE = 18.3705
FOCAL_PLANE_TEMPERATURE = 8.5833
INST_CMPRS_NAME = "DISCRETE COSINE TRANSFORMATION (DCT)"
INST_CMPRS_RATIO = 10.5502
INST_CMPRS_QUALITY = 0
INST_CMPRS_QUANTZ_TBL_ID = 0
INSTRUMENT_TEMPERATURE = 11.8457
LENS_TEMPERATURE = 8.9911
MACROPIXEL_SIZE = 4
MISSING_FRAMES = 0
PIXEL_SUBSAMPLING_FLAG = N
SIGNAL_CHAIN_ID = 2
/* RADIOMETRIC DATA ELEMENTS */
BANDWIDTH = 81.0
CENTER_FILTER_WAVELENGTH = 955.5
RADIANCE_OFFSET = 0.128871
RADIANCE_SCALING_FACTOR = 0.00252687
REFLECTANCE_SCALING_FACTOR = 0.000329997
MEX:REFLECTANCE_OFFSET = 0.0168299
/* IMAGE OBJECT DEFINITIONS */
OBJECT = IMAGE
  INTERCHANGE_FORMAT = BINARY
  LINES = 7371
  LINE_SAMPLES = 2159
  SAMPLE_TYPE = UNSIGNED_INTEGER
  SAMPLE_BITS = 8
  BANDS = 1
  BAND_STORAGE_TYPE = BAND_SEQUENTIAL
  MAXIMUM = 255
  MEAN = 110.36
  MINIMUM = 1
  STANDARD_DEVIATION = 20.1044
END_OBJECT = IMAGE
/* MAP OBJECT DEFINITIONS */
OBJECT = IMAGE_MAP_PROJECTION
  ^DATA_SET_MAP_PROJECTION_CATALOG= "DSMAP.CAT"
  A_AXIS_RADIUS = 3396.0
  B_AXIS_RADIUS = 3396.0
  C_AXIS_RADIUS = 3396.0
  CENTER_LATITUDE = 0.0
  CENTER_LONGITUDE = 317.0
  COORDINATE_SYSTEM_NAME = PLANETOGRAPHIC
  COORDINATE_SYSTEM_TYPE = "BODY-FIXED ROTATING"
  EASTERNMOST_LONGITUDE = 318.13
  FIRST_STANDARD_PARALLEL = "N/A"
  LINE_FIRST_PIXEL = 1
  LINE_LAST_PIXEL = 7371
  LINE_PROJECTION_OFFSET = -22549.375
  MAP_PROJECTION_ROTATION = 0.0
  MAP_PROJECTION_TYPE = SINUSOIDAL
  MAP_RESOLUTION = 1185.42760773333
  MAP_SCALE = 0.05
  MAXIMUM_LATITUDE = -19.0245
  MINIMUM_LATITUDE = -25.2242
  POSITIVE_LONGITUDE_DIRECTION = EAST
  REFERENCE_LATITUDE = "N/A"
  REFERENCE_LONGITUDE = "N/A"
  SAMPLE_FIRST_PIXEL = 1
  SAMPLE_LAST_PIXEL = 2159
  SAMPLE_PROJECTION_OFFSET = 937.875
  SECOND_STANDARD_PARALLEL = "N/A"
  WESTERNMOST_LONGITUDE = 316.131
END_OBJECT = IMAGE_MAP_PROJECTION
/* The JPEG2000 image data file associated with this label. */
OBJECT = COMPRESSED_FILE
  FILE_NAME = "HA581_0000_IR3.JP2"
  RECORD_TYPE = UNDEFINED
  FILE_RECORDS = UNK
  ENCODING_TYPE = "JP2"
  INTERCHANGE_FORMAT = BINARY
  UNCOMPRESSED_FILE_NAME = "HA581_0000_IR3.IMG"
  REQUIRED_STORAGE_BYTES = "15935579"
  ^DESCRIPTION = "JP2INFO.TXT"
END_OBJECT = COMPRESSED_FILE
END
