PDS_VERSION_ID = PDS3
/* FILE DATA ELEMENTS */
RECORD_TYPE = STREAM
/* POINTERS TO DATA OBJECTS */
^COMPRESSED_FILE = "HA581_0000_S13.JP2"
/* IDENTIFICATION DATA ELEMENTS */
DATA_SET_ID = "MEX-M-HRSC-5-REFDR-MAPPROJECTED-V3.0"
DATA_SET_NAME = "MARS EXPRESS HRSC MAP PROJECTED REFDR V3.0"
DETECTOR_ID = MEX_HRSC_S1
EVENT_TYPE = "MARS-REGIONAL-MAPPING-Im-Fl"
INSTRUMENT_HOST_ID = MEX
INSTRUMENT_HOST_NAME = "MARS EXPRESS"
INSTRUMENT_ID = HRSC
INSTRUMENT_NAME = "HIGH RESOLUTION STEREO CAMERA"
MISSION_NAME = "MARS EXPRESS"
MISSION_PHASE_NAME = ME_Phase_25
PROCESSING_LEVEL_ID = 3
PRODUCT_CREATION_TIME = 2016-10-27T15:49:42.000Z
PRODUCT_ID = "HA581_0000_S13.JP2"
RELEASE_ID = 0108
REVISION_ID = 0000
/* QUALITY DATA ELEMENTS */
DATA_QUALITY_ID = 1
DATA_QUALITY_DESC = "Data calculated based on original SPICE kernels"
/* TIME DATA ELEMENTS */
SPACECRAFT_CLOCK_START_COUNT = "1/0283121880.08249"
SPACECRAFT_CLOCK_STOP_COUNT = "1/0283122077.21779"
START_TIME = 2012-04-21T20:59:26.920Z
STOP_TIME = 2012-04-21T21:01:19.031Z
/* ORBITAL DATA ELEMENTS */
ASCENDING_NODE_LONGITUDE = 15.35
MAXIMUM_RESOLUTION = 39.5
FOOTPRINT_POINT_LATITUDE = (-25.2112,-25.2119,-25.2122,-25.2126, -25.213,-25.2135,-25.2138,-25.214, -25.2142,-25.2144,-25.0554,-24.8236, -24.475,-24.3524,-24.174,-23.9378, -23.8181,-23.6987,-23.5194,-23.2812, -23.0993,-22.9779,-22.8569,-22.6754, -22.5545,-22.3701,-22.247,-22.0621, -21.8776,-21.6911,-21.5668,-21.4412, -21.3165,-21.1926,-21.0662,-20.9395, -20.8128,-20.6233,-20.4971,-20.3693, -20.2407,-20.1124,-19.9205,-19.7909, -19.6611,-19.5315,-19.4025,-19.275, -19.0368,-19.0347,-19.0329,-19.031, -19.0296,-19.0297,-19.0286,-19.0254, -19.0234,-19.0209,-19.0186,-19.0177, -19.2156,-19.346,-19.4757,-19.6715, -19.802,-19.9309,-20.0596,-20.1884, -20.3171,-20.4452,-20.5716,-20.6982, -20.825,-21.015,-21.2039,-21.3287, -21.5165,-21.6418,-21.8294,-21.953, -22.138,-22.3236,-22.4472,-22.5698, -22.6912,-22.8129,-22.9346,-23.0565, -23.1784,-23.2996,-23.479,-23.5988, -23.7188,-23.8987,-24.1367,-24.3725, -24.6088,-24.9611,-25.1362,-25.2112)
FOOTPRINT_POINT_LONGITUDE = (317.906,317.698,317.559,317.421, 317.265,317.022,316.884,316.745,316.571 ,316.433,316.246,316.242,316.235, 316.234,316.232,316.227,316.225,316.223 ,316.219,316.215,316.211,316.209, 316.206,316.202,316.199,316.195,316.193 ,316.189,316.184,316.18,316.177,316.174 ,316.171,316.168,316.165,316.162, 316.159,316.154,316.15,316.147,316.143, 316.14,316.135,316.131,316.128,316.124, 316.12,316.115,316.109,316.326,316.484, 316.662,316.8,316.938,317.116,317.294, 317.511,317.788,318.005,318.151,318.147 ,318.146,318.143,318.14,318.138,318.136 ,318.135,318.133,318.131,318.128, 318.126,318.124,318.122,318.119,318.116 ,318.114,318.111,318.109,318.106, 318.104,318.101,318.098,318.096,318.094 ,318.092,318.09,318.088,318.087,318.085 ,318.083,318.08,318.078,318.076,318.073 ,318.069,318.065,318.061,318.055, 318.053,317.906)
ORBIT_NUMBER = 10581
ORBITAL_ECCENTRICITY = 0.578
ORBITAL_INCLINATION = 86.89
ORBITAL_SEMIMAJOR_AXIS = 8798.04
PERIAPSIS_ALTITUDE = 331.42
PERIAPSIS_ARGUMENT_ANGLE = 311.67
PERIAPSIS_TIME = 2012-04-21T20:52:45.000Z
SPACECRAFT_ORIENTATION = (0.0,1.0,0.0)
^MEX_ORIENTATION_DESC = "MEX_ORIENTATION_DESC.TXT"
SPACECRAFT_POINTING_MODE = NADIR
^MEX_POINTING_DESC = "MEX_POINTING_DESC.TXT"
RIGHT_ASCENSION = -1e+32
DECLINATION = -1e+32
OFFSET_ANGLE = -1e+32
SPACECRAFT_SOLAR_DISTANCE = 2.46037e+08
TARGET_NAME = MARS
/* CAMERA DATA ELEMENTS */
DETECTOR_TEMPERATURE = 18.3705
FOCAL_PLANE_TEMPERATURE = 8.5833
INST_CMPRS_NAME = "DISCRETE COSINE TRANSFORMATION (DCT)"
INST_CMPRS_RATIO = 9.21003
INST_CMPRS_QUALITY = 0
INST_CMPRS_QUANTZ_TBL_ID = 0
INSTRUMENT_TEMPERATURE = 11.8457
LENS_TEMPERATURE = 8.9911
MACROPIXEL_SIZE = 2
MISSING_FRAMES = 0
PIXEL_SUBSAMPLING_FLAG = N
SIGNAL_CHAIN_ID = 1
/* RADIOMETRIC DATA ELEMENTS */
BANDWIDTH = 180.0
CENTER_FILTER_WAVELENGTH = 677.0
RADIANCE_OFFSET = 0.811607
RADIANCE_SCALING_FACTOR = 0.0115853
REFLECTANCE_SCALING_FACTOR = 0.000365888
MEX:REFLECTANCE_OFFSET = 0.0256322
/* IMAGE OBJECT DEFINITIONS */
OBJECT = IMAGE
  INTERCHANGE_FORMAT = BINARY
  LINES = 14741
  LINE_SAMPLES = 4318
  SAMPLE_TYPE = UNSIGNED_INTEGER
  SAMPLE_BITS = 8
  BANDS = 1
  BAND_STORAGE_TYPE = BAND_SEQUENTIAL
  MAXIMUM = 255
  MEAN = 115.619
  MINIMUM = 1
  STANDARD_DEVIATION = 20.4931
END_OBJECT = IMAGE
/* MAP OBJECT DEFINITIONS */
OBJECT = IMAGE_MAP_PROJECTION
  ^DATA_SET_MAP_PROJECTION_CATALOG= "DSMAP.CAT"
  A_AXIS_RADIUS = 3396.0
  B_AXIS_RADIUS = 3396.0
  C_AXIS_RADIUS = 3396.0
  CENTER_LATITUDE = 0.0
  CENTER_LONGITUDE = 317.0
  COORDINATE_SYSTEM_NAME = PLANETOGRAPHIC
  COORDINATE_SYSTEM_TYPE = "BODY-FIXED ROTATING"
  EASTERNMOST_LONGITUDE = 318.151
  FIRST_STANDARD_PARALLEL = "N/A"
  LINE_FIRST_PIXEL = 1
  LINE_LAST_PIXEL = 14741
  LINE_PROJECTION_OFFSET = -45098.25
  MAP_PROJECTION_ROTATION = 0.0
  MAP_PROJECTION_TYPE = SINUSOIDAL
  MAP_RESOLUTION = 2370.85521546667
  MAP_SCALE = 0.025
  MAXIMUM_LATITUDE = -19.0177
  MINIMUM_LATITUDE = -25.2144
  POSITIVE_LONGITUDE_DIRECTION = EAST
  REFERENCE_LATITUDE = "N/A"
  REFERENCE_LONGITUDE = "N/A"
  SAMPLE_FIRST_PIXEL = 1
  SAMPLE_LAST_PIXEL = 4318
  SAMPLE_PROJECTION_OFFSET = 1876.25
  SECOND_STANDARD_PARALLEL = "N/A"
  WESTERNMOST_LONGITUDE = 316.109
END_OBJECT = IMAGE_MAP_PROJECTION
/* The JPEG2000 image data file associated with this label. */
OBJECT = COMPRESSED_FILE
  FILE_NAME = "HA581_0000_S13.JP2"
  RECORD_TYPE = UNDEFINED
  FILE_RECORDS = UNK
  ENCODING_TYPE = "JP2"
  INTERCHANGE_FORMAT = BINARY
  UNCOMPRESSED_FILE_NAME = "HA581_0000_S13.IMG"
  REQUIRED_STORAGE_BYTES = "63677546"
  ^DESCRIPTION = "JP2INFO.TXT"
END_OBJECT = COMPRESSED_FILE
END
