PDS_VERSION_ID = PDS3
/* FILE DATA ELEMENTS */
RECORD_TYPE = STREAM
/* POINTERS TO DATA OBJECTS */
^COMPRESSED_FILE = "HA588_0000_ND3.JP2"
/* IDENTIFICATION DATA ELEMENTS */
DATA_SET_ID = "MEX-M-HRSC-5-REFDR-MAPPROJECTED-V3.0"
DATA_SET_NAME = "MARS EXPRESS HRSC MAP PROJECTED REFDR V3.0"
DETECTOR_ID = MEX_HRSC_NADIR
EVENT_TYPE = "MARS-REGIONAL-MAPPING-Im-Fl"
INSTRUMENT_HOST_ID = MEX
INSTRUMENT_HOST_NAME = "MARS EXPRESS"
INSTRUMENT_ID = HRSC
INSTRUMENT_NAME = "HIGH RESOLUTION STEREO CAMERA"
MISSION_NAME = "MARS EXPRESS"
MISSION_PHASE_NAME = ME_Phase_25
PROCESSING_LEVEL_ID = 3
PRODUCT_CREATION_TIME = 2016-10-27T15:49:42.000Z
PRODUCT_ID = "HA588_0000_ND3.JP2"
RELEASE_ID = 0108
REVISION_ID = 0000
/* QUALITY DATA ELEMENTS */
DATA_QUALITY_ID = 1
DATA_QUALITY_DESC = "Data calculated based on original SPICE kernels"
/* TIME DATA ELEMENTS */
SPACECRAFT_CLOCK_START_COUNT = "1/0283298033.24120"
SPACECRAFT_CLOCK_STOP_COUNT = "1/0283298402.50334"
START_TIME = 2012-04-23T21:54:35.906Z
STOP_TIME = 2012-04-23T21:55:33.532Z
/* ORBITAL DATA ELEMENTS */
ASCENDING_NODE_LONGITUDE = 15.21
MAXIMUM_RESOLUTION = 17.3
FOOTPRINT_POINT_LATITUDE = (-26.5643,-26.564,-26.5636,-26.5631, -26.5625,-26.5617,-26.5608,-26.5598, -26.5587,-26.5574,-26.556,-26.5544, -26.5174,-26.3133,-26.1773,-26.0414, -25.8682,-25.7292,-25.5902,-25.4514, -25.3126,-25.174,-25.0355,-24.8938, -24.823,-24.7521,-24.6813,-24.6105, -24.5398,-24.3984,-24.2571,-24.1159, -24.0081,-23.9359,-23.8637,-23.7916, -23.7195,-23.6474,-23.5754,-23.5033, -23.4314,-23.3594,-23.2875,-23.2156, -23.1427,-23.0692,-23.0214,-23.0222, -23.0228,-23.0233,-23.0239,-23.0243, -23.0249,-23.0252,-23.0254,-23.0255, -23.0256,-23.0256,-23.0256,-23.0253, -23.0251,-23.025,-23.0987,-23.2089, -23.2809,-23.353,-23.4251,-23.4973, -23.5695,-23.6417,-23.7139,-23.7862, -23.8585,-23.9308,-24.0032,-24.1115, -24.1822,-24.253,-24.3238,-24.3946, -24.4655,-24.5364,-24.6073,-24.6782, -24.7492,-24.8202,-24.8912,-24.9622, -25.0681,-25.2069,-25.3459,-25.485, -25.6242,-25.7634,-25.9028,-26.0418, -26.178,-26.3142,-26.4506,-26.5643)
FOOTPRINT_POINT_LONGITUDE = (321.638,321.507,321.375,321.243, 321.111,320.978,320.844,320.71,320.576, 320.442,320.307,320.171,319.979,319.979 ,319.979,319.978,319.978,319.977, 319.976,319.976,319.975,319.974,319.973 ,319.972,319.972,319.971,319.971,319.97 ,319.97,319.969,319.967,319.966,319.965 ,319.965,319.964,319.964,319.963, 319.961,319.961,319.961,319.96,319.959, 319.959,319.958,319.957,319.956,320.065 ,320.191,320.28,320.37,320.495,320.584, 320.745,320.851,320.939,321.027,321.116 ,321.239,321.379,321.519,321.624, 321.755,321.754,321.752,321.75,321.749, 321.748,321.747,321.745,321.744,321.743 ,321.741,321.74,321.739,321.738,321.736 ,321.734,321.733,321.732,321.731, 321.729,321.728,321.727,321.725,321.724 ,321.723,321.721,321.72,321.718,321.715 ,321.713,321.71,321.707,321.705,321.702 ,321.699,321.697,321.694,321.691, 321.638)
ORBIT_NUMBER = 10588
ORBITAL_ECCENTRICITY = 0.578
ORBITAL_INCLINATION = 86.89
ORBITAL_SEMIMAJOR_AXIS = 8795.79
PERIAPSIS_ALTITUDE = 331.2
PERIAPSIS_ARGUMENT_ANGLE = 310.47
PERIAPSIS_TIME = 2012-04-23T21:48:41.000Z
SPACECRAFT_ORIENTATION = (0.0,1.0,0.0)
^MEX_ORIENTATION_DESC = "MEX_ORIENTATION_DESC.TXT"
SPACECRAFT_POINTING_MODE = ACROSSTRACK
^MEX_POINTING_DESC = "MEX_POINTING_DESC.TXT"
RIGHT_ASCENSION = -1e+32
DECLINATION = -1e+32
OFFSET_ANGLE = 0.6
SPACECRAFT_SOLAR_DISTANCE = 2.4584e+08
TARGET_NAME = MARS
/* CAMERA DATA ELEMENTS */
DETECTOR_TEMPERATURE = 0.0
FOCAL_PLANE_TEMPERATURE = 0.0
INST_CMPRS_NAME = "DISCRETE COSINE TRANSFORMATION (DCT)"
INST_CMPRS_RATIO = 6.95195
INST_CMPRS_QUALITY = 0
INST_CMPRS_QUANTZ_TBL_ID = 0
INSTRUMENT_TEMPERATURE = 0.0
LENS_TEMPERATURE = 0.0
MACROPIXEL_SIZE = 1
MISSING_FRAMES = 0
PIXEL_SUBSAMPLING_FLAG = N
SIGNAL_CHAIN_ID = 0
/* RADIOMETRIC DATA ELEMENTS */
BANDWIDTH = 177.0
CENTER_FILTER_WAVELENGTH = 677.5
RADIANCE_OFFSET = 0.296034
RADIANCE_SCALING_FACTOR = 0.0116092
REFLECTANCE_SCALING_FACTOR = 0.000372727
MEX:REFLECTANCE_OFFSET = 0.00950454
/* IMAGE OBJECT DEFINITIONS */
OBJECT = IMAGE
  INTERCHANGE_FORMAT = BINARY
  LINES = 16813
  LINE_SAMPLES = 8176
  SAMPLE_TYPE = UNSIGNED_INTEGER
  SAMPLE_BITS = 8
  BANDS = 1
  BAND_STORAGE_TYPE = BAND_SEQUENTIAL
  MAXIMUM = 255
  MEAN = 109.593
  MINIMUM = 1
  STANDARD_DEVIATION = 12.035
END_OBJECT = IMAGE
/* MAP OBJECT DEFINITIONS */
OBJECT = IMAGE_MAP_PROJECTION
  ^DATA_SET_MAP_PROJECTION_CATALOG= "DSMAP.CAT"
  A_AXIS_RADIUS = 3396.0
  B_AXIS_RADIUS = 3396.0
  C_AXIS_RADIUS = 3396.0
  CENTER_LATITUDE = 0.0
  CENTER_LONGITUDE = 321.0
  COORDINATE_SYSTEM_NAME = PLANETOGRAPHIC
  COORDINATE_SYSTEM_TYPE = "BODY-FIXED ROTATING"
  EASTERNMOST_LONGITUDE = 321.755
  FIRST_STANDARD_PARALLEL = "N/A"
  LINE_FIRST_PIXEL = 1
  LINE_LAST_PIXEL = 16813
  LINE_PROJECTION_OFFSET = -109149.0
  MAP_PROJECTION_ROTATION = 0.0
  MAP_PROJECTION_TYPE = SINUSOIDAL
  MAP_RESOLUTION = 4741.71043093333
  MAP_SCALE = 0.0125
  MAXIMUM_LATITUDE = -23.0214
  MINIMUM_LATITUDE = -26.5643
  POSITIVE_LONGITUDE_DIRECTION = EAST
  REFERENCE_LATITUDE = "N/A"
  REFERENCE_LONGITUDE = "N/A"
  SAMPLE_FIRST_PIXEL = 1
  SAMPLE_LAST_PIXEL = 8176
  SAMPLE_PROJECTION_OFFSET = 4833.0
  SECOND_STANDARD_PARALLEL = "N/A"
  WESTERNMOST_LONGITUDE = 319.956
END_OBJECT = IMAGE_MAP_PROJECTION
/* The JPEG2000 image data file associated with this label. */
OBJECT = COMPRESSED_FILE
  FILE_NAME = "HA588_0000_ND3.JP2"
  RECORD_TYPE = UNDEFINED
  FILE_RECORDS = UNK
  ENCODING_TYPE = "JP2"
  INTERCHANGE_FORMAT = BINARY
  UNCOMPRESSED_FILE_NAME = "HA588_0000_ND3.IMG"
  REQUIRED_STORAGE_BYTES = "137495792"
  ^DESCRIPTION = "JP2INFO.TXT"
END_OBJECT = COMPRESSED_FILE
END
