PDS_VERSION_ID = PDS3
/* FILE DATA ELEMENTS */
RECORD_TYPE = STREAM
/* POINTERS TO DATA OBJECTS */
^COMPRESSED_FILE = "HA591_0000_P13.JP2"
/* IDENTIFICATION DATA ELEMENTS */
DATA_SET_ID = "MEX-M-HRSC-5-REFDR-MAPPROJECTED-V3.0"
DATA_SET_NAME = "MARS EXPRESS HRSC MAP PROJECTED REFDR V3.0"
DETECTOR_ID = MEX_HRSC_P1
EVENT_TYPE = "MARS-REGIONAL-MAPPING-Im-Fl"
INSTRUMENT_HOST_ID = MEX
INSTRUMENT_HOST_NAME = "MARS EXPRESS"
INSTRUMENT_ID = HRSC
INSTRUMENT_NAME = "HIGH RESOLUTION STEREO CAMERA"
MISSION_NAME = "MARS EXPRESS"
MISSION_PHASE_NAME = ME_Phase_25
PROCESSING_LEVEL_ID = 3
PRODUCT_CREATION_TIME = 2016-10-27T15:49:42.000Z
PRODUCT_ID = "HA591_0000_P13.JP2"
RELEASE_ID = 0108
REVISION_ID = 0000
/* QUALITY DATA ELEMENTS */
DATA_QUALITY_ID = 1
DATA_QUALITY_DESC = "Data calculated based on original SPICE kernels"
/* TIME DATA ELEMENTS */
SPACECRAFT_CLOCK_START_COUNT = "1/0283373643.08403"
SPACECRAFT_CLOCK_STOP_COUNT = "1/0283374062.22017"
START_TIME = 2012-04-24T18:55:29.548Z
STOP_TIME = 2012-04-24T19:00:24.104Z
/* ORBITAL DATA ELEMENTS */
ASCENDING_NODE_LONGITUDE = 15.16
MAXIMUM_RESOLUTION = 45
FOOTPRINT_POINT_LATITUDE = (-19.5618,-19.5656,-19.5693,-19.5715, -19.3195,-18.8041,-18.4151,-18.1516, -17.8885,-17.4901,-17.2239,-16.9542, -16.5487,-16.2763,-16.0017,-15.7263, -15.4483,-15.1696,-14.8885,-14.4639, -14.1791,-13.8913,-13.4579,-13.0207, -12.579,-12.1327,-11.8327,-11.5337, -11.2311,-10.9261,-10.6175,-10.3001, -9.99137,-9.52081,-9.20459,-8.88502, -8.56289,-8.23917,-7.91419,-7.58728, -7.25717,-6.92415,-6.58877,-6.25103, -5.91083,-5.56798,-5.22259,-4.6994, -4.67951,-4.66652,-4.65608,-4.64139, -4.62852,-4.61703,-4.96787,-5.31394, -5.83214,-6.33808,-6.67904,-7.01536, -7.35056,-7.68229,-8.01094,-8.33611, -8.65518,-8.98175,-9.3018,-9.61908, -10.0869,-10.4001,-10.7103,-11.1738, -11.6319,-12.085,-12.3842,-12.682, -12.9765,-13.2726,-13.5665,-13.8538, -14.138,-14.4247,-14.851,-15.1339, -15.4134,-15.692,-15.9683,-16.2443, -16.5178,-16.9237,-17.1948,-17.4615, -17.7314,-18.1306,-18.393,-18.6508, -18.9103,-19.1685,-19.5544,-19.5618)
FOOTPRINT_POINT_LONGITUDE = (15.278,14.8455,14.3936,14.0986,13.7879 ,13.7725,13.7602,13.7518,13.7435, 13.7301,13.721,13.7116,13.6972,13.6872, 13.6771,13.6666,13.656,13.6452,13.6339, 13.6169,13.6051,13.5933,13.5747,13.5552 ,13.5353,13.5148,13.5008,13.4848, 13.4695,13.4544,13.439,13.4267,13.4092, 13.3837,13.3664,13.3492,13.3315,13.3132 ,13.2941,13.2745,13.2549,13.2351, 13.2149,13.1942,13.1731,13.1515,13.1294 ,13.0955,13.5001,13.9908,14.3943, 15.0002,15.5487,16.0793,16.0721,16.064, 16.0539,16.041,16.0359,16.0298,16.0244, 16.0185,16.0126,16.0062,15.9979,15.9946 ,15.9891,15.9832,15.9731,15.9682, 15.9634,15.9568,15.9499,15.943,15.9384, 15.9337,15.9288,15.9257,15.9219,15.9167 ,15.9102,15.9062,15.9,15.8959,15.8917, 15.8874,15.8831,15.8792,15.8751,15.8686 ,15.8648,15.8606,15.858,15.8536,15.8488 ,15.8436,15.8392,15.8354,15.8297, 15.278)
ORBIT_NUMBER = 10591
ORBITAL_ECCENTRICITY = 0.578
ORBITAL_INCLINATION = 86.88
ORBITAL_SEMIMAJOR_AXIS = 8798.38
PERIAPSIS_ALTITUDE = 331.3
PERIAPSIS_ARGUMENT_ANGLE = 309.94
PERIAPSIS_TIME = 2012-04-24T18:46:55.000Z
SPACECRAFT_ORIENTATION = (0.0,1.0,0.0)
^MEX_ORIENTATION_DESC = "MEX_ORIENTATION_DESC.TXT"
SPACECRAFT_POINTING_MODE = NADIR
^MEX_POINTING_DESC = "MEX_POINTING_DESC.TXT"
RIGHT_ASCENSION = -1e+32
DECLINATION = -1e+32
OFFSET_ANGLE = -1e+32
SPACECRAFT_SOLAR_DISTANCE = 2.45755e+08
TARGET_NAME = MARS
/* CAMERA DATA ELEMENTS */
DETECTOR_TEMPERATURE = 16.9432
FOCAL_PLANE_TEMPERATURE = 8.1755
INST_CMPRS_NAME = "DISCRETE COSINE TRANSFORMATION (DCT)"
INST_CMPRS_RATIO = 9.64483
INST_CMPRS_QUALITY = 0
INST_CMPRS_QUANTZ_TBL_ID = 0
INSTRUMENT_TEMPERATURE = 11.4379
LENS_TEMPERATURE = 8.5833
MACROPIXEL_SIZE = 2
MISSING_FRAMES = 0
PIXEL_SUBSAMPLING_FLAG = N
SIGNAL_CHAIN_ID = 3
/* RADIOMETRIC DATA ELEMENTS */
BANDWIDTH = 174.0
CENTER_FILTER_WAVELENGTH = 675.0
RADIANCE_OFFSET = 1.52874
RADIANCE_SCALING_FACTOR = 0.0242409
REFLECTANCE_SCALING_FACTOR = 0.000787473
MEX:REFLECTANCE_OFFSET = 0.0496616
/* IMAGE OBJECT DEFINITIONS */
OBJECT = IMAGE
  INTERCHANGE_FORMAT = BINARY
  LINES = 17730
  LINE_SAMPLES = 3282
  SAMPLE_TYPE = UNSIGNED_INTEGER
  SAMPLE_BITS = 8
  BANDS = 1
  BAND_STORAGE_TYPE = BAND_SEQUENTIAL
  MAXIMUM = 255
  MEAN = 92.0607
  MINIMUM = 1
  STANDARD_DEVIATION = 31.0067
END_OBJECT = IMAGE
/* MAP OBJECT DEFINITIONS */
OBJECT = IMAGE_MAP_PROJECTION
  ^DATA_SET_MAP_PROJECTION_CATALOG= "DSMAP.CAT"
  A_AXIS_RADIUS = 3396.0
  B_AXIS_RADIUS = 3396.0
  C_AXIS_RADIUS = 3396.0
  CENTER_LATITUDE = 0.0
  CENTER_LONGITUDE = 15.0
  COORDINATE_SYSTEM_NAME = PLANETOGRAPHIC
  COORDINATE_SYSTEM_TYPE = "BODY-FIXED ROTATING"
  EASTERNMOST_LONGITUDE = 16.0793
  FIRST_STANDARD_PARALLEL = "N/A"
  LINE_FIRST_PIXEL = 1
  LINE_LAST_PIXEL = 17730
  LINE_PROJECTION_OFFSET = -5467.75
  MAP_PROJECTION_ROTATION = 0.0
  MAP_PROJECTION_TYPE = SINUSOIDAL
  MAP_RESOLUTION = 1185.42760773333
  MAP_SCALE = 0.05
  MAXIMUM_LATITUDE = -4.61703
  MINIMUM_LATITUDE = -19.5715
  POSITIVE_LONGITUDE_DIRECTION = EAST
  REFERENCE_LATITUDE = "N/A"
  REFERENCE_LONGITUDE = "N/A"
  SAMPLE_FIRST_PIXEL = 1
  SAMPLE_LAST_PIXEL = 3282
  SAMPLE_PROJECTION_OFFSET = 2126.75
  SECOND_STANDARD_PARALLEL = "N/A"
  WESTERNMOST_LONGITUDE = 13.0955
END_OBJECT = IMAGE_MAP_PROJECTION
/* The JPEG2000 image data file associated with this label. */
OBJECT = COMPRESSED_FILE
  FILE_NAME = "HA591_0000_P13.JP2"
  RECORD_TYPE = UNDEFINED
  FILE_RECORDS = UNK
  ENCODING_TYPE = "JP2"
  INTERCHANGE_FORMAT = BINARY
  UNCOMPRESSED_FILE_NAME = "HA591_0000_P13.IMG"
  REQUIRED_STORAGE_BYTES = "58212834"
  ^DESCRIPTION = "JP2INFO.TXT"
END_OBJECT = COMPRESSED_FILE
END
