PDS_VERSION_ID = PDS3
/* FILE DATA ELEMENTS */
RECORD_TYPE = STREAM
/* POINTERS TO DATA OBJECTS */
^COMPRESSED_FILE = "HA596_0000_P13.JP2"
/* IDENTIFICATION DATA ELEMENTS */
DATA_SET_ID = "MEX-M-HRSC-5-REFDR-MAPPROJECTED-V3.0"
DATA_SET_NAME = "MARS EXPRESS HRSC MAP PROJECTED REFDR V3.0"
DETECTOR_ID = MEX_HRSC_P1
EVENT_TYPE = "MARS-LOCAL-STEREO-Vo"
INSTRUMENT_HOST_ID = MEX
INSTRUMENT_HOST_NAME = "MARS EXPRESS"
INSTRUMENT_ID = HRSC
INSTRUMENT_NAME = "HIGH RESOLUTION STEREO CAMERA"
MISSION_NAME = "MARS EXPRESS"
MISSION_PHASE_NAME = ME_Phase_25
PROCESSING_LEVEL_ID = 3
PRODUCT_CREATION_TIME = 2016-10-27T15:49:42.000Z
PRODUCT_ID = "HA596_0000_P13.JP2"
RELEASE_ID = 0108
REVISION_ID = 0000
/* QUALITY DATA ELEMENTS */
DATA_QUALITY_ID = 1
DATA_QUALITY_DESC = "Data calculated based on original SPICE kernels"
/* TIME DATA ELEMENTS */
SPACECRAFT_CLOCK_START_COUNT = "1/0283499449.07304"
SPACECRAFT_CLOCK_STOP_COUNT = "1/0283499781.45923"
START_TIME = 2012-04-26T05:52:13.062Z
STOP_TIME = 2012-04-26T05:55:51.196Z
/* ORBITAL DATA ELEMENTS */
ASCENDING_NODE_LONGITUDE = 15.06
MAXIMUM_RESOLUTION = 43.7
FOOTPRINT_POINT_LATITUDE = (-21.4091,-21.4111,-21.4135,-21.4151, -21.418,-21.4196,-21.1182,-20.8068, -20.3973,-19.9817,-19.6689,-19.4585, -19.2488,-19.0366,-18.7182,-18.5036, -18.2876,-18.0724,-17.7457,-17.5277, -17.3072,-17.0867,-16.865,-16.6414, -16.4186,-16.1928,-15.967,-15.6255, -15.3976,-15.1663,-14.9357,-14.7026, -14.4695,-14.2344,-13.9992,-13.7621, -13.5243,-13.2844,-13.0441,-12.8014, -12.4363,-12.1914,-11.9445,-11.5723, -11.3232,-11.0716,-10.6931,-10.3106, -10.0545,-9.99389,-9.98448,-9.97443, -9.96676,-9.95904,-9.95353,-9.94554, -10.3309,-10.5865,-10.8413,-11.094, -11.4713,-11.7217,-11.9698,-12.3398, -12.5856,-12.829,-13.0719,-13.3131, -13.6727,-13.9112,-14.1472,-14.384, -14.6177,-14.8522,-15.0836,-15.4302, -15.6587,-15.8877,-16.1141,-16.4532, -16.6774,-17.0126,-17.2341,-17.456, -17.6748,-17.8938,-18.2194,-18.4359, -18.6515,-18.9717,-19.1851,-19.3956, -19.6066,-19.8169,-20.0248,-20.2332, -20.441,-20.8518,-21.2644,-21.4091)
FOOTPRINT_POINT_LONGITUDE = (224.488,224.256,223.947,223.715, 223.272,222.982,222.678,222.669,222.658 ,222.646,222.637,222.631,222.624, 222.618,222.607,222.6,222.593,222.586, 222.575,222.567,222.56,222.552,222.544, 222.535,222.527,222.518,222.51,222.496, 222.487,222.478,222.469,222.459,222.449 ,222.439,222.429,222.418,222.408, 222.397,222.386,222.375,222.357,222.346 ,222.334,222.315,222.303,222.29,222.27, 222.25,222.237,222.538,222.945,223.402, 223.757,224.112,224.366,224.747,224.851 ,224.846,224.842,224.838,224.832, 224.828,224.824,224.818,224.814,224.81, 224.806,224.802,224.797,224.793,224.789 ,224.785,224.782,224.778,224.775, 224.769,224.766,224.762,224.759,224.754 ,224.751,224.746,224.742,224.739, 224.736,224.733,224.728,224.725,224.722 ,224.717,224.714,224.711,224.707, 224.704,224.701,224.698,224.695,224.689 ,224.683,224.488)
ORBIT_NUMBER = 10596
ORBITAL_ECCENTRICITY = 0.578
ORBITAL_INCLINATION = 86.89
ORBITAL_SEMIMAJOR_AXIS = 8794.78
PERIAPSIS_ALTITUDE = 330.17
PERIAPSIS_ARGUMENT_ANGLE = 309.08
PERIAPSIS_TIME = 2012-04-26T05:43:57.000Z
SPACECRAFT_ORIENTATION = (0.0,1.0,0.0)
^MEX_ORIENTATION_DESC = "MEX_ORIENTATION_DESC.TXT"
SPACECRAFT_POINTING_MODE = NADIR
^MEX_POINTING_DESC = "MEX_POINTING_DESC.TXT"
RIGHT_ASCENSION = -1e+32
DECLINATION = -1e+32
OFFSET_ANGLE = -1e+32
SPACECRAFT_SOLAR_DISTANCE = 2.45609e+08
TARGET_NAME = MARS
/* CAMERA DATA ELEMENTS */
DETECTOR_TEMPERATURE = 17.7588
FOCAL_PLANE_TEMPERATURE = 8.7872
INST_CMPRS_NAME = "DISCRETE COSINE TRANSFORMATION (DCT)"
INST_CMPRS_RATIO = 4.4825
INST_CMPRS_QUALITY = 0
INST_CMPRS_QUANTZ_TBL_ID = 0
INSTRUMENT_TEMPERATURE = 11.4379
LENS_TEMPERATURE = 8.9911
MACROPIXEL_SIZE = 2
MISSING_FRAMES = 1
PIXEL_SUBSAMPLING_FLAG = N
SIGNAL_CHAIN_ID = 3
/* RADIOMETRIC DATA ELEMENTS */
BANDWIDTH = 174.0
CENTER_FILTER_WAVELENGTH = 675.0
RADIANCE_OFFSET = 1.72689
RADIANCE_SCALING_FACTOR = 0.0300097
REFLECTANCE_SCALING_FACTOR = 0.000973723
MEX:REFLECTANCE_OFFSET = 0.0560322
/* IMAGE OBJECT DEFINITIONS */
OBJECT = IMAGE
  INTERCHANGE_FORMAT = BINARY
  LINES = 13601
  LINE_SAMPLES = 2936
  SAMPLE_TYPE = UNSIGNED_INTEGER
  SAMPLE_BITS = 8
  BANDS = 1
  BAND_STORAGE_TYPE = BAND_SEQUENTIAL
  MAXIMUM = 255
  MEAN = 127.496
  MINIMUM = 1
  STANDARD_DEVIATION = 18.2865
END_OBJECT = IMAGE
/* MAP OBJECT DEFINITIONS */
OBJECT = IMAGE_MAP_PROJECTION
  ^DATA_SET_MAP_PROJECTION_CATALOG= "DSMAP.CAT"
  A_AXIS_RADIUS = 3396.0
  B_AXIS_RADIUS = 3396.0
  C_AXIS_RADIUS = 3396.0
  CENTER_LATITUDE = 0.0
  CENTER_LONGITUDE = 224.0
  COORDINATE_SYSTEM_NAME = PLANETOGRAPHIC
  COORDINATE_SYSTEM_TYPE = "BODY-FIXED ROTATING"
  EASTERNMOST_LONGITUDE = 224.851
  FIRST_STANDARD_PARALLEL = "N/A"
  LINE_FIRST_PIXEL = 1
  LINE_LAST_PIXEL = 13601
  LINE_PROJECTION_OFFSET = -11801.25
  MAP_PROJECTION_ROTATION = 0.0
  MAP_PROJECTION_TYPE = SINUSOIDAL
  MAP_RESOLUTION = 1185.42760773333
  MAP_SCALE = 0.05
  MAXIMUM_LATITUDE = -9.945539999999999
  MINIMUM_LATITUDE = -21.4196
  POSITIVE_LONGITUDE_DIRECTION = EAST
  REFERENCE_LATITUDE = "N/A"
  REFERENCE_LONGITUDE = "N/A"
  SAMPLE_FIRST_PIXEL = 1
  SAMPLE_LAST_PIXEL = 2936
  SAMPLE_PROJECTION_OFFSET = 2003.75
  SECOND_STANDARD_PARALLEL = "N/A"
  WESTERNMOST_LONGITUDE = 222.237
END_OBJECT = IMAGE_MAP_PROJECTION
/* The JPEG2000 image data file associated with this label. */
OBJECT = COMPRESSED_FILE
  FILE_NAME = "HA596_0000_P13.JP2"
  RECORD_TYPE = UNDEFINED
  FILE_RECORDS = UNK
  ENCODING_TYPE = "JP2"
  INTERCHANGE_FORMAT = BINARY
  UNCOMPRESSED_FILE_NAME = "HA596_0000_P13.IMG"
  REQUIRED_STORAGE_BYTES = "39956024"
  ^DESCRIPTION = "JP2INFO.TXT"
END_OBJECT = COMPRESSED_FILE
END
