PDS_VERSION_ID = PDS3
/* FILE DATA ELEMENTS */
RECORD_TYPE = STREAM
/* POINTERS TO DATA OBJECTS */
^COMPRESSED_FILE = "HA597_0000_IR3.JP2"
/* IDENTIFICATION DATA ELEMENTS */
DATA_SET_ID = "MEX-M-HRSC-5-REFDR-MAPPROJECTED-V3.0"
DATA_SET_NAME = "MARS EXPRESS HRSC MAP PROJECTED REFDR V3.0"
DETECTOR_ID = MEX_HRSC_IR
EVENT_TYPE = "MARS-REGIONAL-MAPPING-Vo-Im-Fl"
INSTRUMENT_HOST_ID = MEX
INSTRUMENT_HOST_NAME = "MARS EXPRESS"
INSTRUMENT_ID = HRSC
INSTRUMENT_NAME = "HIGH RESOLUTION STEREO CAMERA"
MISSION_NAME = "MARS EXPRESS"
MISSION_PHASE_NAME = ME_Phase_25
PROCESSING_LEVEL_ID = 3
PRODUCT_CREATION_TIME = 2016-10-27T15:49:42.000Z
PRODUCT_ID = "HA597_0000_IR3.JP2"
RELEASE_ID = 0108
REVISION_ID = 0000
/* QUALITY DATA ELEMENTS */
DATA_QUALITY_ID = 1
DATA_QUALITY_DESC = "Data calculated based on original SPICE kernels"
/* TIME DATA ELEMENTS */
SPACECRAFT_CLOCK_START_COUNT = "1/0283524437.07298"
SPACECRAFT_CLOCK_STOP_COUNT = "1/0283524774.44314"
START_TIME = 2012-04-26T12:48:27.150Z
STOP_TIME = 2012-04-26T12:52:44.989Z
/* ORBITAL DATA ELEMENTS */
ASCENDING_NODE_LONGITUDE = 15.04
MAXIMUM_RESOLUTION = 67.6
FOOTPRINT_POINT_LATITUDE = (-33.3904,-33.4015,-33.4392,-33.1835, -32.9213,-32.6599,-32.399,-32.1384, -31.7404,-31.4748,-31.2098,-30.8096, -30.5389,-30.2693,-29.9991,-29.7245, -29.3122,-29.0382,-28.759,-28.4787, -28.2003,-27.7748,-27.4917,-27.0629, -26.7741,-26.4861,-26.1943,-25.9005, -25.4596,-25.1618,-24.714,-24.4126, -24.1115,-23.8052,-23.4987,-23.1896, -22.8803,-22.4107,-22.0973,-21.7784, -21.4603,-21.1378,-20.6518,-20.3256, -19.9961,-19.4982,-19.164,-18.8269, -18.7849,-18.7746,-18.7531,-18.734, -18.7162,-19.0552,-19.3893,-19.8887, -20.2205,-20.5478,-21.0364,-21.3612, -21.6804,-22.158,-22.4723,-22.7868, -23.0981,-23.4097,-23.7156,-24.0239, -24.4779,-24.7806,-25.0786,-25.3775, -25.8203,-26.114,-26.4065,-26.6955, -26.9857,-27.2733,-27.5582,-27.8429, -28.1273,-28.4075,-28.6879,-28.968, -29.2428,-29.5186,-29.9319,-30.2025, -30.6089,-30.88,-31.1464,-31.4125, -31.6793,-32.0778,-32.3385,-32.6, -32.8621,-33.1248,-33.3814,-33.3904)
FOOTPRINT_POINT_LONGITUDE = (120.516,120.006,119.27,119.276,119.282 ,119.288,119.293,119.299,119.307, 119.311,119.314,119.32,119.323,119.325, 119.329,119.332,119.335,119.337,119.339 ,119.341,119.342,119.344,119.343, 119.344,119.344,119.344,119.343,119.343 ,119.34,119.339,119.336,119.333,119.33, 119.327,119.324,119.321,119.316,119.309 ,119.304,119.299,119.293,119.287, 119.278,119.271,119.264,119.252,119.244 ,119.235,119.61,119.88,120.433,120.919, 121.426,121.418,121.41,121.399,121.391, 121.384,121.372,121.364,121.357,121.345 ,121.337,121.33,121.322,121.314,121.306 ,121.298,121.287,121.279,121.271, 121.263,121.251,121.243,121.235,121.226 ,121.218,121.21,121.202,121.193,121.185 ,121.177,121.168,121.159,121.151, 121.142,121.129,121.121,121.107,121.098 ,121.089,121.08,121.071,121.057,121.048 ,121.039,121.029,121.02,121.01,120.516)
ORBIT_NUMBER = 10597
ORBITAL_ECCENTRICITY = 0.578
ORBITAL_INCLINATION = 86.87
ORBITAL_SEMIMAJOR_AXIS = 8798.54
PERIAPSIS_ALTITUDE = 330.65
PERIAPSIS_ARGUMENT_ANGLE = 308.92
PERIAPSIS_TIME = 2012-04-26T12:43:26.000Z
SPACECRAFT_ORIENTATION = (0.0,1.0,0.0)
^MEX_ORIENTATION_DESC = "MEX_ORIENTATION_DESC.TXT"
SPACECRAFT_POINTING_MODE = ACROSSTRACK
^MEX_POINTING_DESC = "MEX_POINTING_DESC.TXT"
RIGHT_ASCENSION = -1e+32
DECLINATION = -1e+32
OFFSET_ANGLE = 1.0
SPACECRAFT_SOLAR_DISTANCE = 2.4558e+08
TARGET_NAME = MARS
/* CAMERA DATA ELEMENTS */
DETECTOR_TEMPERATURE = 18.1666
FOCAL_PLANE_TEMPERATURE = 9.3989
INST_CMPRS_NAME = "DISCRETE COSINE TRANSFORMATION (DCT)"
INST_CMPRS_RATIO = 7.57731
INST_CMPRS_QUALITY = 0
INST_CMPRS_QUANTZ_TBL_ID = 0
INSTRUMENT_TEMPERATURE = 11.8457
LENS_TEMPERATURE = 9.3989
MACROPIXEL_SIZE = 4
MISSING_FRAMES = 0
PIXEL_SUBSAMPLING_FLAG = N
SIGNAL_CHAIN_ID = 2
/* RADIOMETRIC DATA ELEMENTS */
BANDWIDTH = 81.0
CENTER_FILTER_WAVELENGTH = 955.5
RADIANCE_OFFSET = 0.0527197
RADIANCE_SCALING_FACTOR = 0.00458282
REFLECTANCE_SCALING_FACTOR = 0.000596273
MEX:REFLECTANCE_OFFSET = 0.00685938
/* IMAGE OBJECT DEFINITIONS */
OBJECT = IMAGE
  INTERCHANGE_FORMAT = BINARY
  LINES = 17411
  LINE_SAMPLES = 2372
  SAMPLE_TYPE = UNSIGNED_INTEGER
  SAMPLE_BITS = 8
  BANDS = 1
  BAND_STORAGE_TYPE = BAND_SEQUENTIAL
  MAXIMUM = 255
  MEAN = 106.77
  MINIMUM = 1
  STANDARD_DEVIATION = 20.3916
END_OBJECT = IMAGE
/* MAP OBJECT DEFINITIONS */
OBJECT = IMAGE_MAP_PROJECTION
  ^DATA_SET_MAP_PROJECTION_CATALOG= "DSMAP.CAT"
  A_AXIS_RADIUS = 3396.0
  B_AXIS_RADIUS = 3396.0
  C_AXIS_RADIUS = 3396.0
  CENTER_LATITUDE = 0.0
  CENTER_LONGITUDE = 120.0
  COORDINATE_SYSTEM_NAME = PLANETOGRAPHIC
  COORDINATE_SYSTEM_TYPE = "BODY-FIXED ROTATING"
  EASTERNMOST_LONGITUDE = 121.426
  FIRST_STANDARD_PARALLEL = "N/A"
  LINE_FIRST_PIXEL = 1
  LINE_LAST_PIXEL = 17411
  LINE_PROJECTION_OFFSET = -22234.625
  MAP_PROJECTION_ROTATION = 0.0
  MAP_PROJECTION_TYPE = SINUSOIDAL
  MAP_RESOLUTION = 1185.42760773333
  MAP_SCALE = 0.05
  MAXIMUM_LATITUDE = -18.7162
  MINIMUM_LATITUDE = -33.4392
  POSITIVE_LONGITUDE_DIRECTION = EAST
  REFERENCE_LATITUDE = "N/A"
  REFERENCE_LONGITUDE = "N/A"
  SAMPLE_FIRST_PIXEL = 1
  SAMPLE_LAST_PIXEL = 2372
  SAMPLE_PROJECTION_OFFSET = 861.875
  SECOND_STANDARD_PARALLEL = "N/A"
  WESTERNMOST_LONGITUDE = 119.235
END_OBJECT = IMAGE_MAP_PROJECTION
/* The JPEG2000 image data file associated with this label. */
OBJECT = COMPRESSED_FILE
  FILE_NAME = "HA597_0000_IR3.JP2"
  RECORD_TYPE = UNDEFINED
  FILE_RECORDS = UNK
  ENCODING_TYPE = "JP2"
  INTERCHANGE_FORMAT = BINARY
  UNCOMPRESSED_FILE_NAME = "HA597_0000_IR3.IMG"
  REQUIRED_STORAGE_BYTES = "41317868"
  ^DESCRIPTION = "JP2INFO.TXT"
END_OBJECT = COMPRESSED_FILE
END
