PDS_VERSION_ID = PDS3
/* FILE DATA ELEMENTS */
RECORD_TYPE = STREAM
/* POINTERS TO DATA OBJECTS */
^COMPRESSED_FILE = "HA602_0001_GR3.JP2"
/* IDENTIFICATION DATA ELEMENTS */
DATA_SET_ID = "MEX-M-HRSC-5-REFDR-MAPPROJECTED-V3.0"
DATA_SET_NAME = "MARS EXPRESS HRSC MAP PROJECTED REFDR V3.0"
DETECTOR_ID = MEX_HRSC_GREEN
EVENT_TYPE = "MARS-REGIONAL-MAPPING-Im-Fl"
INSTRUMENT_HOST_ID = MEX
INSTRUMENT_HOST_NAME = "MARS EXPRESS"
INSTRUMENT_ID = HRSC
INSTRUMENT_NAME = "HIGH RESOLUTION STEREO CAMERA"
MISSION_NAME = "MARS EXPRESS"
MISSION_PHASE_NAME = ME_Phase_25
PROCESSING_LEVEL_ID = 3
PRODUCT_CREATION_TIME = 2016-10-27T21:34:36.000Z
PRODUCT_ID = "HA602_0001_GR3.JP2"
RELEASE_ID = 0109
REVISION_ID = 0000
/* QUALITY DATA ELEMENTS */
DATA_QUALITY_ID = 1
DATA_QUALITY_DESC = "Data calculated based on original SPICE kernels"
/* TIME DATA ELEMENTS */
SPACECRAFT_CLOCK_START_COUNT = "1/0283650392.08245"
SPACECRAFT_CLOCK_STOP_COUNT = "1/0283650786.13970"
START_TIME = 2012-04-27T23:47:25.818Z
STOP_TIME = 2012-04-27T23:51:53.897Z
/* ORBITAL DATA ELEMENTS */
ASCENDING_NODE_LONGITUDE = 14.95
MAXIMUM_RESOLUTION = 75.7
FOOTPRINT_POINT_LATITUDE = (-25.7454,-25.7469,-25.7466,-25.7474, -25.4552,-25.1599,-24.8621,-24.5648, -24.2625,-23.8089,-23.3482,-23.0407, -22.5723,-22.26,-21.9431,-21.468, -21.1524,-20.8374,-20.5232,-20.2099, -19.8972,-19.5854,-19.2744,-18.964, -18.6542,-18.3451,-18.037,-17.7297, -17.4232,-17.1171,-16.8117,-16.5084, -16.054,-15.7504,-15.4489,-15.1483, -14.8482,-14.549,-14.2514,-13.8058, -13.5097,-13.2147,-12.9203,-12.627, -12.3343,-11.7516,-11.1728,-10.5985, -10.5922,-10.5868,-10.5748,-10.5656, -10.5593,-10.554,-10.8412,-11.4191, -12.0029,-12.2961,-12.59,-12.8847, -13.1802,-13.4766,-13.7737,-14.0719, -14.3707,-14.6705,-14.971,-15.2724, -15.5745,-15.8774,-16.1812,-16.4858, -16.7911,-17.0972,-17.404,-17.7117, -18.0199,-18.3291,-18.64,-18.9499, -19.2615,-19.5739,-19.887,-20.201, -20.5155,-20.8306,-21.1469,-21.4633, -21.9392,-22.2566,-22.569,-22.8829, -23.1927,-23.5015,-23.9609,-24.2638, -24.5667,-24.8647,-25.163,-25.7454)
FOOTPRINT_POINT_LONGITUDE = (330.301,329.765,329.22,328.447,328.445 ,328.443,328.44,328.438,328.436,328.431 ,328.428,328.425,328.42,328.417,328.412 ,328.404,328.397,328.39,328.383,328.376 ,328.368,328.36,328.352,328.344,328.337 ,328.329,328.321,328.312,328.303, 328.296,328.288,328.276,328.261,328.256 ,328.246,328.236,328.227,328.218, 328.205,328.189,328.178,328.166,328.155 ,328.142,328.13,328.105,328.078,328.053 ,328.41,328.719,329.377,329.822,330.124 ,330.473,330.569,330.558,330.55,330.545 ,330.541,330.536,330.532,330.527, 330.523,330.518,330.513,330.509,330.504 ,330.499,330.494,330.49,330.485,330.48, 330.475,330.47,330.464,330.459,330.454, 330.448,330.443,330.438,330.432,330.426 ,330.421,330.415,330.409,330.403, 330.397,330.391,330.382,330.375,330.369 ,330.363,330.356,330.35,330.341,330.334 ,330.328,330.321,330.314,330.301)
ORBIT_NUMBER = 10602
ORBITAL_ECCENTRICITY = 0.578
ORBITAL_INCLINATION = 86.89
ORBITAL_SEMIMAJOR_AXIS = 8791.8
PERIAPSIS_ALTITUDE = 330.67
PERIAPSIS_ARGUMENT_ANGLE = 308.07
PERIAPSIS_TIME = 2012-04-27T23:40:31.000Z
SPACECRAFT_ORIENTATION = (0.0,1.0,0.0)
^MEX_ORIENTATION_DESC = "MEX_ORIENTATION_DESC.TXT"
SPACECRAFT_POINTING_MODE = ACROSSTRACK
^MEX_POINTING_DESC = "MEX_POINTING_DESC.TXT"
RIGHT_ASCENSION = -1e+32
DECLINATION = -1e+32
OFFSET_ANGLE = 0.8
SPACECRAFT_SOLAR_DISTANCE = 2.45431e+08
TARGET_NAME = MARS
/* CAMERA DATA ELEMENTS */
DETECTOR_TEMPERATURE = 18.5744
FOCAL_PLANE_TEMPERATURE = 8.7872
INST_CMPRS_NAME = "DISCRETE COSINE TRANSFORMATION (DCT)"
INST_CMPRS_RATIO = 8.97379
INST_CMPRS_QUALITY = 0
INST_CMPRS_QUANTZ_TBL_ID = 0
INSTRUMENT_TEMPERATURE = 12.0496
LENS_TEMPERATURE = 8.9911
MACROPIXEL_SIZE = 4
MISSING_FRAMES = 0
PIXEL_SUBSAMPLING_FLAG = N
SIGNAL_CHAIN_ID = 2
/* RADIOMETRIC DATA ELEMENTS */
BANDWIDTH = 88.0
CENTER_FILTER_WAVELENGTH = 538.0
RADIANCE_OFFSET = 0.368654
RADIANCE_SCALING_FACTOR = 0.00459526
REFLECTANCE_SCALING_FACTOR = 0.000238318
MEX:REFLECTANCE_OFFSET = 0.019119
/* IMAGE OBJECT DEFINITIONS */
OBJECT = IMAGE
  INTERCHANGE_FORMAT = BINARY
  LINES = 18026
  LINE_SAMPLES = 2960
  SAMPLE_TYPE = UNSIGNED_INTEGER
  SAMPLE_BITS = 8
  BANDS = 1
  BAND_STORAGE_TYPE = BAND_SEQUENTIAL
  MAXIMUM = 255
  MEAN = 123.568
  MINIMUM = 1
  STANDARD_DEVIATION = 23.0896
END_OBJECT = IMAGE
/* MAP OBJECT DEFINITIONS */
OBJECT = IMAGE_MAP_PROJECTION
  ^DATA_SET_MAP_PROJECTION_CATALOG= "DSMAP.CAT"
  A_AXIS_RADIUS = 3396.0
  B_AXIS_RADIUS = 3396.0
  C_AXIS_RADIUS = 3396.0
  CENTER_LATITUDE = 0.0
  CENTER_LONGITUDE = 329.0
  COORDINATE_SYSTEM_NAME = PLANETOGRAPHIC
  COORDINATE_SYSTEM_TYPE = "BODY-FIXED ROTATING"
  EASTERNMOST_LONGITUDE = 330.569
  FIRST_STANDARD_PARALLEL = "N/A"
  LINE_FIRST_PIXEL = 1
  LINE_LAST_PIXEL = 18026
  LINE_PROJECTION_OFFSET = -12509.375
  MAP_PROJECTION_ROTATION = 0.0
  MAP_PROJECTION_TYPE = SINUSOIDAL
  MAP_RESOLUTION = 1185.42760773333
  MAP_SCALE = 0.05
  MAXIMUM_LATITUDE = -10.554
  MINIMUM_LATITUDE = -25.7474
  POSITIVE_LONGITUDE_DIRECTION = EAST
  REFERENCE_LATITUDE = "N/A"
  REFERENCE_LONGITUDE = "N/A"
  SAMPLE_FIRST_PIXEL = 1
  SAMPLE_LAST_PIXEL = 2960
  SAMPLE_PROJECTION_OFFSET = 1148.625
  SECOND_STANDARD_PARALLEL = "N/A"
  WESTERNMOST_LONGITUDE = 328.053
END_OBJECT = IMAGE_MAP_PROJECTION
/* The JPEG2000 image data file associated with this label. */
OBJECT = COMPRESSED_FILE
  FILE_NAME = "HA602_0001_GR3.JP2"
  RECORD_TYPE = UNDEFINED
  FILE_RECORDS = UNK
  ENCODING_TYPE = "JP2"
  INTERCHANGE_FORMAT = BINARY
  UNCOMPRESSED_FILE_NAME = "HA602_0001_GR3.IMG"
  REQUIRED_STORAGE_BYTES = "53380640"
  ^DESCRIPTION = "JP2INFO.TXT"
END_OBJECT = COMPRESSED_FILE
END
