PDS_VERSION_ID = PDS3
/* FILE DATA ELEMENTS */
RECORD_TYPE = STREAM
/* POINTERS TO DATA OBJECTS */
^COMPRESSED_FILE = "HA602_0001_P23.JP2"
/* IDENTIFICATION DATA ELEMENTS */
DATA_SET_ID = "MEX-M-HRSC-5-REFDR-MAPPROJECTED-V3.0"
DATA_SET_NAME = "MARS EXPRESS HRSC MAP PROJECTED REFDR V3.0"
DETECTOR_ID = MEX_HRSC_P2
EVENT_TYPE = "MARS-REGIONAL-MAPPING-Im-Fl"
INSTRUMENT_HOST_ID = MEX
INSTRUMENT_HOST_NAME = "MARS EXPRESS"
INSTRUMENT_ID = HRSC
INSTRUMENT_NAME = "HIGH RESOLUTION STEREO CAMERA"
MISSION_NAME = "MARS EXPRESS"
MISSION_PHASE_NAME = ME_Phase_25
PROCESSING_LEVEL_ID = 3
PRODUCT_CREATION_TIME = 2016-10-27T21:34:36.000Z
PRODUCT_ID = "HA602_0001_P23.JP2"
RELEASE_ID = 0109
REVISION_ID = 0000
/* QUALITY DATA ELEMENTS */
DATA_QUALITY_ID = 1
DATA_QUALITY_DESC = "Data calculated based on original SPICE kernels"
/* TIME DATA ELEMENTS */
SPACECRAFT_CLOCK_START_COUNT = "1/0283650392.08245"
SPACECRAFT_CLOCK_STOP_COUNT = "1/0283650786.13970"
START_TIME = 2012-04-27T23:46:49.868Z
STOP_TIME = 2012-04-27T23:50:55.525Z
/* ORBITAL DATA ELEMENTS */
ASCENDING_NODE_LONGITUDE = 14.95
MAXIMUM_RESOLUTION = 74
FOOTPRINT_POINT_LATITUDE = (-25.7796,-25.7632,-25.7436,-25.7045, -25.2888,-24.8743,-24.4523,-24.1709, -23.8889,-23.6013,-23.3166,-23.0308, -22.7393,-22.4473,-22.1557,-21.7087, -21.4097,-21.1069,-20.8023,-20.3421, -20.0323,-19.7219,-19.407,-18.9352, -18.6215,-18.1525,-17.8399,-17.3715, -17.0618,-16.5946,-16.2847,-15.9728, -15.67,-15.3624,-15.0546,-14.595, -14.2884,-13.9825,-13.6774,-13.22, -12.9155,-12.6116,-12.3087,-12.0067, -11.7041,-11.4009,-11.0997,-10.8012, -10.5661,-10.5702,-10.5744,-10.5769, -10.5769,-10.8773,-11.1848,-11.4848, -11.7873,-12.09,-12.3931,-12.6974, -13.0022,-13.3076,-13.7666,-14.0726, -14.5319,-14.8402,-15.1478,-15.4566, -15.9206,-16.23,-16.5403,-16.8509, -17.1628,-17.4749,-17.7876,-18.1016, -18.5712,-18.887,-19.201,-19.5158, -19.8292,-20.1384,-20.4488,-20.7555, -21.059,-21.3646,-21.6664,-21.9671, -22.2652,-22.5605,-22.8535,-23.1444, -23.5728,-23.859,-24.1432,-24.4281, -24.7108,-25.1308,-25.6854,-25.7796)
FOOTPRINT_POINT_LONGITUDE = (329.873,329.355,328.829,328.484, 328.481,328.479,328.477,328.475,328.473 ,328.471,328.471,328.469,328.467, 328.464,328.461,328.456,328.451,328.445 ,328.44,328.43,328.424,328.417,328.41, 328.4,328.393,328.383,328.376,328.364, 328.357,328.344,328.336,328.325,328.321 ,328.313,328.304,328.29,328.281,328.271 ,328.261,328.245,328.234,328.223, 328.212,328.201,328.189,328.176,328.164 ,328.153,328.54,328.89,329.498,329.844, 330.23,330.469,330.465,330.463,330.459, 330.456,330.453,330.45,330.447,330.443, 330.438,330.435,330.43,330.426,330.422, 330.419,330.413,330.409,330.405,330.401 ,330.397,330.393,330.389,330.385, 330.378,330.374,330.369,330.365,330.36, 330.355,330.35,330.346,330.341,330.336, 330.331,330.326,330.321,330.316,330.311 ,330.306,330.298,330.293,330.287, 330.282,330.277,330.269,330.257, 329.873)
ORBIT_NUMBER = 10602
ORBITAL_ECCENTRICITY = 0.578
ORBITAL_INCLINATION = 86.89
ORBITAL_SEMIMAJOR_AXIS = 8791.8
PERIAPSIS_ALTITUDE = 330.67
PERIAPSIS_ARGUMENT_ANGLE = 308.07
PERIAPSIS_TIME = 2012-04-27T23:40:31.000Z
SPACECRAFT_ORIENTATION = (0.0,1.0,0.0)
^MEX_ORIENTATION_DESC = "MEX_ORIENTATION_DESC.TXT"
SPACECRAFT_POINTING_MODE = ACROSSTRACK
^MEX_POINTING_DESC = "MEX_POINTING_DESC.TXT"
RIGHT_ASCENSION = -1e+32
DECLINATION = -1e+32
OFFSET_ANGLE = 0.8
SPACECRAFT_SOLAR_DISTANCE = 2.45431e+08
TARGET_NAME = MARS
/* CAMERA DATA ELEMENTS */
DETECTOR_TEMPERATURE = 18.7783
FOCAL_PLANE_TEMPERATURE = 8.7872
INST_CMPRS_NAME = "DISCRETE COSINE TRANSFORMATION (DCT)"
INST_CMPRS_RATIO = 8.50343
INST_CMPRS_QUALITY = 0
INST_CMPRS_QUANTZ_TBL_ID = 0
INSTRUMENT_TEMPERATURE = 12.0496
LENS_TEMPERATURE = 8.9911
MACROPIXEL_SIZE = 4
MISSING_FRAMES = 0
PIXEL_SUBSAMPLING_FLAG = N
SIGNAL_CHAIN_ID = 3
/* RADIOMETRIC DATA ELEMENTS */
BANDWIDTH = 177.0
CENTER_FILTER_WAVELENGTH = 676.5
RADIANCE_OFFSET = 0.9055
RADIANCE_SCALING_FACTOR = 0.0119313
REFLECTANCE_SCALING_FACTOR = 0.000381067
MEX:REFLECTANCE_OFFSET = 0.0289203
/* IMAGE OBJECT DEFINITIONS */
OBJECT = IMAGE
  INTERCHANGE_FORMAT = BINARY
  LINES = 18026
  LINE_SAMPLES = 2960
  SAMPLE_TYPE = UNSIGNED_INTEGER
  SAMPLE_BITS = 8
  BANDS = 1
  BAND_STORAGE_TYPE = BAND_SEQUENTIAL
  MAXIMUM = 255
  MEAN = 116.82
  MINIMUM = 1
  STANDARD_DEVIATION = 22.8173
END_OBJECT = IMAGE
/* MAP OBJECT DEFINITIONS */
OBJECT = IMAGE_MAP_PROJECTION
  ^DATA_SET_MAP_PROJECTION_CATALOG= "DSMAP.CAT"
  A_AXIS_RADIUS = 3396.0
  B_AXIS_RADIUS = 3396.0
  C_AXIS_RADIUS = 3396.0
  CENTER_LATITUDE = 0.0
  CENTER_LONGITUDE = 329.0
  COORDINATE_SYSTEM_NAME = PLANETOGRAPHIC
  COORDINATE_SYSTEM_TYPE = "BODY-FIXED ROTATING"
  EASTERNMOST_LONGITUDE = 330.469
  FIRST_STANDARD_PARALLEL = "N/A"
  LINE_FIRST_PIXEL = 1
  LINE_LAST_PIXEL = 18026
  LINE_PROJECTION_OFFSET = -12509.375
  MAP_PROJECTION_ROTATION = 0.0
  MAP_PROJECTION_TYPE = SINUSOIDAL
  MAP_RESOLUTION = 1185.42760773333
  MAP_SCALE = 0.05
  MAXIMUM_LATITUDE = -10.5661
  MINIMUM_LATITUDE = -25.7796
  POSITIVE_LONGITUDE_DIRECTION = EAST
  REFERENCE_LATITUDE = "N/A"
  REFERENCE_LONGITUDE = "N/A"
  SAMPLE_FIRST_PIXEL = 1
  SAMPLE_LAST_PIXEL = 2960
  SAMPLE_PROJECTION_OFFSET = 1148.625
  SECOND_STANDARD_PARALLEL = "N/A"
  WESTERNMOST_LONGITUDE = 328.153
END_OBJECT = IMAGE_MAP_PROJECTION
/* The JPEG2000 image data file associated with this label. */
OBJECT = COMPRESSED_FILE
  FILE_NAME = "HA602_0001_P23.JP2"
  RECORD_TYPE = UNDEFINED
  FILE_RECORDS = UNK
  ENCODING_TYPE = "JP2"
  INTERCHANGE_FORMAT = BINARY
  UNCOMPRESSED_FILE_NAME = "HA602_0001_P23.IMG"
  REQUIRED_STORAGE_BYTES = "53380640"
  ^DESCRIPTION = "JP2INFO.TXT"
END_OBJECT = COMPRESSED_FILE
END
