PDS_VERSION_ID = PDS3
/* FILE DATA ELEMENTS */
RECORD_TYPE = STREAM
/* POINTERS TO DATA OBJECTS */
^COMPRESSED_FILE = "HA604_0000_S13.JP2"
/* IDENTIFICATION DATA ELEMENTS */
DATA_SET_ID = "MEX-M-HRSC-5-REFDR-MAPPROJECTED-V3.0"
DATA_SET_NAME = "MARS EXPRESS HRSC MAP PROJECTED REFDR V3.0"
DETECTOR_ID = MEX_HRSC_S1
EVENT_TYPE = "MARS-REGIONAL-MAPPING-Vo-Im-Fl"
INSTRUMENT_HOST_ID = MEX
INSTRUMENT_HOST_NAME = "MARS EXPRESS"
INSTRUMENT_ID = HRSC
INSTRUMENT_NAME = "HIGH RESOLUTION STEREO CAMERA"
MISSION_NAME = "MARS EXPRESS"
MISSION_PHASE_NAME = ME_Phase_25
PROCESSING_LEVEL_ID = 3
PRODUCT_CREATION_TIME = 2016-10-27T21:34:36.000Z
PRODUCT_ID = "HA604_0000_S13.JP2"
RELEASE_ID = 0109
REVISION_ID = 0000
/* QUALITY DATA ELEMENTS */
DATA_QUALITY_ID = 1
DATA_QUALITY_DESC = "Data calculated based on original SPICE kernels"
/* TIME DATA ELEMENTS */
SPACECRAFT_CLOCK_START_COUNT = "1/0283700634.09044"
SPACECRAFT_CLOCK_STOP_COUNT = "1/0283700983.00784"
START_TIME = 2012-04-28T13:45:14.576Z
STOP_TIME = 2012-04-28T13:49:44.635Z
/* ORBITAL DATA ELEMENTS */
ASCENDING_NODE_LONGITUDE = 14.91
MAXIMUM_RESOLUTION = 36.7
FOOTPRINT_POINT_LATITUDE = (-31.9896,-31.9878,-31.986,-31.9843, -31.9823,-31.8745,-31.617,-31.2303, -30.9727,-30.7095,-30.3188,-29.9201, -29.6543,-29.3895,-29.1192,-28.8471, -28.5762,-28.3004,-28.0287,-27.6155, -27.3367,-27.0588,-26.7754,-26.3518, -25.923,-25.6372,-25.3485,-25.0648, -24.7693,-24.4769,-24.1843,-23.8862, -23.589,-23.2867,-22.8331,-22.5271, -22.2164,-21.7494,-21.435,-21.1225, -20.8061,-20.4877,-20.1676,-19.8441, -19.3579,-18.8671,-18.5362,-18.2042, -17.8667,-17.5295,-17.3216,-17.3178, -17.3101,-17.3046,-17.2981,-17.2958, -17.2926,-17.637,-17.9739,-18.3089, -18.6418,-18.9757,-19.3032,-19.6392, -20.1217,-20.4427,-20.9184,-21.2362, -21.5509,-21.862,-22.3276,-22.6367, -22.9447,-23.2468,-23.55,-23.8604, -24.1537,-24.5859,-24.8794,-25.3129, -25.6029,-26.0317,-26.3193,-26.6044, -26.888,-27.3087,-27.732,-28.1395, -28.4142,-28.8226,-29.2295,-29.5004, -29.7685,-30.0407,-30.4317,-30.8243, -31.0859,-31.3441,-31.7302,-31.9896)
FOOTPRINT_POINT_LONGITUDE = (126.519,126.04,125.68,125.407,125.133, 124.879,124.879,124.879,124.877,124.877 ,124.875,124.873,124.871,124.869, 124.867,124.866,124.864,124.862,124.858 ,124.853,124.849,124.846,124.842, 124.836,124.829,124.824,124.818,124.811 ,124.806,124.799,124.793,124.786, 124.779,124.772,124.76,124.752,124.745, 124.733,124.725,124.715,124.705,124.695 ,124.685,124.675,124.657,124.639, 124.627,124.614,124.602,124.588,124.74, 124.993,125.474,125.795,126.277,126.483 ,126.828,126.944,126.937,126.931, 126.924,126.918,126.912,126.908,126.898 ,126.892,126.882,126.876,126.871, 126.865,126.856,126.851,126.846,126.84, 126.835,126.833,126.826,126.814,126.807 ,126.798,126.793,126.784,126.779, 126.774,126.769,126.761,126.754,126.745 ,126.739,126.731,126.723,126.718, 126.713,126.71,126.699,126.69,126.684, 126.678,126.67,126.519)
ORBIT_NUMBER = 10604
ORBITAL_ECCENTRICITY = 0.578
ORBITAL_INCLINATION = 86.87
ORBITAL_SEMIMAJOR_AXIS = 8796.45
PERIAPSIS_ALTITUDE = 330.6
PERIAPSIS_ARGUMENT_ANGLE = 307.73
PERIAPSIS_TIME = 2012-04-28T13:39:23.000Z
SPACECRAFT_ORIENTATION = (0.0,1.0,0.0)
^MEX_ORIENTATION_DESC = "MEX_ORIENTATION_DESC.TXT"
SPACECRAFT_POINTING_MODE = NADIR
^MEX_POINTING_DESC = "MEX_POINTING_DESC.TXT"
RIGHT_ASCENSION = -1e+32
DECLINATION = -1e+32
OFFSET_ANGLE = -1e+32
SPACECRAFT_SOLAR_DISTANCE = 2.45371e+08
TARGET_NAME = MARS
/* CAMERA DATA ELEMENTS */
DETECTOR_TEMPERATURE = 17.7588
FOCAL_PLANE_TEMPERATURE = 8.7872
INST_CMPRS_NAME = "DISCRETE COSINE TRANSFORMATION (DCT)"
INST_CMPRS_RATIO = 5.73076
INST_CMPRS_QUALITY = 0
INST_CMPRS_QUANTZ_TBL_ID = 0
INSTRUMENT_TEMPERATURE = 12.0496
LENS_TEMPERATURE = 9.195
MACROPIXEL_SIZE = 2
MISSING_FRAMES = 1
PIXEL_SUBSAMPLING_FLAG = N
SIGNAL_CHAIN_ID = 1
/* RADIOMETRIC DATA ELEMENTS */
BANDWIDTH = 180.0
CENTER_FILTER_WAVELENGTH = 677.0
RADIANCE_OFFSET = 0.398424
RADIANCE_SCALING_FACTOR = 0.0200514
REFLECTANCE_SCALING_FACTOR = 0.000629842
MEX:REFLECTANCE_OFFSET = 0.012515
/* IMAGE OBJECT DEFINITIONS */
OBJECT = IMAGE
  INTERCHANGE_FORMAT = BINARY
  LINES = 34922
  LINE_SAMPLES = 4987
  SAMPLE_TYPE = UNSIGNED_INTEGER
  SAMPLE_BITS = 8
  BANDS = 1
  BAND_STORAGE_TYPE = BAND_SEQUENTIAL
  MAXIMUM = 255
  MEAN = 119.081
  MINIMUM = 1
  STANDARD_DEVIATION = 22.8983
END_OBJECT = IMAGE
/* MAP OBJECT DEFINITIONS */
OBJECT = IMAGE_MAP_PROJECTION
  ^DATA_SET_MAP_PROJECTION_CATALOG= "DSMAP.CAT"
  A_AXIS_RADIUS = 3396.0
  B_AXIS_RADIUS = 3396.0
  C_AXIS_RADIUS = 3396.0
  CENTER_LATITUDE = 0.0
  CENTER_LONGITUDE = 126.0
  COORDINATE_SYSTEM_NAME = PLANETOGRAPHIC
  COORDINATE_SYSTEM_TYPE = "BODY-FIXED ROTATING"
  EASTERNMOST_LONGITUDE = 126.944
  FIRST_STANDARD_PARALLEL = "N/A"
  LINE_FIRST_PIXEL = 1
  LINE_LAST_PIXEL = 34922
  LINE_PROJECTION_OFFSET = -41047.25
  MAP_PROJECTION_ROTATION = 0.0
  MAP_PROJECTION_TYPE = SINUSOIDAL
  MAP_RESOLUTION = 2370.85521546667
  MAP_SCALE = 0.025
  MAXIMUM_LATITUDE = -17.2926
  MINIMUM_LATITUDE = -31.9896
  POSITIVE_LONGITUDE_DIRECTION = EAST
  REFERENCE_LATITUDE = "N/A"
  REFERENCE_LONGITUDE = "N/A"
  SAMPLE_FIRST_PIXEL = 1
  SAMPLE_LAST_PIXEL = 4987
  SAMPLE_PROJECTION_OFFSET = 3041.75
  SECOND_STANDARD_PARALLEL = "N/A"
  WESTERNMOST_LONGITUDE = 124.588
END_OBJECT = IMAGE_MAP_PROJECTION
/* The JPEG2000 image data file associated with this label. */
OBJECT = COMPRESSED_FILE
  FILE_NAME = "HA604_0000_S13.JP2"
  RECORD_TYPE = UNDEFINED
  FILE_RECORDS = UNK
  ENCODING_TYPE = "JP2"
  INTERCHANGE_FORMAT = BINARY
  UNCOMPRESSED_FILE_NAME = "HA604_0000_S13.IMG"
  REQUIRED_STORAGE_BYTES = "174180949"
  ^DESCRIPTION = "JP2INFO.TXT"
END_OBJECT = COMPRESSED_FILE
END
