PDS_VERSION_ID = PDS3
/* FILE DATA ELEMENTS */
RECORD_TYPE = STREAM
/* POINTERS TO DATA OBJECTS */
^COMPRESSED_FILE = "HA605_0000_P13.JP2"
/* IDENTIFICATION DATA ELEMENTS */
DATA_SET_ID = "MEX-M-HRSC-5-REFDR-MAPPROJECTED-V3.0"
DATA_SET_NAME = "MARS EXPRESS HRSC MAP PROJECTED REFDR V3.0"
DETECTOR_ID = MEX_HRSC_P1
EVENT_TYPE = "MARS-REGIONAL-MAPPING-Te-Im-Fl"
INSTRUMENT_HOST_ID = MEX
INSTRUMENT_HOST_NAME = "MARS EXPRESS"
INSTRUMENT_ID = HRSC
INSTRUMENT_NAME = "HIGH RESOLUTION STEREO CAMERA"
MISSION_NAME = "MARS EXPRESS"
MISSION_PHASE_NAME = ME_Phase_25
PROCESSING_LEVEL_ID = 3
PRODUCT_CREATION_TIME = 2016-10-27T21:34:36.000Z
PRODUCT_ID = "HA605_0000_P13.JP2"
RELEASE_ID = 0109
REVISION_ID = 0000
/* QUALITY DATA ELEMENTS */
DATA_QUALITY_ID = 1
DATA_QUALITY_DESC = "Data calculated based on original SPICE kernels"
/* TIME DATA ELEMENTS */
SPACECRAFT_CLOCK_START_COUNT = "1/0283725886.09056"
SPACECRAFT_CLOCK_STOP_COUNT = "1/0283726309.21177"
START_TIME = 2012-04-28T20:46:02.444Z
STOP_TIME = 2012-04-28T20:51:16.036Z
/* ORBITAL DATA ELEMENTS */
ASCENDING_NODE_LONGITUDE = 14.9
MAXIMUM_RESOLUTION = 39.9
FOOTPRINT_POINT_LATITUDE = (-26.4493,-26.4553,-26.4664,-26.1873, -25.9047,-25.4818,-25.1954,-24.9092, -24.474,-24.1834,-23.8893,-23.5973, -23.301,-23.0008,-22.7013,-22.3986, -21.9423,-21.6363,-21.3274,-21.0172, -20.7039,-20.3892,-20.0664,-19.5863, -19.2643,-18.9382,-18.4459,-17.9484, -17.4464,-16.9385,-16.4252,-15.9056, -15.5571,-15.2057,-14.851,-14.4933, -14.1336,-13.7712,-13.2256,-12.6644, -12.2901,-11.9142,-11.5333,-11.1496, -10.7631,-10.3728,-9.92006,-9.90841, -9.89337,-9.88185,-9.87434,-9.86292, -9.8631,-10.0544,-10.4426,-11.0265, -11.4153,-11.796,-12.1755,-12.5526, -12.9272,-13.2978,-13.6649,-14.0302, -14.3923,-14.7509,-15.1085,-15.4609, -15.986,-16.5081,-16.8488,-17.3594, -17.6974,-18.0319,-18.3639,-18.8581, -19.1852,-19.5073,-19.9885,-20.3145, -20.6298,-20.9466,-21.2568,-21.5677, -21.875,-22.1819,-22.4854,-22.7897, -23.0883,-23.5369,-23.8321,-24.2728, -24.5638,-24.8547,-25.1412,-25.571, -25.8531,-26.1361,-26.4164,-26.4493)
FOOTPRINT_POINT_LONGITUDE = (23.6894,22.8485,22.2831,22.28,22.2767, 22.2709,22.2666,22.2626,22.2562,22.2516 ,22.2467,22.2395,22.2337,22.2286, 22.2226,22.2157,22.2052,22.1974,22.1894 ,22.1812,22.1729,22.1644,22.1551, 22.1413,22.1314,22.1215,22.1062,22.0901 ,22.0724,22.0542,22.035,22.0152,22.0011 ,21.9864,21.9714,21.9563,21.9403, 21.9238,21.896,21.8726,21.8541,21.8342, 21.8151,21.7951,21.7745,21.7535,21.9705 ,22.3738,22.9089,23.256,23.5227,23.895, 24.1896,24.4885,24.4786,24.4672,24.4611 ,24.4531,24.446,24.4392,24.4326,24.426, 24.4192,24.4129,24.4064,24.3997,24.3936 ,24.3871,24.3775,24.3692,24.3624, 24.3536,24.348,24.3417,24.3361,24.3275, 24.3215,24.3152,24.3062,24.3008,24.295, 24.2899,24.2837,24.278,24.2722,24.2665, 24.2608,24.2555,24.2496,24.2414,24.2356 ,24.2271,24.2213,24.2157,24.2099, 24.2012,24.1953,24.1895,24.1837, 23.6894)
ORBIT_NUMBER = 10605
ORBITAL_ECCENTRICITY = 0.578
ORBITAL_INCLINATION = 86.87
ORBITAL_SEMIMAJOR_AXIS = 8794.99
PERIAPSIS_ALTITUDE = 330.87
PERIAPSIS_ARGUMENT_ANGLE = 307.56
PERIAPSIS_TIME = 2012-04-28T20:38:48.000Z
SPACECRAFT_ORIENTATION = (0.0,1.0,0.0)
^MEX_ORIENTATION_DESC = "MEX_ORIENTATION_DESC.TXT"
SPACECRAFT_POINTING_MODE = ACROSSTRACK
^MEX_POINTING_DESC = "MEX_POINTING_DESC.TXT"
RIGHT_ASCENSION = -1e+32
DECLINATION = -1e+32
OFFSET_ANGLE = 0.3
SPACECRAFT_SOLAR_DISTANCE = 2.4534e+08
TARGET_NAME = MARS
/* CAMERA DATA ELEMENTS */
DETECTOR_TEMPERATURE = 17.9627
FOCAL_PLANE_TEMPERATURE = 8.7872
INST_CMPRS_NAME = "DISCRETE COSINE TRANSFORMATION (DCT)"
INST_CMPRS_RATIO = 7.59819
INST_CMPRS_QUALITY = 0
INST_CMPRS_QUANTZ_TBL_ID = 0
INSTRUMENT_TEMPERATURE = 11.6418
LENS_TEMPERATURE = 8.5833
MACROPIXEL_SIZE = 2
MISSING_FRAMES = 1
PIXEL_SUBSAMPLING_FLAG = N
SIGNAL_CHAIN_ID = 3
/* RADIOMETRIC DATA ELEMENTS */
BANDWIDTH = 174.0
CENTER_FILTER_WAVELENGTH = 675.0
RADIANCE_OFFSET = 1.34594
RADIANCE_SCALING_FACTOR = 0.018767
REFLECTANCE_SCALING_FACTOR = 0.000607598
MEX:REFLECTANCE_OFFSET = 0.0435762
/* IMAGE OBJECT DEFINITIONS */
OBJECT = IMAGE
  INTERCHANGE_FORMAT = BINARY
  LINES = 39336
  LINE_SAMPLES = 6118
  SAMPLE_TYPE = UNSIGNED_INTEGER
  SAMPLE_BITS = 8
  BANDS = 1
  BAND_STORAGE_TYPE = BAND_SEQUENTIAL
  MAXIMUM = 255
  MEAN = 128.257
  MINIMUM = 1
  STANDARD_DEVIATION = 21.6441
END_OBJECT = IMAGE
/* MAP OBJECT DEFINITIONS */
OBJECT = IMAGE_MAP_PROJECTION
  ^DATA_SET_MAP_PROJECTION_CATALOG= "DSMAP.CAT"
  A_AXIS_RADIUS = 3396.0
  B_AXIS_RADIUS = 3396.0
  C_AXIS_RADIUS = 3396.0
  CENTER_LATITUDE = 0.0
  CENTER_LONGITUDE = 23.0
  COORDINATE_SYSTEM_NAME = PLANETOGRAPHIC
  COORDINATE_SYSTEM_TYPE = "BODY-FIXED ROTATING"
  EASTERNMOST_LONGITUDE = 24.4885
  FIRST_STANDARD_PARALLEL = "N/A"
  LINE_FIRST_PIXEL = 1
  LINE_LAST_PIXEL = 39336
  LINE_PROJECTION_OFFSET = -23405.25
  MAP_PROJECTION_ROTATION = 0.0
  MAP_PROJECTION_TYPE = SINUSOIDAL
  MAP_RESOLUTION = 2370.85521546667
  MAP_SCALE = 0.025
  MAXIMUM_LATITUDE = -9.862920000000001
  MINIMUM_LATITUDE = -26.4664
  POSITIVE_LONGITUDE_DIRECTION = EAST
  REFERENCE_LATITUDE = "N/A"
  REFERENCE_LONGITUDE = "N/A"
  SAMPLE_FIRST_PIXEL = 1
  SAMPLE_LAST_PIXEL = 6118
  SAMPLE_PROJECTION_OFFSET = 2839.25
  SECOND_STANDARD_PARALLEL = "N/A"
  WESTERNMOST_LONGITUDE = 21.7535
END_OBJECT = IMAGE_MAP_PROJECTION
/* The JPEG2000 image data file associated with this label. */
OBJECT = COMPRESSED_FILE
  FILE_NAME = "HA605_0000_P13.JP2"
  RECORD_TYPE = UNDEFINED
  FILE_RECORDS = UNK
  ENCODING_TYPE = "JP2"
  INTERCHANGE_FORMAT = BINARY
  UNCOMPRESSED_FILE_NAME = "HA605_0000_P13.IMG"
  REQUIRED_STORAGE_BYTES = "240688238"
  ^DESCRIPTION = "JP2INFO.TXT"
END_OBJECT = COMPRESSED_FILE
END
