PDS_VERSION_ID = PDS3
/* FILE DATA ELEMENTS */
RECORD_TYPE = STREAM
/* POINTERS TO DATA OBJECTS */
^COMPRESSED_FILE = "HA605_0000_P23.JP2"
/* IDENTIFICATION DATA ELEMENTS */
DATA_SET_ID = "MEX-M-HRSC-5-REFDR-MAPPROJECTED-V3.0"
DATA_SET_NAME = "MARS EXPRESS HRSC MAP PROJECTED REFDR V3.0"
DETECTOR_ID = MEX_HRSC_P2
EVENT_TYPE = "MARS-REGIONAL-MAPPING-Te-Im-Fl"
INSTRUMENT_HOST_ID = MEX
INSTRUMENT_HOST_NAME = "MARS EXPRESS"
INSTRUMENT_ID = HRSC
INSTRUMENT_NAME = "HIGH RESOLUTION STEREO CAMERA"
MISSION_NAME = "MARS EXPRESS"
MISSION_PHASE_NAME = ME_Phase_25
PROCESSING_LEVEL_ID = 3
PRODUCT_CREATION_TIME = 2016-10-27T21:34:36.000Z
PRODUCT_ID = "HA605_0000_P23.JP2"
RELEASE_ID = 0109
REVISION_ID = 0000
/* QUALITY DATA ELEMENTS */
DATA_QUALITY_ID = 1
DATA_QUALITY_DESC = "Data calculated based on original SPICE kernels"
/* TIME DATA ELEMENTS */
SPACECRAFT_CLOCK_START_COUNT = "1/0283725886.09056"
SPACECRAFT_CLOCK_STOP_COUNT = "1/0283726309.21177"
START_TIME = 2012-04-28T20:45:03.712Z
STOP_TIME = 2012-04-28T20:49:32.531Z
/* ORBITAL DATA ELEMENTS */
ASCENDING_NODE_LONGITUDE = 14.9
MAXIMUM_RESOLUTION = 36.6
FOOTPRINT_POINT_LATITUDE = (-26.4924,-26.4851,-26.4598,-25.9036, -25.3418,-25.0569,-24.7711,-24.3421, -24.0504,-23.6099,-23.1668,-22.8715, -22.5732,-22.2699,-21.9668,-21.507, -21.1976,-20.8887,-20.5739,-20.2597, -19.9422,-19.6229,-19.3018,-18.9768, -18.6531,-18.3226,-17.993,-17.6581, -17.3224,-16.9828,-16.6419,-16.2971, -15.9512,-15.5999,-15.07,-14.7143, -14.3529,-13.9905,-13.624,-13.2494, -12.8779,-12.5079,-12.1293,-11.7471, -11.361,-10.9726,-10.5802,-10.1847, -9.91636,-9.91588,-9.91352,-9.91289, -9.90947,-9.89985,-10.0956,-10.5, -10.8936,-11.2856,-11.6729,-12.0549, -12.6237,-13.1849,-13.74,-14.1069, -14.4696,-15.0068,-15.364,-15.7163, -16.2413,-16.5884,-16.9296,-17.2712, -17.6068,-17.9434,-18.2732,-18.7683, -19.0941,-19.5814,-19.9026,-20.2217, -20.5353,-21.0055,-21.3157,-21.6261, -21.9322,-22.2358,-22.5401,-22.839, -23.1367,-23.4351,-23.727,-24.02, -24.3134,-24.6003,-24.8871,-25.317, -25.5984,-25.8802,-26.4391,-26.4924)
FOOTPRINT_POINT_LONGITUDE = (23.6497,23.1129,22.3571,22.3533, 22.3483,22.3452,22.3428,22.3382,22.3346 ,22.3273,22.3208,22.3179,22.3126, 22.3073,22.3021,22.2929,22.2865,22.2803 ,22.2736,22.2668,22.2597,22.2526, 22.2448,22.2369,22.2294,22.2207,22.2122 ,22.203,22.1933,22.1837,22.1734,22.1631 ,22.1522,22.1407,22.1231,22.1112, 22.0982,22.0848,22.0715,22.0542,22.04, 22.0289,22.0135,21.9975,21.9812,21.9647 ,21.9471,21.93,22.1724,22.5885,23.0255, 23.3242,23.7363,24.0573,24.2936,24.288, 24.2846,24.2807,24.2775,24.2743,24.2693 ,24.2644,24.2591,24.2555,24.252,24.2473 ,24.2436,24.24,24.2343,24.2308,24.2274, 24.2239,24.2205,24.217,24.2137,24.2082, 24.2044,24.1984,24.1943,24.1906,24.1872 ,24.1817,24.1776,24.1734,24.1694, 24.1655,24.1614,24.1573,24.1534,24.1494 ,24.1454,24.1412,24.1369,24.1327, 24.1285,24.122,24.1175,24.113,24.104, 23.6497)
ORBIT_NUMBER = 10605
ORBITAL_ECCENTRICITY = 0.578
ORBITAL_INCLINATION = 86.87
ORBITAL_SEMIMAJOR_AXIS = 8794.99
PERIAPSIS_ALTITUDE = 330.87
PERIAPSIS_ARGUMENT_ANGLE = 307.56
PERIAPSIS_TIME = 2012-04-28T20:38:48.000Z
SPACECRAFT_ORIENTATION = (0.0,1.0,0.0)
^MEX_ORIENTATION_DESC = "MEX_ORIENTATION_DESC.TXT"
SPACECRAFT_POINTING_MODE = ACROSSTRACK
^MEX_POINTING_DESC = "MEX_POINTING_DESC.TXT"
RIGHT_ASCENSION = -1e+32
DECLINATION = -1e+32
OFFSET_ANGLE = 0.3
SPACECRAFT_SOLAR_DISTANCE = 2.4534e+08
TARGET_NAME = MARS
/* CAMERA DATA ELEMENTS */
DETECTOR_TEMPERATURE = 18.7783
FOCAL_PLANE_TEMPERATURE = 8.7872
INST_CMPRS_NAME = "DISCRETE COSINE TRANSFORMATION (DCT)"
INST_CMPRS_RATIO = 6.22878
INST_CMPRS_QUALITY = 0
INST_CMPRS_QUANTZ_TBL_ID = 0
INSTRUMENT_TEMPERATURE = 11.6418
LENS_TEMPERATURE = 8.5833
MACROPIXEL_SIZE = 2
MISSING_FRAMES = 0
PIXEL_SUBSAMPLING_FLAG = N
SIGNAL_CHAIN_ID = 3
/* RADIOMETRIC DATA ELEMENTS */
BANDWIDTH = 177.0
CENTER_FILTER_WAVELENGTH = 676.5
RADIANCE_OFFSET = 1.35712
RADIANCE_SCALING_FACTOR = 0.0178361
REFLECTANCE_SCALING_FACTOR = 0.000569238
MEX:REFLECTANCE_OFFSET = 0.0433126
/* IMAGE OBJECT DEFINITIONS */
OBJECT = IMAGE
  INTERCHANGE_FORMAT = BINARY
  LINES = 39336
  LINE_SAMPLES = 6118
  SAMPLE_TYPE = UNSIGNED_INTEGER
  SAMPLE_BITS = 8
  BANDS = 1
  BAND_STORAGE_TYPE = BAND_SEQUENTIAL
  MAXIMUM = 255
  MEAN = 120.072
  MINIMUM = 1
  STANDARD_DEVIATION = 21.5908
END_OBJECT = IMAGE
/* MAP OBJECT DEFINITIONS */
OBJECT = IMAGE_MAP_PROJECTION
  ^DATA_SET_MAP_PROJECTION_CATALOG= "DSMAP.CAT"
  A_AXIS_RADIUS = 3396.0
  B_AXIS_RADIUS = 3396.0
  C_AXIS_RADIUS = 3396.0
  CENTER_LATITUDE = 0.0
  CENTER_LONGITUDE = 23.0
  COORDINATE_SYSTEM_NAME = PLANETOGRAPHIC
  COORDINATE_SYSTEM_TYPE = "BODY-FIXED ROTATING"
  EASTERNMOST_LONGITUDE = 24.2936
  FIRST_STANDARD_PARALLEL = "N/A"
  LINE_FIRST_PIXEL = 1
  LINE_LAST_PIXEL = 39336
  LINE_PROJECTION_OFFSET = -23405.25
  MAP_PROJECTION_ROTATION = 0.0
  MAP_PROJECTION_TYPE = SINUSOIDAL
  MAP_RESOLUTION = 2370.85521546667
  MAP_SCALE = 0.025
  MAXIMUM_LATITUDE = -9.899850000000001
  MINIMUM_LATITUDE = -26.4924
  POSITIVE_LONGITUDE_DIRECTION = EAST
  REFERENCE_LATITUDE = "N/A"
  REFERENCE_LONGITUDE = "N/A"
  SAMPLE_FIRST_PIXEL = 1
  SAMPLE_LAST_PIXEL = 6118
  SAMPLE_PROJECTION_OFFSET = 2839.25
  SECOND_STANDARD_PARALLEL = "N/A"
  WESTERNMOST_LONGITUDE = 21.93
END_OBJECT = IMAGE_MAP_PROJECTION
/* The JPEG2000 image data file associated with this label. */
OBJECT = COMPRESSED_FILE
  FILE_NAME = "HA605_0000_P23.JP2"
  RECORD_TYPE = UNDEFINED
  FILE_RECORDS = UNK
  ENCODING_TYPE = "JP2"
  INTERCHANGE_FORMAT = BINARY
  UNCOMPRESSED_FILE_NAME = "HA605_0000_P23.IMG"
  REQUIRED_STORAGE_BYTES = "240688238"
  ^DESCRIPTION = "JP2INFO.TXT"
END_OBJECT = COMPRESSED_FILE
END
