PDS_VERSION_ID = PDS3
/* FILE DATA ELEMENTS */
RECORD_TYPE = STREAM
/* POINTERS TO DATA OBJECTS */
^COMPRESSED_FILE = "HA605_0000_S13.JP2"
/* IDENTIFICATION DATA ELEMENTS */
DATA_SET_ID = "MEX-M-HRSC-5-REFDR-MAPPROJECTED-V3.0"
DATA_SET_NAME = "MARS EXPRESS HRSC MAP PROJECTED REFDR V3.0"
DETECTOR_ID = MEX_HRSC_S1
EVENT_TYPE = "MARS-REGIONAL-MAPPING-Te-Im-Fl"
INSTRUMENT_HOST_ID = MEX
INSTRUMENT_HOST_NAME = "MARS EXPRESS"
INSTRUMENT_ID = HRSC
INSTRUMENT_NAME = "HIGH RESOLUTION STEREO CAMERA"
MISSION_NAME = "MARS EXPRESS"
MISSION_PHASE_NAME = ME_Phase_25
PROCESSING_LEVEL_ID = 3
PRODUCT_CREATION_TIME = 2016-10-27T21:34:36.000Z
PRODUCT_ID = "HA605_0000_S13.JP2"
RELEASE_ID = 0109
REVISION_ID = 0000
/* QUALITY DATA ELEMENTS */
DATA_QUALITY_ID = 1
DATA_QUALITY_DESC = "Data calculated based on original SPICE kernels"
/* TIME DATA ELEMENTS */
SPACECRAFT_CLOCK_START_COUNT = "1/0283725886.09056"
SPACECRAFT_CLOCK_STOP_COUNT = "1/0283726309.21177"
START_TIME = 2012-04-28T20:46:20.069Z
STOP_TIME = 2012-04-28T20:51:50.941Z
/* ORBITAL DATA ELEMENTS */
ASCENDING_NODE_LONGITUDE = 14.9
MAXIMUM_RESOLUTION = 42.4
FOOTPRINT_POINT_LATITUDE = (-26.4307,-26.4383,-26.4419,-26.3201, -26.0384,-25.6111,-25.3272,-24.8947, -24.6064,-24.3111,-24.0175,-23.725, -23.4287,-22.9766,-22.6773,-22.3727, -22.0687,-21.7617,-21.2988,-20.9876, -20.673,-20.1983,-19.7187,-19.3968, -19.0717,-18.7441,-18.4145,-18.082, -17.7488,-17.244,-16.9053,-16.5633, -16.218,-15.8705,-15.5222,-15.171, -14.8171,-14.4599,-14.1005,-13.7377, -13.1964,-12.8222,-12.4502,-12.0773, -11.6974,-11.317,-10.9335,-10.5469, -10.1568,-9.92758,-9.91203,-9.89135, -9.87318,-9.86142,-9.86091,-9.85628, -10.0467,-10.4289,-10.8181,-11.2038, -11.7768,-12.3438,-12.7181,-13.0904, -13.4584,-13.8243,-14.1875,-14.5477, -15.0835,-15.6123,-16.1351,-16.4882, -16.8241,-17.1658,-17.5049,-17.8424, -18.1744,-18.6733,-19.0012,-19.3269, -19.6475,-20.1288,-20.4505,-20.7656, -21.2367,-21.548,-22.0117,-22.4699, -22.7753,-23.0757,-23.5255,-23.9707, -24.4131,-24.849,-25.1397,-25.4257, -25.8545,-26.1366,-26.4194,-26.4307)
FOOTPRINT_POINT_LONGITUDE = (23.6863,23.0837,22.7813,22.2533, 22.2494,22.244,22.2386,22.2317,22.2261, 22.2222,22.2165,22.2096,22.2028,22.1944 ,22.1869,22.1796,22.172,22.1635,22.1505 ,22.1417,22.1325,22.1181,22.1032, 22.0928,22.0819,22.0711,22.0599,22.0482 ,22.0359,22.0166,22.0031,21.9893, 21.9753,21.9608,21.9453,21.9295,21.9133 ,21.8967,21.8794,21.8619,21.8319, 21.8147,21.7953,21.7744,21.7544,21.733, 21.7111,21.6885,21.6656,21.9081,22.3348 ,22.9296,23.41,23.7483,24.0595,24.3707, 24.5729,24.5607,24.5514,24.5422,24.5287 ,24.5156,24.5072,24.4991,24.4908, 24.4827,24.4748,24.4669,24.4554,24.4437 ,24.4324,24.4268,24.4177,24.4108, 24.4038,24.3969,24.3897,24.3799,24.373, 24.366,24.3586,24.3486,24.3426,24.3357, 24.326,24.3194,24.3096,24.3,24.2941, 24.2873,24.278,24.2685,24.259,24.2495, 24.2431,24.2368,24.227,24.2207,24.2142, 23.6863)
ORBIT_NUMBER = 10605
ORBITAL_ECCENTRICITY = 0.578
ORBITAL_INCLINATION = 86.87
ORBITAL_SEMIMAJOR_AXIS = 8794.99
PERIAPSIS_ALTITUDE = 330.87
PERIAPSIS_ARGUMENT_ANGLE = 307.56
PERIAPSIS_TIME = 2012-04-28T20:38:48.000Z
SPACECRAFT_ORIENTATION = (0.0,1.0,0.0)
^MEX_ORIENTATION_DESC = "MEX_ORIENTATION_DESC.TXT"
SPACECRAFT_POINTING_MODE = ACROSSTRACK
^MEX_POINTING_DESC = "MEX_POINTING_DESC.TXT"
RIGHT_ASCENSION = -1e+32
DECLINATION = -1e+32
OFFSET_ANGLE = 0.3
SPACECRAFT_SOLAR_DISTANCE = 2.4534e+08
TARGET_NAME = MARS
/* CAMERA DATA ELEMENTS */
DETECTOR_TEMPERATURE = 17.9627
FOCAL_PLANE_TEMPERATURE = 8.7872
INST_CMPRS_NAME = "DISCRETE COSINE TRANSFORMATION (DCT)"
INST_CMPRS_RATIO = 8.43399
INST_CMPRS_QUALITY = 0
INST_CMPRS_QUANTZ_TBL_ID = 0
INSTRUMENT_TEMPERATURE = 11.6418
LENS_TEMPERATURE = 8.5833
MACROPIXEL_SIZE = 2
MISSING_FRAMES = 0
PIXEL_SUBSAMPLING_FLAG = N
SIGNAL_CHAIN_ID = 1
/* RADIOMETRIC DATA ELEMENTS */
BANDWIDTH = 180.0
CENTER_FILTER_WAVELENGTH = 677.0
RADIANCE_OFFSET = 1.42186
RADIANCE_SCALING_FACTOR = 0.0199382
REFLECTANCE_SCALING_FACTOR = 0.000626126
MEX:REFLECTANCE_OFFSET = 0.0446513
/* IMAGE OBJECT DEFINITIONS */
OBJECT = IMAGE
  INTERCHANGE_FORMAT = BINARY
  LINES = 39336
  LINE_SAMPLES = 6118
  SAMPLE_TYPE = UNSIGNED_INTEGER
  SAMPLE_BITS = 8
  BANDS = 1
  BAND_STORAGE_TYPE = BAND_SEQUENTIAL
  MAXIMUM = 255
  MEAN = 133.371
  MINIMUM = 1
  STANDARD_DEVIATION = 22.6136
END_OBJECT = IMAGE
/* MAP OBJECT DEFINITIONS */
OBJECT = IMAGE_MAP_PROJECTION
  ^DATA_SET_MAP_PROJECTION_CATALOG= "DSMAP.CAT"
  A_AXIS_RADIUS = 3396.0
  B_AXIS_RADIUS = 3396.0
  C_AXIS_RADIUS = 3396.0
  CENTER_LATITUDE = 0.0
  CENTER_LONGITUDE = 23.0
  COORDINATE_SYSTEM_NAME = PLANETOGRAPHIC
  COORDINATE_SYSTEM_TYPE = "BODY-FIXED ROTATING"
  EASTERNMOST_LONGITUDE = 24.5729
  FIRST_STANDARD_PARALLEL = "N/A"
  LINE_FIRST_PIXEL = 1
  LINE_LAST_PIXEL = 39336
  LINE_PROJECTION_OFFSET = -23405.25
  MAP_PROJECTION_ROTATION = 0.0
  MAP_PROJECTION_TYPE = SINUSOIDAL
  MAP_RESOLUTION = 2370.85521546667
  MAP_SCALE = 0.025
  MAXIMUM_LATITUDE = -9.85628
  MINIMUM_LATITUDE = -26.4419
  POSITIVE_LONGITUDE_DIRECTION = EAST
  REFERENCE_LATITUDE = "N/A"
  REFERENCE_LONGITUDE = "N/A"
  SAMPLE_FIRST_PIXEL = 1
  SAMPLE_LAST_PIXEL = 6118
  SAMPLE_PROJECTION_OFFSET = 2839.25
  SECOND_STANDARD_PARALLEL = "N/A"
  WESTERNMOST_LONGITUDE = 21.6656
END_OBJECT = IMAGE_MAP_PROJECTION
/* The JPEG2000 image data file associated with this label. */
OBJECT = COMPRESSED_FILE
  FILE_NAME = "HA605_0000_S13.JP2"
  RECORD_TYPE = UNDEFINED
  FILE_RECORDS = UNK
  ENCODING_TYPE = "JP2"
  INTERCHANGE_FORMAT = BINARY
  UNCOMPRESSED_FILE_NAME = "HA605_0000_S13.IMG"
  REQUIRED_STORAGE_BYTES = "240688238"
  ^DESCRIPTION = "JP2INFO.TXT"
END_OBJECT = COMPRESSED_FILE
END
