PDS_VERSION_ID = PDS3
/* FILE DATA ELEMENTS */
RECORD_TYPE = STREAM
/* POINTERS TO DATA OBJECTS */
^COMPRESSED_FILE = "HA605_0000_S23.JP2"
/* IDENTIFICATION DATA ELEMENTS */
DATA_SET_ID = "MEX-M-HRSC-5-REFDR-MAPPROJECTED-V3.0"
DATA_SET_NAME = "MARS EXPRESS HRSC MAP PROJECTED REFDR V3.0"
DETECTOR_ID = MEX_HRSC_S2
EVENT_TYPE = "MARS-REGIONAL-MAPPING-Te-Im-Fl"
INSTRUMENT_HOST_ID = MEX
INSTRUMENT_HOST_NAME = "MARS EXPRESS"
INSTRUMENT_ID = HRSC
INSTRUMENT_NAME = "HIGH RESOLUTION STEREO CAMERA"
MISSION_NAME = "MARS EXPRESS"
MISSION_PHASE_NAME = ME_Phase_25
PROCESSING_LEVEL_ID = 3
PRODUCT_CREATION_TIME = 2016-10-27T21:34:36.000Z
PRODUCT_ID = "HA605_0000_S23.JP2"
RELEASE_ID = 0109
REVISION_ID = 0000
/* QUALITY DATA ELEMENTS */
DATA_QUALITY_ID = 1
DATA_QUALITY_DESC = "Data calculated based on original SPICE kernels"
/* TIME DATA ELEMENTS */
SPACECRAFT_CLOCK_START_COUNT = "1/0283725886.09056"
SPACECRAFT_CLOCK_STOP_COUNT = "1/0283726309.21177"
START_TIME = 2012-04-28T20:44:49.834Z
STOP_TIME = 2012-04-28T20:49:10.302Z
/* ORBITAL DATA ELEMENTS */
ASCENDING_NODE_LONGITUDE = 14.9
MAXIMUM_RESOLUTION = 37.2
FOOTPRINT_POINT_LATITUDE = (-26.5122,-26.5014,-26.4666,-26.1887, -25.9082,-25.6288,-25.347,-25.0603, -24.7753,-24.3463,-24.0539,-23.6118, -23.1687,-22.8736,-22.5738,-22.2711, -21.9664,-21.6604,-21.351,-21.0397, -20.7294,-20.413,-19.9385,-19.4563, -19.1343,-18.808,-18.481,-17.9835, -17.6506,-17.3119,-16.9732,-16.6304, -16.2857,-15.9375,-15.5858,-15.2321, -14.8764,-14.5162,-13.9706,-13.6041, -13.2235,-12.8508,-12.4827,-12.1027, -11.7174,-11.3301,-10.7418,-10.347, -9.94894,-9.92047,-9.92437,-9.92567, -9.9251,-9.90853,-10.3222,-10.717, -11.3084,-11.6969,-12.0804,-12.461, -12.8396,-13.2129,-13.5856,-13.9541, -14.5017,-15.0391,-15.5743,-15.9264, -16.2775,-16.6235,-16.9672,-17.3063, -17.6452,-17.9789,-18.478,-18.8059, -19.1343,-19.4586,-19.9445,-20.2611, -20.5762,-21.0454,-21.3579,-21.8212, -22.126,-22.5822,-22.8814,-23.1799, -23.4764,-23.7694,-24.0629,-24.3564, -24.7868,-25.0737,-25.3607,-25.6422, -25.9232,-26.2049,-26.4837,-26.5122)
FOOTPRINT_POINT_LONGITUDE = (23.628,23.0993,22.3716,22.37,22.3682, 22.3666,22.3637,22.3607,22.3587,22.3545 ,22.3511,22.3444,22.3383,22.3356, 22.3306,22.3256,22.3206,22.3147,22.3088 ,22.3027,22.2967,22.2903,22.2803, 22.2697,22.2623,22.2549,22.2472,22.2347 ,22.2262,22.2167,22.2076,22.1977, 22.1877,22.1772,22.166,22.1548,22.1435, 22.1314,22.1124,22.0998,22.0824,22.0687 ,22.0582,22.0434,22.0276,22.0121, 21.9873,21.9706,21.954,22.2453,22.7176, 23.3883,23.7448,24.2664,24.261,24.2584, 24.2536,24.2508,24.2481,24.2452,24.2424 ,24.2395,24.2364,24.2334,24.2286, 24.2246,24.2197,24.2164,24.213,24.2098, 24.2067,24.2036,24.2005,24.1973,24.1924 ,24.1892,24.1858,24.1821,24.1765, 24.1731,24.17,24.1647,24.1608,24.1551, 24.1514,24.1458,24.142,24.1383,24.1346, 24.1307,24.1267,24.1227,24.1167,24.1126 ,24.1084,24.1041,24.0999,24.0955, 24.0912,23.628)
ORBIT_NUMBER = 10605
ORBITAL_ECCENTRICITY = 0.578
ORBITAL_INCLINATION = 86.87
ORBITAL_SEMIMAJOR_AXIS = 8794.99
PERIAPSIS_ALTITUDE = 330.87
PERIAPSIS_ARGUMENT_ANGLE = 307.56
PERIAPSIS_TIME = 2012-04-28T20:38:48.000Z
SPACECRAFT_ORIENTATION = (0.0,1.0,0.0)
^MEX_ORIENTATION_DESC = "MEX_ORIENTATION_DESC.TXT"
SPACECRAFT_POINTING_MODE = ACROSSTRACK
^MEX_POINTING_DESC = "MEX_POINTING_DESC.TXT"
RIGHT_ASCENSION = -1e+32
DECLINATION = -1e+32
OFFSET_ANGLE = 0.3
SPACECRAFT_SOLAR_DISTANCE = 2.4534e+08
TARGET_NAME = MARS
/* CAMERA DATA ELEMENTS */
DETECTOR_TEMPERATURE = 18.7783
FOCAL_PLANE_TEMPERATURE = 8.7872
INST_CMPRS_NAME = "DISCRETE COSINE TRANSFORMATION (DCT)"
INST_CMPRS_RATIO = 8.58888
INST_CMPRS_QUALITY = 0
INST_CMPRS_QUANTZ_TBL_ID = 0
INSTRUMENT_TEMPERATURE = 11.6418
LENS_TEMPERATURE = 8.5833
MACROPIXEL_SIZE = 2
MISSING_FRAMES = 0
PIXEL_SUBSAMPLING_FLAG = N
SIGNAL_CHAIN_ID = 1
/* RADIOMETRIC DATA ELEMENTS */
BANDWIDTH = 178.0
CENTER_FILTER_WAVELENGTH = 679.0
RADIANCE_OFFSET = 1.28745
RADIANCE_SCALING_FACTOR = 0.0191507
REFLECTANCE_SCALING_FACTOR = 0.000610448
MEX:REFLECTANCE_OFFSET = 0.0410388
/* IMAGE OBJECT DEFINITIONS */
OBJECT = IMAGE
  INTERCHANGE_FORMAT = BINARY
  LINES = 39336
  LINE_SAMPLES = 6118
  SAMPLE_TYPE = UNSIGNED_INTEGER
  SAMPLE_BITS = 8
  BANDS = 1
  BAND_STORAGE_TYPE = BAND_SEQUENTIAL
  MAXIMUM = 255
  MEAN = 126.858
  MINIMUM = 1
  STANDARD_DEVIATION = 21.6873
END_OBJECT = IMAGE
/* MAP OBJECT DEFINITIONS */
OBJECT = IMAGE_MAP_PROJECTION
  ^DATA_SET_MAP_PROJECTION_CATALOG= "DSMAP.CAT"
  A_AXIS_RADIUS = 3396.0
  B_AXIS_RADIUS = 3396.0
  C_AXIS_RADIUS = 3396.0
  CENTER_LATITUDE = 0.0
  CENTER_LONGITUDE = 23.0
  COORDINATE_SYSTEM_NAME = PLANETOGRAPHIC
  COORDINATE_SYSTEM_TYPE = "BODY-FIXED ROTATING"
  EASTERNMOST_LONGITUDE = 24.2664
  FIRST_STANDARD_PARALLEL = "N/A"
  LINE_FIRST_PIXEL = 1
  LINE_LAST_PIXEL = 39336
  LINE_PROJECTION_OFFSET = -23405.25
  MAP_PROJECTION_ROTATION = 0.0
  MAP_PROJECTION_TYPE = SINUSOIDAL
  MAP_RESOLUTION = 2370.85521546667
  MAP_SCALE = 0.025
  MAXIMUM_LATITUDE = -9.908530000000001
  MINIMUM_LATITUDE = -26.5122
  POSITIVE_LONGITUDE_DIRECTION = EAST
  REFERENCE_LATITUDE = "N/A"
  REFERENCE_LONGITUDE = "N/A"
  SAMPLE_FIRST_PIXEL = 1
  SAMPLE_LAST_PIXEL = 6118
  SAMPLE_PROJECTION_OFFSET = 2839.25
  SECOND_STANDARD_PARALLEL = "N/A"
  WESTERNMOST_LONGITUDE = 21.954
END_OBJECT = IMAGE_MAP_PROJECTION
/* The JPEG2000 image data file associated with this label. */
OBJECT = COMPRESSED_FILE
  FILE_NAME = "HA605_0000_S23.JP2"
  RECORD_TYPE = UNDEFINED
  FILE_RECORDS = UNK
  ENCODING_TYPE = "JP2"
  INTERCHANGE_FORMAT = BINARY
  UNCOMPRESSED_FILE_NAME = "HA605_0000_S23.IMG"
  REQUIRED_STORAGE_BYTES = "240688238"
  ^DESCRIPTION = "JP2INFO.TXT"
END_OBJECT = COMPRESSED_FILE
END
