PDS_VERSION_ID = PDS3
/* FILE DATA ELEMENTS */
RECORD_TYPE = STREAM
/* POINTERS TO DATA OBJECTS */
^COMPRESSED_FILE = "HA608_0000_S23.JP2"
/* IDENTIFICATION DATA ELEMENTS */
DATA_SET_ID = "MEX-M-HRSC-5-REFDR-MAPPROJECTED-V3.0"
DATA_SET_NAME = "MARS EXPRESS HRSC MAP PROJECTED REFDR V3.0"
DETECTOR_ID = MEX_HRSC_S2
EVENT_TYPE = "MARS-REGIONAL-MAPPING-Im-Fl-La"
INSTRUMENT_HOST_ID = MEX
INSTRUMENT_HOST_NAME = "MARS EXPRESS"
INSTRUMENT_ID = HRSC
INSTRUMENT_NAME = "HIGH RESOLUTION STEREO CAMERA"
MISSION_NAME = "MARS EXPRESS"
MISSION_PHASE_NAME = ME_Phase_25
PROCESSING_LEVEL_ID = 3
PRODUCT_CREATION_TIME = 2016-10-27T21:34:36.000Z
PRODUCT_ID = "HA608_0000_S23.JP2"
RELEASE_ID = 0109
REVISION_ID = 0000
/* QUALITY DATA ELEMENTS */
DATA_QUALITY_ID = 1
DATA_QUALITY_DESC = "Data calculated based on original SPICE kernels"
/* TIME DATA ELEMENTS */
SPACECRAFT_CLOCK_START_COUNT = "1/0283801402.09052"
SPACECRAFT_CLOCK_STOP_COUNT = "1/0283801692.32014"
START_TIME = 2012-04-29T17:43:25.840Z
STOP_TIME = 2012-04-29T17:46:03.650Z
/* ORBITAL DATA ELEMENTS */
ASCENDING_NODE_LONGITUDE = 14.83
MAXIMUM_RESOLUTION = 38.2
FOOTPRINT_POINT_LATITUDE = (-25.865,-25.8664,-25.8666,-25.8648, -25.8625,-25.8593,-25.5559,-25.0982, -24.8211,-24.6374,-24.454,-24.2643, -24.0765,-23.8896,-23.7011,-23.4147, -23.2228,-22.935,-22.6475,-22.4586, -22.2637,-22.0679,-21.8737,-21.6752, -21.4754,-21.1787,-20.9813,-20.7769, -20.4706,-20.1654,-19.8508,-19.6441, -19.3348,-19.1273,-18.9158,-18.7056, -18.3849,-18.1701,-17.8483,-17.6304, -17.4112,-17.1937,-16.9738,-16.7523, -16.5315,-16.3083,-16.0835,-15.717, -15.7197,-15.7202,-15.717,-15.7133, -15.7098,-15.7063,-15.8166,-16.0436, -16.2678,-16.6023,-16.8244,-17.1567, -17.375,-17.5931,-17.9198,-18.135, -18.3486,-18.5644,-18.8804,-19.1972, -19.4086,-19.617,-19.8236,-20.0299, -20.2352,-20.4385,-20.6423,-20.8461, -21.0483,-21.2476,-21.4437,-21.7402, -21.9386,-22.1414,-22.336,-22.5306, -22.7268,-22.9201,-23.1127,-23.304, -23.4963,-23.6872,-23.8765,-24.0638, -24.2516,-24.5333,-24.7172,-24.9942, -25.1783,-25.363,-25.5465,-25.865)
FOOTPRINT_POINT_LONGITUDE = (77.6561,77.3536,77.0846,76.6144, 76.3456,76.0763,75.9903,75.9852,75.9812 ,75.9787,75.9769,75.9737,75.9709, 75.9683,75.965,75.9601,75.9568,75.9517, 75.9467,75.9452,75.9417,75.9377,75.9342 ,75.9301,75.9258,75.9201,75.9162, 75.9113,75.9038,75.8963,75.8874,75.8823 ,75.8748,75.8703,75.8645,75.8589, 75.8498,75.8436,75.8342,75.8279,75.821, 75.8145,75.8079,75.8011,75.7943,75.7871 ,75.7799,75.8467,76.1485,76.3689,76.869 ,77.1895,77.4697,77.67,77.8367,77.8347, 77.8336,77.8314,77.8298,77.8274,77.8258 ,77.8243,77.8217,77.8199,77.8186, 77.8167,77.8145,77.8119,77.8099,77.8078 ,77.8063,77.8049,77.8033,77.8016, 77.7998,77.798,77.7962,77.7945,77.7939, 77.7922,77.79,77.786,77.7846,77.7832, 77.7811,77.7788,77.7767,77.7751,77.7732 ,77.7711,77.7688,77.7672,77.7654, 77.7627,77.761,77.7578,77.7559,77.7538, 77.7519,77.6561)
ORBIT_NUMBER = 10608
ORBITAL_ECCENTRICITY = 0.578
ORBITAL_INCLINATION = 86.89
ORBITAL_SEMIMAJOR_AXIS = 8794.31
PERIAPSIS_ALTITUDE = 329.7
PERIAPSIS_ARGUMENT_ANGLE = 307.04
PERIAPSIS_TIME = 2012-04-29T17:37:06.000Z
SPACECRAFT_ORIENTATION = (0.0,1.0,0.0)
^MEX_ORIENTATION_DESC = "MEX_ORIENTATION_DESC.TXT"
SPACECRAFT_POINTING_MODE = NADIR
^MEX_POINTING_DESC = "MEX_POINTING_DESC.TXT"
RIGHT_ASCENSION = -1e+32
DECLINATION = -1e+32
OFFSET_ANGLE = -1e+32
SPACECRAFT_SOLAR_DISTANCE = 2.45249e+08
TARGET_NAME = MARS
/* CAMERA DATA ELEMENTS */
DETECTOR_TEMPERATURE = 18.3705
FOCAL_PLANE_TEMPERATURE = 8.9911
INST_CMPRS_NAME = "DISCRETE COSINE TRANSFORMATION (DCT)"
INST_CMPRS_RATIO = 7.80481
INST_CMPRS_QUALITY = 0
INST_CMPRS_QUANTZ_TBL_ID = 0
INSTRUMENT_TEMPERATURE = 11.8457
LENS_TEMPERATURE = 9.3989
MACROPIXEL_SIZE = 2
MISSING_FRAMES = 0
PIXEL_SUBSAMPLING_FLAG = N
SIGNAL_CHAIN_ID = 1
/* RADIOMETRIC DATA ELEMENTS */
BANDWIDTH = 178.0
CENTER_FILTER_WAVELENGTH = 679.0
RADIANCE_OFFSET = 0.890866
RADIANCE_SCALING_FACTOR = 0.0161428
REFLECTANCE_SCALING_FACTOR = 0.000514186
MEX:REFLECTANCE_OFFSET = 0.0283762
/* IMAGE OBJECT DEFINITIONS */
OBJECT = IMAGE
  INTERCHANGE_FORMAT = BINARY
  LINES = 12035
  LINE_SAMPLES = 2635
  SAMPLE_TYPE = UNSIGNED_INTEGER
  SAMPLE_BITS = 8
  BANDS = 1
  BAND_STORAGE_TYPE = BAND_SEQUENTIAL
  MAXIMUM = 255
  MEAN = 116.693
  MINIMUM = 1
  STANDARD_DEVIATION = 21.2176
END_OBJECT = IMAGE
/* MAP OBJECT DEFINITIONS */
OBJECT = IMAGE_MAP_PROJECTION
  ^DATA_SET_MAP_PROJECTION_CATALOG= "DSMAP.CAT"
  A_AXIS_RADIUS = 3396.0
  B_AXIS_RADIUS = 3396.0
  C_AXIS_RADIUS = 3396.0
  CENTER_LATITUDE = 0.0
  CENTER_LONGITUDE = 77.0
  COORDINATE_SYSTEM_NAME = PLANETOGRAPHIC
  COORDINATE_SYSTEM_TYPE = "BODY-FIXED ROTATING"
  EASTERNMOST_LONGITUDE = 77.83669999999999
  FIRST_STANDARD_PARALLEL = "N/A"
  LINE_FIRST_PIXEL = 1
  LINE_LAST_PIXEL = 12035
  LINE_PROJECTION_OFFSET = -18606.25
  MAP_PROJECTION_ROTATION = 0.0
  MAP_PROJECTION_TYPE = SINUSOIDAL
  MAP_RESOLUTION = 1185.42760773333
  MAP_SCALE = 0.05
  MAXIMUM_LATITUDE = -15.7063
  MINIMUM_LATITUDE = -25.8666
  POSITIVE_LONGITUDE_DIRECTION = EAST
  REFERENCE_LATITUDE = "N/A"
  REFERENCE_LONGITUDE = "N/A"
  SAMPLE_FIRST_PIXEL = 1
  SAMPLE_LAST_PIXEL = 2635
  SAMPLE_PROJECTION_OFFSET = 1544.25
  SECOND_STANDARD_PARALLEL = "N/A"
  WESTERNMOST_LONGITUDE = 75.7799
END_OBJECT = IMAGE_MAP_PROJECTION
/* The JPEG2000 image data file associated with this label. */
OBJECT = COMPRESSED_FILE
  FILE_NAME = "HA608_0000_S23.JP2"
  RECORD_TYPE = UNDEFINED
  FILE_RECORDS = UNK
  ENCODING_TYPE = "JP2"
  INTERCHANGE_FORMAT = BINARY
  UNCOMPRESSED_FILE_NAME = "HA608_0000_S23.IMG"
  REQUIRED_STORAGE_BYTES = "31733305"
  ^DESCRIPTION = "JP2INFO.TXT"
END_OBJECT = COMPRESSED_FILE
END
