PDS_VERSION_ID = PDS3
/* FILE DATA ELEMENTS */
RECORD_TYPE = STREAM
/* POINTERS TO DATA OBJECTS */
^COMPRESSED_FILE = "HA610_0000_IR3.JP2"
/* IDENTIFICATION DATA ELEMENTS */
DATA_SET_ID = "MEX-M-HRSC-5-REFDR-MAPPROJECTED-V3.0"
DATA_SET_NAME = "MARS EXPRESS HRSC MAP PROJECTED REFDR V3.0"
DETECTOR_ID = MEX_HRSC_IR
EVENT_TYPE = "MARS-REGIONAL-MAPPING-Vo"
INSTRUMENT_HOST_ID = MEX
INSTRUMENT_HOST_NAME = "MARS EXPRESS"
INSTRUMENT_ID = HRSC
INSTRUMENT_NAME = "HIGH RESOLUTION STEREO CAMERA"
MISSION_NAME = "MARS EXPRESS"
MISSION_PHASE_NAME = ME_Phase_25
PROCESSING_LEVEL_ID = 3
PRODUCT_CREATION_TIME = 2016-10-27T21:34:36.000Z
PRODUCT_ID = "HA610_0000_IR3.JP2"
RELEASE_ID = 0109
REVISION_ID = 0000
/* QUALITY DATA ELEMENTS */
DATA_QUALITY_ID = 1
DATA_QUALITY_DESC = "Data calculated based on original SPICE kernels"
/* TIME DATA ELEMENTS */
SPACECRAFT_CLOCK_START_COUNT = "1/0283851610.09050"
SPACECRAFT_CLOCK_STOP_COUNT = "1/0283851956.64917"
START_TIME = 2012-04-30T07:41:21.529Z
STOP_TIME = 2012-04-30T07:45:46.691Z
/* ORBITAL DATA ELEMENTS */
ASCENDING_NODE_LONGITUDE = 14.8
MAXIMUM_RESOLUTION = 69.5
FOOTPRINT_POINT_LATITUDE = (-33.9688,-33.9631,-33.9576,-33.7133, -33.321,-33.0595,-32.6681,-32.27, -32.0031,-31.738,-31.333,-31.0626, -30.7928,-30.5178,-30.2427,-29.968, -29.6897,-29.4098,-29.1308,-28.8483, -28.564,-28.2808,-27.9927,-27.5604, -27.1226,-26.83,-26.3862,-26.0894, -25.6381,-25.3372,-25.0318,-24.7266, -24.418,-24.1087,-23.7965,-23.4827, -23.1665,-22.849,-22.5283,-22.2067, -21.8815,-21.391,-21.0616,-20.7284, -20.394,-20.0564,-19.7164,-19.3746, -19.1183,-19.1153,-19.1123,-19.1076, -19.1036,-19.0998,-19.4452,-19.7877, -20.2972,-20.8007,-21.2994,-21.63, -21.9567,-22.4431,-22.7662,-23.0844, -23.4025,-23.7172,-24.0315,-24.3416, -24.6524,-24.9585,-25.4167,-25.7187, -26.0208,-26.3184,-26.7647,-27.2045, -27.4978,-27.7864,-28.0757,-28.5049, -28.7896,-29.0739,-29.3538,-29.634, -29.9141,-30.1894,-30.4651,-30.877, -31.1475,-31.4185,-31.6903,-31.9563, -32.2226,-32.4894,-32.7548,-33.0162, -33.2779,-33.5402,-33.9288,-33.9688)
FOOTPRINT_POINT_LONGITUDE = (232.838,232.32,231.9,231.632,231.633, 231.634,231.634,231.633,231.633,231.632 ,231.631,231.63,231.628,231.627,231.625 ,231.623,231.621,231.618,231.615, 231.612,231.609,231.606,231.602,231.596 ,231.589,231.585,231.577,231.572, 231.563,231.557,231.551,231.544,231.538 ,231.53,231.523,231.515,231.507,231.499 ,231.49,231.481,231.472,231.457,231.447 ,231.436,231.425,231.414,231.402,231.39 ,231.634,231.972,232.29,232.755,233.137 ,233.476,233.647,233.641,233.633, 233.625,233.617,233.611,233.606,233.598 ,233.593,233.587,233.582,233.577, 233.571,233.566,233.561,233.556,233.548 ,233.543,233.537,233.532,233.525, 233.517,233.512,233.506,233.501,233.493 ,233.488,233.482,233.477,233.472, 233.467,233.461,233.456,233.448,233.442 ,233.437,233.431,233.426,233.42,233.415 ,233.409,233.404,233.398,233.392, 233.384,232.838)
ORBIT_NUMBER = 10610
ORBITAL_ECCENTRICITY = 0.578
ORBITAL_INCLINATION = 86.89
ORBITAL_SEMIMAJOR_AXIS = 8791.48
PERIAPSIS_ALTITUDE = 329.67
PERIAPSIS_ARGUMENT_ANGLE = 306.69
PERIAPSIS_TIME = 2012-04-30T07:35:53.000Z
SPACECRAFT_ORIENTATION = (0.0,1.0,0.0)
^MEX_ORIENTATION_DESC = "MEX_ORIENTATION_DESC.TXT"
SPACECRAFT_POINTING_MODE = ACROSSTRACK
^MEX_POINTING_DESC = "MEX_POINTING_DESC.TXT"
RIGHT_ASCENSION = -1e+32
DECLINATION = -1e+32
OFFSET_ANGLE = -0.11
SPACECRAFT_SOLAR_DISTANCE = 2.45187e+08
TARGET_NAME = MARS
/* CAMERA DATA ELEMENTS */
DETECTOR_TEMPERATURE = 17.5549
FOCAL_PLANE_TEMPERATURE = 7.156
INST_CMPRS_NAME = "DISCRETE COSINE TRANSFORMATION (DCT)"
INST_CMPRS_RATIO = 8.30541
INST_CMPRS_QUALITY = 0
INST_CMPRS_QUANTZ_TBL_ID = 0
INSTRUMENT_TEMPERATURE = 11.6418
LENS_TEMPERATURE = 9.195
MACROPIXEL_SIZE = 4
MISSING_FRAMES = 0
PIXEL_SUBSAMPLING_FLAG = N
SIGNAL_CHAIN_ID = 2
/* RADIOMETRIC DATA ELEMENTS */
BANDWIDTH = 81.0
CENTER_FILTER_WAVELENGTH = 955.5
RADIANCE_OFFSET = 0.149372
RADIANCE_SCALING_FACTOR = 0.00785626
REFLECTANCE_SCALING_FACTOR = 0.00101892
MEX:REFLECTANCE_OFFSET = 0.0193729
/* IMAGE OBJECT DEFINITIONS */
OBJECT = IMAGE
  INTERCHANGE_FORMAT = BINARY
  LINES = 17634
  LINE_SAMPLES = 2426
  SAMPLE_TYPE = UNSIGNED_INTEGER
  SAMPLE_BITS = 8
  BANDS = 1
  BAND_STORAGE_TYPE = BAND_SEQUENTIAL
  MAXIMUM = 255
  MEAN = 93.4298
  MINIMUM = 1
  STANDARD_DEVIATION = 31.4693
END_OBJECT = IMAGE
/* MAP OBJECT DEFINITIONS */
OBJECT = IMAGE_MAP_PROJECTION
  ^DATA_SET_MAP_PROJECTION_CATALOG= "DSMAP.CAT"
  A_AXIS_RADIUS = 3396.0
  B_AXIS_RADIUS = 3396.0
  C_AXIS_RADIUS = 3396.0
  CENTER_LATITUDE = 0.0
  CENTER_LONGITUDE = 233.0
  COORDINATE_SYSTEM_NAME = PLANETOGRAPHIC
  COORDINATE_SYSTEM_TYPE = "BODY-FIXED ROTATING"
  EASTERNMOST_LONGITUDE = 233.647
  FIRST_STANDARD_PARALLEL = "N/A"
  LINE_FIRST_PIXEL = 1
  LINE_LAST_PIXEL = 17634
  LINE_PROJECTION_OFFSET = -22684.125
  MAP_PROJECTION_ROTATION = 0.0
  MAP_PROJECTION_TYPE = SINUSOIDAL
  MAP_RESOLUTION = 1185.42760773333
  MAP_SCALE = 0.05
  MAXIMUM_LATITUDE = -19.0998
  MINIMUM_LATITUDE = -33.9688
  POSITIVE_LONGITUDE_DIRECTION = EAST
  REFERENCE_LATITUDE = "N/A"
  REFERENCE_LONGITUDE = "N/A"
  SAMPLE_FIRST_PIXEL = 1
  SAMPLE_LAST_PIXEL = 2426
  SAMPLE_PROJECTION_OFFSET = 1753.125
  SECOND_STANDARD_PARALLEL = "N/A"
  WESTERNMOST_LONGITUDE = 231.39
END_OBJECT = IMAGE_MAP_PROJECTION
/* The JPEG2000 image data file associated with this label. */
OBJECT = COMPRESSED_FILE
  FILE_NAME = "HA610_0000_IR3.JP2"
  RECORD_TYPE = UNDEFINED
  FILE_RECORDS = UNK
  ENCODING_TYPE = "JP2"
  INTERCHANGE_FORMAT = BINARY
  UNCOMPRESSED_FILE_NAME = "HA610_0000_IR3.IMG"
  REQUIRED_STORAGE_BYTES = "42799492"
  ^DESCRIPTION = "JP2INFO.TXT"
END_OBJECT = COMPRESSED_FILE
END
