PDS_VERSION_ID = PDS3
/* FILE DATA ELEMENTS */
RECORD_TYPE = STREAM
/* POINTERS TO DATA OBJECTS */
^COMPRESSED_FILE = "HA611_0000_RE3.JP2"
/* IDENTIFICATION DATA ELEMENTS */
DATA_SET_ID = "MEX-M-HRSC-5-REFDR-MAPPROJECTED-V3.0"
DATA_SET_NAME = "MARS EXPRESS HRSC MAP PROJECTED REFDR V3.0"
DETECTOR_ID = MEX_HRSC_RED
EVENT_TYPE = "MARS-REGIONAL-STEREO-Te-Fl"
INSTRUMENT_HOST_ID = MEX
INSTRUMENT_HOST_NAME = "MARS EXPRESS"
INSTRUMENT_ID = HRSC
INSTRUMENT_NAME = "HIGH RESOLUTION STEREO CAMERA"
MISSION_NAME = "MARS EXPRESS"
MISSION_PHASE_NAME = ME_Phase_25
PROCESSING_LEVEL_ID = 3
PRODUCT_CREATION_TIME = 2016-10-27T21:34:36.000Z
PRODUCT_ID = "HA611_0000_RE3.JP2"
RELEASE_ID = 0109
REVISION_ID = 0000
/* QUALITY DATA ELEMENTS */
DATA_QUALITY_ID = 1
DATA_QUALITY_DESC = "Data calculated based on original SPICE kernels"
/* TIME DATA ELEMENTS */
SPACECRAFT_CLOCK_START_COUNT = "1/0283876913.07277"
SPACECRAFT_CLOCK_STOP_COUNT = "1/0283877114.46159"
START_TIME = 2012-04-30T14:42:03.904Z
STOP_TIME = 2012-04-30T14:43:30.560Z
/* ORBITAL DATA ELEMENTS */
ASCENDING_NODE_LONGITUDE = 14.78
MAXIMUM_RESOLUTION = 154
FOOTPRINT_POINT_LATITUDE = (-25.4488,-25.4496,-25.4504,-25.4506, -25.4506,-25.4503,-25.4498,-25.4485, -25.4467,-25.4453,-25.3845,-25.177, -25.0214,-24.8665,-24.6599,-24.4497, -24.2909,-24.0794,-23.8672,-23.7083, -23.6002,-23.4381,-23.33,-23.2204, -23.1115,-22.9494,-22.8417,-22.6763, -22.5638,-22.4026,-22.2932,-22.1831, -22.0735,-21.9631,-21.8507,-21.7387, -21.6269,-21.4591,-21.2915,-21.1798, -21.0662,-20.9524,-20.8383,-20.7243, -20.6107,-20.4404,-20.3252,-20.2096, -20.094,-19.9212,-19.9219,-19.9234, -19.9237,-19.92,-19.9196,-19.9191, -19.9177,-19.9165,-19.9156,-19.9179, -19.9162,-20.0329,-20.1491,-20.2655, -20.4395,-20.5535,-20.6678,-20.7825, -20.8977,-21.0693,-21.1837,-21.2965, -21.4079,-21.5203,-21.6889,-21.8012, -21.9144,-22.0265,-22.1358,-22.2987, -22.4083,-22.5185,-22.6286,-22.7385, -22.902,-23.0637,-23.2257,-23.3337, -23.4957,-23.6037,-23.7118,-23.9254, -24.1877,-24.3461,-24.5049,-24.7666, -24.9223,-25.0781,-25.2859,-25.4488)
FOOTPRINT_POINT_LONGITUDE = (130.951,130.819,130.603,130.454, 130.255,130.122,129.99,129.775,129.559, 129.426,129.282,129.28,129.277,129.275, 129.273,129.269,129.267,129.264,129.26, 129.257,129.255,129.252,129.25,129.248, 129.245,129.242,129.24,129.236,129.233, 129.231,129.229,129.227,129.225,129.223 ,129.22,129.218,129.215,129.212,129.208 ,129.205,129.203,129.2,129.198,129.195, 129.192,129.188,129.185,129.183,129.18, 129.176,129.392,129.556,129.683,129.846 ,129.992,130.137,130.338,130.52,130.647 ,130.865,131.01,131.113,131.112,131.11, 131.109,131.107,131.106,131.105,131.103 ,131.102,131.1,131.099,131.098,131.097, 131.095,131.094,131.092,131.091,131.09, 131.089,131.088,131.087,131.085,131.084 ,131.083,131.081,131.079,131.078, 131.076,131.075,131.074,131.071,131.068 ,131.067,131.065,131.062,131.06,131.058 ,131.055,130.951)
ORBIT_NUMBER = 10611
ORBITAL_ECCENTRICITY = 0.578
ORBITAL_INCLINATION = 86.87
ORBITAL_SEMIMAJOR_AXIS = 8794.41
PERIAPSIS_ALTITUDE = 330.59
PERIAPSIS_ARGUMENT_ANGLE = 306.54
PERIAPSIS_TIME = 2012-04-30T14:35:23.000Z
SPACECRAFT_ORIENTATION = (0.0,1.0,0.0)
^MEX_ORIENTATION_DESC = "MEX_ORIENTATION_DESC.TXT"
SPACECRAFT_POINTING_MODE = NADIR
^MEX_POINTING_DESC = "MEX_POINTING_DESC.TXT"
RIGHT_ASCENSION = -1e+32
DECLINATION = -1e+32
OFFSET_ANGLE = -1e+32
SPACECRAFT_SOLAR_DISTANCE = 2.45156e+08
TARGET_NAME = MARS
/* CAMERA DATA ELEMENTS */
DETECTOR_TEMPERATURE = 19.1861
FOCAL_PLANE_TEMPERATURE = 9.195
INST_CMPRS_NAME = "DISCRETE COSINE TRANSFORMATION (DCT)"
INST_CMPRS_RATIO = 7.30334
INST_CMPRS_QUALITY = 0
INST_CMPRS_QUANTZ_TBL_ID = 0
INSTRUMENT_TEMPERATURE = 12.0496
LENS_TEMPERATURE = 9.6028
MACROPIXEL_SIZE = 8
MISSING_FRAMES = 0
PIXEL_SUBSAMPLING_FLAG = N
SIGNAL_CHAIN_ID = 2
/* RADIOMETRIC DATA ELEMENTS */
BANDWIDTH = 48.0
CENTER_FILTER_WAVELENGTH = 748.0
RADIANCE_OFFSET = 0.159884
RADIANCE_SCALING_FACTOR = 0.00477483
REFLECTANCE_SCALING_FACTOR = 0.000654887
MEX:REFLECTANCE_OFFSET = 0.0219288
/* IMAGE OBJECT DEFINITIONS */
OBJECT = IMAGE
  INTERCHANGE_FORMAT = BINARY
  LINES = 1635
  LINE_SAMPLES = 603
  SAMPLE_TYPE = UNSIGNED_INTEGER
  SAMPLE_BITS = 8
  BANDS = 1
  BAND_STORAGE_TYPE = BAND_SEQUENTIAL
  MAXIMUM = 255
  MEAN = 104.64
  MINIMUM = 4
  STANDARD_DEVIATION = 15.3747
END_OBJECT = IMAGE
/* MAP OBJECT DEFINITIONS */
OBJECT = IMAGE_MAP_PROJECTION
  ^DATA_SET_MAP_PROJECTION_CATALOG= "DSMAP.CAT"
  A_AXIS_RADIUS = 3396.0
  B_AXIS_RADIUS = 3396.0
  C_AXIS_RADIUS = 3396.0
  CENTER_LATITUDE = 0.0
  CENTER_LONGITUDE = 130.0
  COORDINATE_SYSTEM_NAME = PLANETOGRAPHIC
  COORDINATE_SYSTEM_TYPE = "BODY-FIXED ROTATING"
  EASTERNMOST_LONGITUDE = 131.113
  FIRST_STANDARD_PARALLEL = "N/A"
  LINE_FIRST_PIXEL = 1
  LINE_LAST_PIXEL = 1635
  LINE_PROJECTION_OFFSET = -5903.8125
  MAP_PROJECTION_ROTATION = 0.0
  MAP_PROJECTION_TYPE = SINUSOIDAL
  MAP_RESOLUTION = 296.356901933333
  MAP_SCALE = 0.2
  MAXIMUM_LATITUDE = -19.9156
  MINIMUM_LATITUDE = -25.4506
  POSITIVE_LONGITUDE_DIRECTION = EAST
  REFERENCE_LATITUDE = "N/A"
  REFERENCE_LONGITUDE = "N/A"
  SAMPLE_FIRST_PIXEL = 1
  SAMPLE_LAST_PIXEL = 603
  SAMPLE_PROJECTION_OFFSET = 263.1875
  SECOND_STANDARD_PARALLEL = "N/A"
  WESTERNMOST_LONGITUDE = 129.176
END_OBJECT = IMAGE_MAP_PROJECTION
/* The JPEG2000 image data file associated with this label. */
OBJECT = COMPRESSED_FILE
  FILE_NAME = "HA611_0000_RE3.JP2"
  RECORD_TYPE = UNDEFINED
  FILE_RECORDS = UNK
  ENCODING_TYPE = "JP2"
  INTERCHANGE_FORMAT = BINARY
  UNCOMPRESSED_FILE_NAME = "HA611_0000_RE3.IMG"
  REQUIRED_STORAGE_BYTES = "1003392"
  ^DESCRIPTION = "JP2INFO.TXT"
END_OBJECT = COMPRESSED_FILE
END
