PDS_VERSION_ID = PDS3
/* FILE DATA ELEMENTS */
RECORD_TYPE = STREAM
/* POINTERS TO DATA OBJECTS */
^COMPRESSED_FILE = "HA613_0000_IR3.JP2"
/* IDENTIFICATION DATA ELEMENTS */
DATA_SET_ID = "MEX-M-HRSC-5-REFDR-MAPPROJECTED-V3.0"
DATA_SET_NAME = "MARS EXPRESS HRSC MAP PROJECTED REFDR V3.0"
DETECTOR_ID = MEX_HRSC_IR
EVENT_TYPE = "MARS-REGIONAL-MAPPING-Vo-Te-Fl"
INSTRUMENT_HOST_ID = MEX
INSTRUMENT_HOST_NAME = "MARS EXPRESS"
INSTRUMENT_ID = HRSC
INSTRUMENT_NAME = "HIGH RESOLUTION STEREO CAMERA"
MISSION_NAME = "MARS EXPRESS"
MISSION_PHASE_NAME = ME_Phase_25
PROCESSING_LEVEL_ID = 3
PRODUCT_CREATION_TIME = 2016-10-27T21:34:36.000Z
PRODUCT_ID = "HA613_0000_IR3.JP2"
RELEASE_ID = 0109
REVISION_ID = 0000
/* QUALITY DATA ELEMENTS */
DATA_QUALITY_ID = 1
DATA_QUALITY_DESC = "Data calculated based on original SPICE kernels"
/* TIME DATA ELEMENTS */
SPACECRAFT_CLOCK_START_COUNT = "1/0283927168.08260"
SPACECRAFT_CLOCK_STOP_COUNT = "1/0283927516.48018"
START_TIME = 2012-05-01T04:40:45.316Z
STOP_TIME = 2012-05-01T04:45:04.953Z
/* ORBITAL DATA ELEMENTS */
ASCENDING_NODE_LONGITUDE = 14.74
MAXIMUM_RESOLUTION = 74.9
FOOTPRINT_POINT_LATITUDE = (-31.0924,-31.0913,-31.0898,-31.0884, -31.0862,-30.8366,-30.5924,-30.2217, -29.972,-29.7255,-29.4758,-29.2233, -28.9699,-28.5882,-28.2028,-27.8149, -27.5552,-27.2948,-27.0315,-26.7663, -26.5021,-26.2331,-25.8296,-25.5564, -25.1473,-24.7327,-24.4572,-24.1765, -23.8967,-23.6136,-23.3304,-22.9006, -22.6136,-22.322,-21.8837,-21.5892, -21.292,-20.9942,-20.6928,-20.2386, -19.7803,-19.4725,-19.1618,-18.6923, -18.2181,-17.9,-17.5784,-17.2552, -16.9944,-16.9892,-16.982,-16.977, -16.9734,-16.9688,-17.1269,-17.4523, -17.7743,-18.2543,-18.7293,-19.1996, -19.6651,-19.9739,-20.2793,-20.734, -21.0349,-21.333,-21.7784,-22.0744, -22.3659,-22.6581,-22.9457,-23.2341, -23.5175,-23.9424,-24.223,-24.5032, -24.7801,-25.1951,-25.4685,-25.7424, -26.0126,-26.2816,-26.5503,-26.9488, -27.2145,-27.4764,-27.7382,-27.999, -28.2568,-28.5143,-28.7716,-29.0252, -29.2795,-29.534,-29.7829,-30.1575, -30.4071,-30.6525,-30.8978,-31.0924)
FOOTPRINT_POINT_LONGITUDE = (286.311,285.902,285.544,285.272, 284.931,284.739,284.737,284.735,284.733 ,284.73,284.728,284.725,284.723,284.719 ,284.714,284.709,284.704,284.7,284.696, 284.692,284.687,284.682,284.675,284.67, 284.662,284.654,284.647,284.641,284.634 ,284.627,284.62,284.609,284.601,284.593 ,284.581,284.572,284.563,284.554, 284.545,284.53,284.514,284.503,284.492, 284.475,284.457,284.445,284.432,284.419 ,284.589,284.974,285.45,285.79,286.039, 286.425,286.838,286.832,286.826,286.818 ,286.809,286.801,286.792,286.787, 286.781,286.773,286.768,286.762,286.754 ,286.749,286.744,286.739,286.733, 286.728,286.722,286.714,286.709,286.704 ,286.698,286.691,286.685,286.68,286.675 ,286.669,286.664,286.656,286.651, 286.646,286.64,286.635,286.63,286.624, 286.619,286.613,286.608,286.602,286.597 ,286.588,286.583,286.577,286.572, 286.311)
ORBIT_NUMBER = 10613
ORBITAL_ECCENTRICITY = 0.578
ORBITAL_INCLINATION = 86.87
ORBITAL_SEMIMAJOR_AXIS = 8791.46
PERIAPSIS_ALTITUDE = 330.41
PERIAPSIS_ARGUMENT_ANGLE = 306.21
PERIAPSIS_TIME = 2012-05-01T04:34:20.000Z
SPACECRAFT_ORIENTATION = (0.0,1.0,0.0)
^MEX_ORIENTATION_DESC = "MEX_ORIENTATION_DESC.TXT"
SPACECRAFT_POINTING_MODE = NADIR
^MEX_POINTING_DESC = "MEX_POINTING_DESC.TXT"
RIGHT_ASCENSION = -1e+32
DECLINATION = -1e+32
OFFSET_ANGLE = -1e+32
SPACECRAFT_SOLAR_DISTANCE = 2.45094e+08
TARGET_NAME = MARS
/* CAMERA DATA ELEMENTS */
DETECTOR_TEMPERATURE = 18.1666
FOCAL_PLANE_TEMPERATURE = 8.7872
INST_CMPRS_NAME = "DISCRETE COSINE TRANSFORMATION (DCT)"
INST_CMPRS_RATIO = 12.1517
INST_CMPRS_QUALITY = 0
INST_CMPRS_QUANTZ_TBL_ID = 0
INSTRUMENT_TEMPERATURE = 12.0496
LENS_TEMPERATURE = 8.5833
MACROPIXEL_SIZE = 4
MISSING_FRAMES = 0
PIXEL_SUBSAMPLING_FLAG = N
SIGNAL_CHAIN_ID = 2
/* RADIOMETRIC DATA ELEMENTS */
BANDWIDTH = 81.0
CENTER_FILTER_WAVELENGTH = 955.5
RADIANCE_OFFSET = 0.0960054
RADIANCE_SCALING_FACTOR = 0.00496284
REFLECTANCE_SCALING_FACTOR = 0.000643163
MEX:REFLECTANCE_OFFSET = 0.0124419
/* IMAGE OBJECT DEFINITIONS */
OBJECT = IMAGE
  INTERCHANGE_FORMAT = BINARY
  LINES = 16746
  LINE_SAMPLES = 2616
  SAMPLE_TYPE = UNSIGNED_INTEGER
  SAMPLE_BITS = 8
  BANDS = 1
  BAND_STORAGE_TYPE = BAND_SEQUENTIAL
  MAXIMUM = 255
  MEAN = 91.5228
  MINIMUM = 1
  STANDARD_DEVIATION = 31.7109
END_OBJECT = IMAGE
/* MAP OBJECT DEFINITIONS */
OBJECT = IMAGE_MAP_PROJECTION
  ^DATA_SET_MAP_PROJECTION_CATALOG= "DSMAP.CAT"
  A_AXIS_RADIUS = 3396.0
  B_AXIS_RADIUS = 3396.0
  C_AXIS_RADIUS = 3396.0
  CENTER_LATITUDE = 0.0
  CENTER_LONGITUDE = 286.0
  COORDINATE_SYSTEM_NAME = PLANETOGRAPHIC
  COORDINATE_SYSTEM_TYPE = "BODY-FIXED ROTATING"
  EASTERNMOST_LONGITUDE = 286.838
  FIRST_STANDARD_PARALLEL = "N/A"
  LINE_FIRST_PIXEL = 1
  LINE_LAST_PIXEL = 16746
  LINE_PROJECTION_OFFSET = -20142.375
  MAP_PROJECTION_ROTATION = 0.0
  MAP_PROJECTION_TYPE = SINUSOIDAL
  MAP_RESOLUTION = 1185.42760773333
  MAP_SCALE = 0.05
  MAXIMUM_LATITUDE = -16.9688
  MINIMUM_LATITUDE = -31.0924
  POSITIVE_LONGITUDE_DIRECTION = EAST
  REFERENCE_LATITUDE = "N/A"
  REFERENCE_LONGITUDE = "N/A"
  SAMPLE_FIRST_PIXEL = 1
  SAMPLE_LAST_PIXEL = 2616
  SAMPLE_PROJECTION_OFFSET = 1741.625
  SECOND_STANDARD_PARALLEL = "N/A"
  WESTERNMOST_LONGITUDE = 284.419
END_OBJECT = IMAGE_MAP_PROJECTION
/* The JPEG2000 image data file associated with this label. */
OBJECT = COMPRESSED_FILE
  FILE_NAME = "HA613_0000_IR3.JP2"
  RECORD_TYPE = UNDEFINED
  FILE_RECORDS = UNK
  ENCODING_TYPE = "JP2"
  INTERCHANGE_FORMAT = BINARY
  UNCOMPRESSED_FILE_NAME = "HA613_0000_IR3.IMG"
  REQUIRED_STORAGE_BYTES = "43828464"
  ^DESCRIPTION = "JP2INFO.TXT"
END_OBJECT = COMPRESSED_FILE
END
