PDS_VERSION_ID = PDS3
/* FILE DATA ELEMENTS */
RECORD_TYPE = STREAM
/* POINTERS TO DATA OBJECTS */
^COMPRESSED_FILE = "HA616_0000_IR3.JP2"
/* IDENTIFICATION DATA ELEMENTS */
DATA_SET_ID = "MEX-M-HRSC-5-REFDR-MAPPROJECTED-V3.0"
DATA_SET_NAME = "MARS EXPRESS HRSC MAP PROJECTED REFDR V3.0"
DETECTOR_ID = MEX_HRSC_IR
EVENT_TYPE = "MARS-REGIONAL-MAPPING-Fl-La"
INSTRUMENT_HOST_ID = MEX
INSTRUMENT_HOST_NAME = "MARS EXPRESS"
INSTRUMENT_ID = HRSC
INSTRUMENT_NAME = "HIGH RESOLUTION STEREO CAMERA"
MISSION_NAME = "MARS EXPRESS"
MISSION_PHASE_NAME = ME_Phase_25
PROCESSING_LEVEL_ID = 3
PRODUCT_CREATION_TIME = 2016-10-27T21:34:36.000Z
PRODUCT_ID = "HA616_0000_IR3.JP2"
RELEASE_ID = 0109
REVISION_ID = 0000
/* QUALITY DATA ELEMENTS */
DATA_QUALITY_ID = 1
DATA_QUALITY_DESC = "Data calculated based on original SPICE kernels"
/* TIME DATA ELEMENTS */
SPACECRAFT_CLOCK_START_COUNT = "1/0284002726.09043"
SPACECRAFT_CLOCK_STOP_COUNT = "1/0284003096.04743"
START_TIME = 2012-05-02T01:40:12.838Z
STOP_TIME = 2012-05-02T01:44:41.600Z
/* ORBITAL DATA ELEMENTS */
ASCENDING_NODE_LONGITUDE = 14.69
MAXIMUM_RESOLUTION = 84.5
FOOTPRINT_POINT_LATITUDE = (-27.3496,-27.3507,-27.3511,-27.3512, -27.3509,-27.1326,-26.6484,-26.2827, -26.0355,-25.7876,-25.5389,-25.2875, -25.0377,-24.6574,-24.4043,-24.1477, -23.8915,-23.6332,-23.3732,-23.1131, -22.8495,-22.4526,-22.1854,-21.9222, -21.6543,-21.3843,-21.1104,-20.7002, -20.4243,-20.1452,-19.7243,-19.4421, -19.1574,-18.7284,-18.2953,-18.0042, -17.71,-17.4145,-17.121,-16.8208, -16.5209,-16.0679,-15.7646,-15.3027, -14.8372,-14.5263,-14.0506,-13.7348, -13.4672,-13.4578,-13.4531,-13.449, -13.4381,-13.4318,-13.4304,-13.5838, -13.8996,-14.219,-14.5373,-14.8509, -15.1626,-15.4731,-15.7819,-16.0868, -16.5416,-16.9932,-17.2904,-17.5864, -17.881,-18.1697,-18.4719,-18.764, -19.0504,-19.4791,-19.891,-20.1734, -20.4524,-20.7294,-21.0056,-21.2789, -21.5526,-21.9589,-22.3593,-22.6259, -22.8895,-23.154,-23.4149,-23.8054, -24.0629,-24.3211,-24.5752,-24.8276, -25.2072,-25.4574,-25.8306,-26.0785, -26.3283,-26.8148,-27.2977,-27.3496)
FOOTPRINT_POINT_LONGITUDE = (339.71,339.251,338.883,338.59,338.222, 338.001,337.993,337.987,337.982,337.977 ,337.973,337.968,337.962,337.954, 337.948,337.942,337.935,337.929,337.922 ,337.915,337.908,337.897,337.889,337.88 ,337.87,337.862,337.854,337.839,337.83, 337.821,337.806,337.796,337.786,337.769 ,337.753,337.741,337.729,337.718, 337.704,337.692,337.678,337.657,337.643 ,337.621,337.599,337.582,337.559, 337.542,337.935,338.266,338.521,338.877 ,339.182,339.538,339.819,340.258,340.25 ,340.244,340.238,340.232,340.226,340.22 ,340.215,340.208,340.2,340.191,340.186, 340.18,340.174,340.168,340.167,340.163, 340.157,340.15,340.137,340.133,340.128, 340.123,340.118,340.113,340.108,340.101 ,340.093,340.088,340.083,340.078, 340.074,340.066,340.061,340.056,340.052 ,340.046,340.039,340.034,340.027, 340.022,340.018,340.007,339.998,339.71)
ORBIT_NUMBER = 10616
ORBITAL_ECCENTRICITY = 0.577
ORBITAL_INCLINATION = 86.89
ORBITAL_SEMIMAJOR_AXIS = 8788.58
PERIAPSIS_ALTITUDE = 330.3
PERIAPSIS_ARGUMENT_ANGLE = 305.68
PERIAPSIS_TIME = 2012-05-02T01:32:33.000Z
SPACECRAFT_ORIENTATION = (0.0,1.0,0.0)
^MEX_ORIENTATION_DESC = "MEX_ORIENTATION_DESC.TXT"
SPACECRAFT_POINTING_MODE = NADIR
^MEX_POINTING_DESC = "MEX_POINTING_DESC.TXT"
RIGHT_ASCENSION = -1e+32
DECLINATION = -1e+32
OFFSET_ANGLE = -1e+32
SPACECRAFT_SOLAR_DISTANCE = 2.45e+08
TARGET_NAME = MARS
/* CAMERA DATA ELEMENTS */
DETECTOR_TEMPERATURE = 17.351
FOCAL_PLANE_TEMPERATURE = 8.5833
INST_CMPRS_NAME = "DISCRETE COSINE TRANSFORMATION (DCT)"
INST_CMPRS_RATIO = 9.59369
INST_CMPRS_QUALITY = 0
INST_CMPRS_QUANTZ_TBL_ID = 0
INSTRUMENT_TEMPERATURE = 11.4379
LENS_TEMPERATURE = 8.5833
MACROPIXEL_SIZE = 4
MISSING_FRAMES = 0
PIXEL_SUBSAMPLING_FLAG = N
SIGNAL_CHAIN_ID = 2
/* RADIOMETRIC DATA ELEMENTS */
BANDWIDTH = 81.0
CENTER_FILTER_WAVELENGTH = 955.5
RADIANCE_OFFSET = 0.142022
RADIANCE_SCALING_FACTOR = 0.00352733
REFLECTANCE_SCALING_FACTOR = 0.000456778
MEX:REFLECTANCE_OFFSET = 0.0183913
/* IMAGE OBJECT DEFINITIONS */
OBJECT = IMAGE
  INTERCHANGE_FORMAT = BINARY
  LINES = 8269
  LINE_SAMPLES = 1462
  SAMPLE_TYPE = UNSIGNED_INTEGER
  SAMPLE_BITS = 8
  BANDS = 1
  BAND_STORAGE_TYPE = BAND_SEQUENTIAL
  MAXIMUM = 255
  MEAN = 110.859
  MINIMUM = 1
  STANDARD_DEVIATION = 20.7721
END_OBJECT = IMAGE
/* MAP OBJECT DEFINITIONS */
OBJECT = IMAGE_MAP_PROJECTION
  ^DATA_SET_MAP_PROJECTION_CATALOG= "DSMAP.CAT"
  A_AXIS_RADIUS = 3396.0
  B_AXIS_RADIUS = 3396.0
  C_AXIS_RADIUS = 3396.0
  CENTER_LATITUDE = 0.0
  CENTER_LONGITUDE = 339.0
  COORDINATE_SYSTEM_NAME = PLANETOGRAPHIC
  COORDINATE_SYSTEM_TYPE = "BODY-FIXED ROTATING"
  EASTERNMOST_LONGITUDE = 340.258
  FIRST_STANDARD_PARALLEL = "N/A"
  LINE_FIRST_PIXEL = 1
  LINE_LAST_PIXEL = 8269
  LINE_PROJECTION_OFFSET = -7953.375
  MAP_PROJECTION_ROTATION = 0.0
  MAP_PROJECTION_TYPE = SINUSOIDAL
  MAP_RESOLUTION = 592.713803866667
  MAP_SCALE = 0.1
  MAXIMUM_LATITUDE = -13.4304
  MINIMUM_LATITUDE = -27.3512
  POSITIVE_LONGITUDE_DIRECTION = EAST
  REFERENCE_LATITUDE = "N/A"
  REFERENCE_LONGITUDE = "N/A"
  SAMPLE_FIRST_PIXEL = 1
  SAMPLE_LAST_PIXEL = 1462
  SAMPLE_PROJECTION_OFFSET = 798.125
  SECOND_STANDARD_PARALLEL = "N/A"
  WESTERNMOST_LONGITUDE = 337.542
END_OBJECT = IMAGE_MAP_PROJECTION
/* The JPEG2000 image data file associated with this label. */
OBJECT = COMPRESSED_FILE
  FILE_NAME = "HA616_0000_IR3.JP2"
  RECORD_TYPE = UNDEFINED
  FILE_RECORDS = UNK
  ENCODING_TYPE = "JP2"
  INTERCHANGE_FORMAT = BINARY
  UNCOMPRESSED_FILE_NAME = "HA616_0000_IR3.IMG"
  REQUIRED_STORAGE_BYTES = "12108284"
  ^DESCRIPTION = "JP2INFO.TXT"
END_OBJECT = COMPRESSED_FILE
END
