PDS_VERSION_ID = PDS3
/* FILE DATA ELEMENTS */
RECORD_TYPE = STREAM
/* POINTERS TO DATA OBJECTS */
^COMPRESSED_FILE = "HA617_0000_GR3.JP2"
/* IDENTIFICATION DATA ELEMENTS */
DATA_SET_ID = "MEX-M-HRSC-5-REFDR-MAPPROJECTED-V3.0"
DATA_SET_NAME = "MARS EXPRESS HRSC MAP PROJECTED REFDR V3.0"
DETECTOR_ID = MEX_HRSC_GREEN
EVENT_TYPE = "MARS-REGIONAL-MAPPING-Vo-Im"
INSTRUMENT_HOST_ID = MEX
INSTRUMENT_HOST_NAME = "MARS EXPRESS"
INSTRUMENT_ID = HRSC
INSTRUMENT_NAME = "HIGH RESOLUTION STEREO CAMERA"
MISSION_NAME = "MARS EXPRESS"
MISSION_PHASE_NAME = ME_Phase_25
PROCESSING_LEVEL_ID = 3
PRODUCT_CREATION_TIME = 2016-10-27T21:34:36.000Z
PRODUCT_ID = "HA617_0000_GR3.JP2"
RELEASE_ID = 0109
REVISION_ID = 0000
/* QUALITY DATA ELEMENTS */
DATA_QUALITY_ID = 1
DATA_QUALITY_DESC = "Data calculated based on original SPICE kernels"
/* TIME DATA ELEMENTS */
SPACECRAFT_CLOCK_START_COUNT = "1/0284027715.08430"
SPACECRAFT_CLOCK_STOP_COUNT = "1/0284027990.08004"
START_TIME = 2012-05-02T08:35:57.621Z
STOP_TIME = 2012-05-02T08:39:09.778Z
/* ORBITAL DATA ELEMENTS */
ASCENDING_NODE_LONGITUDE = 14.67
MAXIMUM_RESOLUTION = 59.6
FOOTPRINT_POINT_LATITUDE = (-39.125,-39.1205,-39.1112,-38.9886, -38.7604,-38.5332,-38.3053,-37.9635, -37.7357,-37.5087,-37.2816,-37.0548, -36.715,-36.3758,-36.1503,-35.8123, -35.5872,-35.3622,-34.913,-34.4648, -34.2376,-34.0081,-33.7788,-33.5499, -33.3211,-33.0892,-32.8551,-32.6212, -32.3876,-32.1543,-31.9156,-31.677, -31.4386,-31.2006,-30.959,-30.7158, -30.4729,-30.2303,-29.9841,-29.7363, -29.4889,-29.2418,-28.9892,-28.7371, -28.4854,-28.1023,-27.8458,-27.5897, -27.2505,-27.2524,-27.2542,-27.2545, -27.2543,-27.3855,-27.6452,-27.902, -28.1592,-28.4161,-28.6683,-28.9209, -29.2995,-29.5471,-29.9194,-30.1677, -30.4108,-30.6542,-30.898,-31.1418, -31.3803,-31.6191,-31.8582,-32.2159, -32.4498,-32.6839,-32.9183,-33.2698, -33.499,-33.7284,-33.9581,-34.188, -34.4173,-34.8663,-35.0911,-35.3161, -35.5413,-35.767,-35.9929,-36.3323, -36.5585,-36.7852,-37.0122,-37.2391, -37.4661,-37.6939,-37.9217,-38.1498, -38.4925,-38.7211,-38.9497,-39.125)
FOOTPRINT_POINT_LONGITUDE = (236.579,236.287,235.794,235.277, 235.284,235.287,235.294,235.306,235.314 ,235.32,235.326,235.333,235.342,235.35, 235.353,235.359,235.363,235.367,235.375 ,235.382,235.385,235.388,235.391, 235.394,235.396,235.398,235.401,235.403 ,235.404,235.406,235.407,235.409,235.41 ,235.411,235.411,235.412,235.412, 235.412,235.412,235.412,235.412,235.411 ,235.411,235.41,235.409,235.407,235.405 ,235.403,235.541,235.859,236.333, 236.683,236.961,237.276,237.271,237.265 ,237.26,237.254,237.249,237.243,237.235 ,237.229,237.22,237.215,237.209,237.203 ,237.197,237.191,237.185,237.179, 237.173,237.164,237.158,237.152,237.145 ,237.136,237.13,237.123,237.117,237.11, 237.104,237.09,237.084,237.077,237.07, 237.063,237.056,237.045,237.038,237.031 ,237.023,237.016,237.008,237.0,236.992, 236.985,236.973,236.965,236.956, 236.579)
ORBIT_NUMBER = 10617
ORBITAL_ECCENTRICITY = 0.578
ORBITAL_INCLINATION = 86.88
ORBITAL_SEMIMAJOR_AXIS = 8789.88
PERIAPSIS_ALTITUDE = 329.52
PERIAPSIS_ARGUMENT_ANGLE = 305.5
PERIAPSIS_TIME = 2012-05-02T08:31:58.000Z
SPACECRAFT_ORIENTATION = (0.0,1.0,0.0)
^MEX_ORIENTATION_DESC = "MEX_ORIENTATION_DESC.TXT"
SPACECRAFT_POINTING_MODE = ACROSSTRACK
^MEX_POINTING_DESC = "MEX_POINTING_DESC.TXT"
RIGHT_ASCENSION = -1e+32
DECLINATION = -1e+32
OFFSET_ANGLE = 0.37
SPACECRAFT_SOLAR_DISTANCE = 2.44968e+08
TARGET_NAME = MARS
/* CAMERA DATA ELEMENTS */
DETECTOR_TEMPERATURE = 18.9822
FOCAL_PLANE_TEMPERATURE = 9.195
INST_CMPRS_NAME = "DISCRETE COSINE TRANSFORMATION (DCT)"
INST_CMPRS_RATIO = 6.74366
INST_CMPRS_QUALITY = 0
INST_CMPRS_QUANTZ_TBL_ID = 0
INSTRUMENT_TEMPERATURE = 12.0496
LENS_TEMPERATURE = 9.8067
MACROPIXEL_SIZE = 4
MISSING_FRAMES = 0
PIXEL_SUBSAMPLING_FLAG = N
SIGNAL_CHAIN_ID = 2
/* RADIOMETRIC DATA ELEMENTS */
BANDWIDTH = 88.0
CENTER_FILTER_WAVELENGTH = 538.0
RADIANCE_OFFSET = 0.214698
RADIANCE_SCALING_FACTOR = 0.00565792
REFLECTANCE_SCALING_FACTOR = 0.000292324
MEX:REFLECTANCE_OFFSET = 0.0110926
/* IMAGE OBJECT DEFINITIONS */
OBJECT = IMAGE
  INTERCHANGE_FORMAT = BINARY
  LINES = 14088
  LINE_SAMPLES = 2083
  SAMPLE_TYPE = UNSIGNED_INTEGER
  SAMPLE_BITS = 8
  BANDS = 1
  BAND_STORAGE_TYPE = BAND_SEQUENTIAL
  MAXIMUM = 255
  MEAN = 109.053
  MINIMUM = 1
  STANDARD_DEVIATION = 27.9411
END_OBJECT = IMAGE
/* MAP OBJECT DEFINITIONS */
OBJECT = IMAGE_MAP_PROJECTION
  ^DATA_SET_MAP_PROJECTION_CATALOG= "DSMAP.CAT"
  A_AXIS_RADIUS = 3396.0
  B_AXIS_RADIUS = 3396.0
  C_AXIS_RADIUS = 3396.0
  CENTER_LATITUDE = 0.0
  CENTER_LONGITUDE = 236.0
  COORDINATE_SYSTEM_NAME = PLANETOGRAPHIC
  COORDINATE_SYSTEM_TYPE = "BODY-FIXED ROTATING"
  EASTERNMOST_LONGITUDE = 237.276
  FIRST_STANDARD_PARALLEL = "N/A"
  LINE_FIRST_PIXEL = 1
  LINE_LAST_PIXEL = 14088
  LINE_PROJECTION_OFFSET = -32310.875
  MAP_PROJECTION_ROTATION = 0.0
  MAP_PROJECTION_TYPE = SINUSOIDAL
  MAP_RESOLUTION = 1185.42760773333
  MAP_SCALE = 0.05
  MAXIMUM_LATITUDE = -27.2505
  MINIMUM_LATITUDE = -39.125
  POSITIVE_LONGITUDE_DIRECTION = EAST
  REFERENCE_LATITUDE = "N/A"
  REFERENCE_LONGITUDE = "N/A"
  SAMPLE_FIRST_PIXEL = 1
  SAMPLE_LAST_PIXEL = 2083
  SAMPLE_PROJECTION_OFFSET = 725.875
  SECOND_STANDARD_PARALLEL = "N/A"
  WESTERNMOST_LONGITUDE = 235.277
END_OBJECT = IMAGE_MAP_PROJECTION
/* The JPEG2000 image data file associated with this label. */
OBJECT = COMPRESSED_FILE
  FILE_NAME = "HA617_0000_GR3.JP2"
  RECORD_TYPE = UNDEFINED
  FILE_RECORDS = UNK
  ENCODING_TYPE = "JP2"
  INTERCHANGE_FORMAT = BINARY
  UNCOMPRESSED_FILE_NAME = "HA617_0000_GR3.IMG"
  REQUIRED_STORAGE_BYTES = "29366134"
  ^DESCRIPTION = "JP2INFO.TXT"
END_OBJECT = COMPRESSED_FILE
END
