PDS_VERSION_ID = PDS3
/* FILE DATA ELEMENTS */
RECORD_TYPE = STREAM
/* POINTERS TO DATA OBJECTS */
^COMPRESSED_FILE = "HA621_0000_ND3.JP2"
/* IDENTIFICATION DATA ELEMENTS */
DATA_SET_ID = "MEX-M-HRSC-5-REFDR-MAPPROJECTED-V3.0"
DATA_SET_NAME = "MARS EXPRESS HRSC MAP PROJECTED REFDR V3.0"
DETECTOR_ID = MEX_HRSC_NADIR
EVENT_TYPE = "MARS-REGIONAL-MAPPING-Im-Fl-Lc"
INSTRUMENT_HOST_ID = MEX
INSTRUMENT_HOST_NAME = "MARS EXPRESS"
INSTRUMENT_ID = HRSC
INSTRUMENT_NAME = "HIGH RESOLUTION STEREO CAMERA"
MISSION_NAME = "MARS EXPRESS"
MISSION_PHASE_NAME = ME_Phase_25
PROCESSING_LEVEL_ID = 3
PRODUCT_CREATION_TIME = 2016-10-27T21:34:36.000Z
PRODUCT_ID = "HA621_0000_ND3.JP2"
RELEASE_ID = 0109
REVISION_ID = 0000
/* QUALITY DATA ELEMENTS */
DATA_QUALITY_ID = 1
DATA_QUALITY_DESC = "Data calculated based on original SPICE kernels"
/* TIME DATA ELEMENTS */
SPACECRAFT_CLOCK_START_COUNT = "1/0284128593.07290"
SPACECRAFT_CLOCK_STOP_COUNT = "1/0284128950.15956"
START_TIME = 2012-05-03T12:37:21.777Z
STOP_TIME = 2012-05-03T12:41:04.817Z
/* ORBITAL DATA ELEMENTS */
ASCENDING_NODE_LONGITUDE = 14.59
MAXIMUM_RESOLUTION = 19.9
FOOTPRINT_POINT_LATITUDE = (-26.2134,-26.2151,-26.2155,-26.2152, -26.2138,-26.2116,-25.8774,-25.4286, -25.088,-24.8598,-24.6321,-24.4009, -24.1691,-23.9377,-23.7033,-23.4679, -23.233,-22.995,-22.7561,-22.5177, -22.2753,-21.9121,-21.5443,-21.2988, -20.9261,-20.677,-20.299,-20.0467, -19.6633,-19.4076,-19.1484,-18.8892, -18.4962,-18.2338,-17.9675,-17.7018, -17.4324,-17.1634,-16.8909,-16.4804, -16.2048,-15.9272,-15.6485,-15.3669, -14.9424,-14.6574,-14.3696,-13.9351, -13.6437,-13.4719,-13.4639,-13.4571, -13.4487,-13.4415,-13.4359,-13.7305, -14.023,-14.3131,-14.6023,-14.8883, -15.3148,-15.5976,-15.8774,-16.1562, -16.4329,-16.7084,-16.9818,-17.3886, -17.659,-17.9258,-18.3249,-18.5883, -18.8511,-19.1111,-19.3713,-19.6279, -20.0128,-20.266,-20.6453,-20.8951, -21.2692,-21.5154,-21.8846,-22.1272, -22.3703,-22.7312,-22.9707,-23.2097, -23.4453,-23.6812,-23.9166,-24.1486, -24.381,-24.6131,-24.8413,-25.07, -25.4118,-25.6366,-25.8618,-26.2134)
FOOTPRINT_POINT_LONGITUDE = (188.554,188.117,187.832,187.472, 187.073,186.809,186.807,186.799,186.792 ,186.788,186.784,186.779,186.774, 186.769,186.764,186.759,186.754,186.748 ,186.742,186.736,186.73,186.72,186.71, 186.703,186.693,186.686,186.674,186.667 ,186.655,186.648,186.639,186.63,186.616 ,186.607,186.598,186.587,186.578, 186.567,186.557,186.54,186.53,186.518, 186.506,186.494,186.477,186.465,186.452 ,186.433,186.418,186.807,187.374, 187.793,188.262,188.631,188.916,188.913 ,188.91,188.906,188.903,188.9,188.894, 188.891,188.887,188.884,188.88,188.877, 188.873,188.869,188.867,188.863,188.857 ,188.854,188.85,188.848,188.845,188.841 ,188.836,188.832,188.828,188.825,188.82 ,188.817,188.812,188.809,188.807,188.8, 188.796,188.793,188.79,188.787,188.783, 188.78,188.776,188.773,188.771,188.767, 188.763,188.759,188.753,188.554)
ORBIT_NUMBER = 10621
ORBITAL_ECCENTRICITY = 0.577
ORBITAL_INCLINATION = 86.88
ORBITAL_SEMIMAJOR_AXIS = 8787.72
PERIAPSIS_ALTITUDE = 330.41
PERIAPSIS_ARGUMENT_ANGLE = 304.85
PERIAPSIS_TIME = 2012-05-03T12:29:50.000Z
SPACECRAFT_ORIENTATION = (0.0,1.0,0.0)
^MEX_ORIENTATION_DESC = "MEX_ORIENTATION_DESC.TXT"
SPACECRAFT_POINTING_MODE = NADIR
^MEX_POINTING_DESC = "MEX_POINTING_DESC.TXT"
RIGHT_ASCENSION = -1e+32
DECLINATION = -1e+32
OFFSET_ANGLE = -1e+32
SPACECRAFT_SOLAR_DISTANCE = 2.44841e+08
TARGET_NAME = MARS
/* CAMERA DATA ELEMENTS */
DETECTOR_TEMPERATURE = 18.1666
FOCAL_PLANE_TEMPERATURE = 8.5833
INST_CMPRS_NAME = "DISCRETE COSINE TRANSFORMATION (DCT)"
INST_CMPRS_RATIO = 5.54308
INST_CMPRS_QUALITY = 0
INST_CMPRS_QUANTZ_TBL_ID = 0
INSTRUMENT_TEMPERATURE = 11.8457
LENS_TEMPERATURE = 8.9911
MACROPIXEL_SIZE = 1
MISSING_FRAMES = 0
PIXEL_SUBSAMPLING_FLAG = N
SIGNAL_CHAIN_ID = 0
/* RADIOMETRIC DATA ELEMENTS */
BANDWIDTH = 177.0
CENTER_FILTER_WAVELENGTH = 677.5
RADIANCE_OFFSET = 0.723585
RADIANCE_SCALING_FACTOR = 0.0293774
REFLECTANCE_SCALING_FACTOR = 0.00093554
MEX:REFLECTANCE_OFFSET = 0.023043
/* IMAGE OBJECT DEFINITIONS */
OBJECT = IMAGE
  INTERCHANGE_FORMAT = BINARY
  LINES = 30300
  LINE_SAMPLES = 5971
  SAMPLE_TYPE = UNSIGNED_INTEGER
  SAMPLE_BITS = 8
  BANDS = 1
  BAND_STORAGE_TYPE = BAND_SEQUENTIAL
  MAXIMUM = 255
  MEAN = 113.218
  MINIMUM = 1
  STANDARD_DEVIATION = 29.1711
END_OBJECT = IMAGE
/* MAP OBJECT DEFINITIONS */
OBJECT = IMAGE_MAP_PROJECTION
  ^DATA_SET_MAP_PROJECTION_CATALOG= "DSMAP.CAT"
  A_AXIS_RADIUS = 3396.0
  B_AXIS_RADIUS = 3396.0
  C_AXIS_RADIUS = 3396.0
  CENTER_LATITUDE = 0.0
  CENTER_LONGITUDE = 188.0
  COORDINATE_SYSTEM_NAME = PLANETOGRAPHIC
  COORDINATE_SYSTEM_TYPE = "BODY-FIXED ROTATING"
  EASTERNMOST_LONGITUDE = 188.916
  FIRST_STANDARD_PARALLEL = "N/A"
  LINE_FIRST_PIXEL = 1
  LINE_LAST_PIXEL = 30300
  LINE_PROJECTION_OFFSET = -31855.0
  MAP_PROJECTION_ROTATION = 0.0
  MAP_PROJECTION_TYPE = SINUSOIDAL
  MAP_RESOLUTION = 2370.85521546667
  MAP_SCALE = 0.025
  MAXIMUM_LATITUDE = -13.4359
  MINIMUM_LATITUDE = -26.2155
  POSITIVE_LONGITUDE_DIRECTION = EAST
  REFERENCE_LATITUDE = "N/A"
  REFERENCE_LONGITUDE = "N/A"
  SAMPLE_FIRST_PIXEL = 1
  SAMPLE_LAST_PIXEL = 5971
  SAMPLE_PROJECTION_OFFSET = 3759.0
  SECOND_STANDARD_PARALLEL = "N/A"
  WESTERNMOST_LONGITUDE = 186.418
END_OBJECT = IMAGE_MAP_PROJECTION
/* The JPEG2000 image data file associated with this label. */
OBJECT = COMPRESSED_FILE
  FILE_NAME = "HA621_0000_ND3.JP2"
  RECORD_TYPE = UNDEFINED
  FILE_RECORDS = UNK
  ENCODING_TYPE = "JP2"
  INTERCHANGE_FORMAT = BINARY
  UNCOMPRESSED_FILE_NAME = "HA621_0000_ND3.IMG"
  REQUIRED_STORAGE_BYTES = "180951155"
  ^DESCRIPTION = "JP2INFO.TXT"
END_OBJECT = COMPRESSED_FILE
END
