PDS_VERSION_ID = PDS3
/* FILE DATA ELEMENTS */
RECORD_TYPE = STREAM
/* POINTERS TO DATA OBJECTS */
^COMPRESSED_FILE = "HA621_0000_S23.JP2"
/* IDENTIFICATION DATA ELEMENTS */
DATA_SET_ID = "MEX-M-HRSC-5-REFDR-MAPPROJECTED-V3.0"
DATA_SET_NAME = "MARS EXPRESS HRSC MAP PROJECTED REFDR V3.0"
DETECTOR_ID = MEX_HRSC_S2
EVENT_TYPE = "MARS-REGIONAL-MAPPING-Im-Fl-Lc"
INSTRUMENT_HOST_ID = MEX
INSTRUMENT_HOST_NAME = "MARS EXPRESS"
INSTRUMENT_ID = HRSC
INSTRUMENT_NAME = "HIGH RESOLUTION STEREO CAMERA"
MISSION_NAME = "MARS EXPRESS"
MISSION_PHASE_NAME = ME_Phase_25
PROCESSING_LEVEL_ID = 3
PRODUCT_CREATION_TIME = 2016-10-27T21:34:36.000Z
PRODUCT_ID = "HA621_0000_S23.JP2"
RELEASE_ID = 0109
REVISION_ID = 0000
/* QUALITY DATA ELEMENTS */
DATA_QUALITY_ID = 1
DATA_QUALITY_DESC = "Data calculated based on original SPICE kernels"
/* TIME DATA ELEMENTS */
SPACECRAFT_CLOCK_START_COUNT = "1/0284128593.07290"
SPACECRAFT_CLOCK_STOP_COUNT = "1/0284128950.15956"
START_TIME = 2012-05-03T12:36:36.787Z
STOP_TIME = 2012-05-03T12:39:57.951Z
/* ORBITAL DATA ELEMENTS */
ASCENDING_NODE_LONGITUDE = 14.59
MAXIMUM_RESOLUTION = 39.7
FOOTPRINT_POINT_LATITUDE = (-26.2312,-26.2327,-26.233,-26.231, -26.2285,-26.2249,-25.8775,-25.6503, -25.4239,-25.1977,-24.9719,-24.7432, -24.3975,-24.1669,-23.8175,-23.5821, -23.3478,-23.1141,-22.8728,-22.6333, -22.3941,-22.1508,-21.9067,-21.6634, -21.293,-21.0451,-20.7977,-20.5452, -20.2898,-20.0407,-19.6585,-19.4032, -19.1442,-18.8826,-18.6208,-18.2233, -17.8241,-17.5555,-17.2837,-16.8734, -16.5995,-16.3219,-15.9051,-15.6227, -15.1998,-14.9168,-14.4852,-14.1956, -13.7549,-13.4565,-13.4551,-13.4522, -13.4479,-13.4399,-13.4338,-13.7233, -14.0153,-14.4535,-14.7428,-15.0294, -15.316,-15.5992,-15.8828,-16.1616, -16.4417,-16.718,-16.9919,-17.265, -17.5347,-17.9395,-18.2053,-18.4711, -18.8663,-19.1237,-19.3812,-19.6453, -20.0315,-20.2839,-20.5358,-20.7886, -21.162,-21.4099,-21.6567,-21.9009, -22.2637,-22.5056,-22.7511,-22.9901, -23.2286,-23.4635,-23.6992,-23.9326, -24.1674,-24.3988,-24.6301,-24.9704, -25.4228,-25.6508,-25.8817,-26.2312)
FOOTPRINT_POINT_LONGITUDE = (188.606,188.289,188.008,187.516, 187.235,186.953,186.868,186.864,186.861 ,186.857,186.854,186.85,186.845,186.841 ,186.834,186.83,186.825,186.821,186.816 ,186.811,186.806,186.8,186.795,186.789, 186.78,186.774,186.768,186.762,186.754, 186.749,186.739,186.732,186.725,186.717 ,186.709,186.697,186.684,186.676, 186.666,186.652,186.643,186.633,186.618 ,186.608,186.593,186.583,186.566, 186.555,186.537,186.724,187.035,187.434 ,187.7,188.1,188.632,188.816,188.815, 188.811,188.809,188.807,188.805,188.803 ,188.8,188.798,188.796,188.793,188.791, 188.789,188.787,188.784,188.782,188.78, 188.776,188.775,188.773,188.769,188.765 ,188.763,188.761,188.759,188.755, 188.753,188.751,188.748,188.746,188.743 ,188.739,188.737,188.734,188.732, 188.729,188.727,188.724,188.721,188.718 ,188.715,188.71,188.707,188.702, 188.606)
ORBIT_NUMBER = 10621
ORBITAL_ECCENTRICITY = 0.577
ORBITAL_INCLINATION = 86.88
ORBITAL_SEMIMAJOR_AXIS = 8787.72
PERIAPSIS_ALTITUDE = 330.41
PERIAPSIS_ARGUMENT_ANGLE = 304.85
PERIAPSIS_TIME = 2012-05-03T12:29:50.000Z
SPACECRAFT_ORIENTATION = (0.0,1.0,0.0)
^MEX_ORIENTATION_DESC = "MEX_ORIENTATION_DESC.TXT"
SPACECRAFT_POINTING_MODE = NADIR
^MEX_POINTING_DESC = "MEX_POINTING_DESC.TXT"
RIGHT_ASCENSION = -1e+32
DECLINATION = -1e+32
OFFSET_ANGLE = -1e+32
SPACECRAFT_SOLAR_DISTANCE = 2.44841e+08
TARGET_NAME = MARS
/* CAMERA DATA ELEMENTS */
DETECTOR_TEMPERATURE = 19.1861
FOCAL_PLANE_TEMPERATURE = 8.5833
INST_CMPRS_NAME = "DISCRETE COSINE TRANSFORMATION (DCT)"
INST_CMPRS_RATIO = 7.09862
INST_CMPRS_QUALITY = 0
INST_CMPRS_QUANTZ_TBL_ID = 0
INSTRUMENT_TEMPERATURE = 11.8457
LENS_TEMPERATURE = 8.9911
MACROPIXEL_SIZE = 2
MISSING_FRAMES = 0
PIXEL_SUBSAMPLING_FLAG = N
SIGNAL_CHAIN_ID = 1
/* RADIOMETRIC DATA ELEMENTS */
BANDWIDTH = 178.0
CENTER_FILTER_WAVELENGTH = 679.0
RADIANCE_OFFSET = 0.919237
RADIANCE_SCALING_FACTOR = 0.0301497
REFLECTANCE_SCALING_FACTOR = 0.000957146
MEX:REFLECTANCE_OFFSET = 0.0291826
/* IMAGE OBJECT DEFINITIONS */
OBJECT = IMAGE
  INTERCHANGE_FORMAT = BINARY
  LINES = 15150
  LINE_SAMPLES = 2986
  SAMPLE_TYPE = UNSIGNED_INTEGER
  SAMPLE_BITS = 8
  BANDS = 1
  BAND_STORAGE_TYPE = BAND_SEQUENTIAL
  MAXIMUM = 255
  MEAN = 112.449
  MINIMUM = 1
  STANDARD_DEVIATION = 28.3365
END_OBJECT = IMAGE
/* MAP OBJECT DEFINITIONS */
OBJECT = IMAGE_MAP_PROJECTION
  ^DATA_SET_MAP_PROJECTION_CATALOG= "DSMAP.CAT"
  A_AXIS_RADIUS = 3396.0
  B_AXIS_RADIUS = 3396.0
  C_AXIS_RADIUS = 3396.0
  CENTER_LATITUDE = 0.0
  CENTER_LONGITUDE = 188.0
  COORDINATE_SYSTEM_NAME = PLANETOGRAPHIC
  COORDINATE_SYSTEM_TYPE = "BODY-FIXED ROTATING"
  EASTERNMOST_LONGITUDE = 188.816
  FIRST_STANDARD_PARALLEL = "N/A"
  LINE_FIRST_PIXEL = 1
  LINE_LAST_PIXEL = 15150
  LINE_PROJECTION_OFFSET = -15927.75
  MAP_PROJECTION_ROTATION = 0.0
  MAP_PROJECTION_TYPE = SINUSOIDAL
  MAP_RESOLUTION = 1185.42760773333
  MAP_SCALE = 0.05
  MAXIMUM_LATITUDE = -13.4338
  MINIMUM_LATITUDE = -26.233
  POSITIVE_LONGITUDE_DIRECTION = EAST
  REFERENCE_LATITUDE = "N/A"
  REFERENCE_LONGITUDE = "N/A"
  SAMPLE_FIRST_PIXEL = 1
  SAMPLE_LAST_PIXEL = 2986
  SAMPLE_PROJECTION_OFFSET = 1879.25
  SECOND_STANDARD_PARALLEL = "N/A"
  WESTERNMOST_LONGITUDE = 186.537
END_OBJECT = IMAGE_MAP_PROJECTION
/* The JPEG2000 image data file associated with this label. */
OBJECT = COMPRESSED_FILE
  FILE_NAME = "HA621_0000_S23.JP2"
  RECORD_TYPE = UNDEFINED
  FILE_RECORDS = UNK
  ENCODING_TYPE = "JP2"
  INTERCHANGE_FORMAT = BINARY
  UNCOMPRESSED_FILE_NAME = "HA621_0000_S23.IMG"
  REQUIRED_STORAGE_BYTES = "45261788"
  ^DESCRIPTION = "JP2INFO.TXT"
END_OBJECT = COMPRESSED_FILE
END
