PDS_VERSION_ID = PDS3
/* FILE DATA ELEMENTS */
RECORD_TYPE = STREAM
/* POINTERS TO DATA OBJECTS */
^COMPRESSED_FILE = "HA625_0001_IR3.JP2"
/* IDENTIFICATION DATA ELEMENTS */
DATA_SET_ID = "MEX-M-HRSC-5-REFDR-MAPPROJECTED-V3.0"
DATA_SET_NAME = "MARS EXPRESS HRSC MAP PROJECTED REFDR V3.0"
DETECTOR_ID = MEX_HRSC_IR
EVENT_TYPE = "MARS-REGIONAL-MAPPING-Im-Fl"
INSTRUMENT_HOST_ID = MEX
INSTRUMENT_HOST_NAME = "MARS EXPRESS"
INSTRUMENT_ID = HRSC
INSTRUMENT_NAME = "HIGH RESOLUTION STEREO CAMERA"
MISSION_NAME = "MARS EXPRESS"
MISSION_PHASE_NAME = ME_Phase_25
PROCESSING_LEVEL_ID = 3
PRODUCT_CREATION_TIME = 2016-10-27T21:34:36.000Z
PRODUCT_ID = "HA625_0001_IR3.JP2"
RELEASE_ID = 0109
REVISION_ID = 0000
/* QUALITY DATA ELEMENTS */
DATA_QUALITY_ID = 1
DATA_QUALITY_DESC = "Data calculated based on original SPICE kernels"
/* TIME DATA ELEMENTS */
SPACECRAFT_CLOCK_START_COUNT = "1/0284229230.09059"
SPACECRAFT_CLOCK_STOP_COUNT = "1/0284229479.49327"
START_TIME = 2012-05-04T16:35:17.068Z
STOP_TIME = 2012-05-04T16:37:48.546Z
/* ORBITAL DATA ELEMENTS */
ASCENDING_NODE_LONGITUDE = 14.52
MAXIMUM_RESOLUTION = 84
FOOTPRINT_POINT_LATITUDE = (-28.8661,-28.8679,-28.8696,-28.8711, -28.8723,-28.8732,-28.8865,-28.5903, -28.2898,-27.9903,-27.6082,-27.3795, -27.0717,-26.9165,-26.7606,-26.6053, -26.4485,-26.2912,-26.1349,-25.9783, -25.8197,-25.6609,-25.5024,-25.344, -25.1834,-25.0223,-24.8616,-24.7015, -24.5384,-24.3757,-24.132,-23.8853, -23.7207,-23.5555,-23.3879,-23.1367, -22.9706,-22.8061,-22.64,-22.3862, -22.2156,-22.0431,-21.8653,-21.6958, -21.4358,-21.2634,-21.0902,-20.9163, -20.7533,-20.751,-20.7488,-20.7458, -20.7427,-20.7393,-20.7367,-20.734, -20.7311,-20.728,-20.7247,-20.8121, -20.9881,-21.1623,-21.336,-21.5116, -21.6863,-21.8592,-22.1162,-22.2821, -22.4534,-22.7086,-22.9608,-23.1288, -23.2959,-23.463,-23.7119,-23.8771, -24.1241,-24.2871,-24.4493,-24.6134, -24.8591,-25.0196,-25.2602,-25.4207, -25.5805,-25.74,-25.9789,-26.2147, -26.3723,-26.5304,-26.6854,-26.9178, -27.0745,-27.3804,-27.6101,-27.9147, -28.1406,-28.4431,-28.7401,-28.8661)
FOOTPRINT_POINT_LONGITUDE = (139.438,139.178,138.881,138.583, 138.284,137.985,137.579,137.576,137.573 ,137.568,137.564,137.561,137.557, 137.554,137.552,137.55,137.548,137.545, 137.542,137.54,137.537,137.533,137.53, 137.527,137.524,137.52,137.517,137.513, 137.509,137.506,137.5,137.493,137.489, 137.485,137.481,137.475,137.47,137.464, 137.458,137.45,137.445,137.441,137.439, 137.432,137.425,137.419,137.412,137.407 ,137.599,137.865,138.042,138.285, 138.506,138.727,138.904,139.081,139.257 ,139.433,139.631,139.769,139.765, 139.761,139.757,139.754,139.751,139.748 ,139.742,139.737,139.733,139.728, 139.722,139.719,139.715,139.712,139.707 ,139.703,139.697,139.694,139.69,139.687 ,139.682,139.679,139.673,139.67,139.666 ,139.663,139.658,139.652,139.649, 139.646,139.642,139.637,139.634,139.626 ,139.621,139.613,139.608,139.601, 139.593,139.438)
ORBIT_NUMBER = 10625
ORBITAL_ECCENTRICITY = 0.578
ORBITAL_INCLINATION = 86.87
ORBITAL_SEMIMAJOR_AXIS = 8790.34
PERIAPSIS_ALTITUDE = 330.67
PERIAPSIS_ARGUMENT_ANGLE = 304.17
PERIAPSIS_TIME = 2012-05-04T16:27:38.000Z
SPACECRAFT_ORIENTATION = (0.0,1.0,0.0)
^MEX_ORIENTATION_DESC = "MEX_ORIENTATION_DESC.TXT"
SPACECRAFT_POINTING_MODE = ACROSSTRACK
^MEX_POINTING_DESC = "MEX_POINTING_DESC.TXT"
RIGHT_ASCENSION = -1e+32
DECLINATION = -1e+32
OFFSET_ANGLE = 0.2
SPACECRAFT_SOLAR_DISTANCE = 2.44711e+08
TARGET_NAME = MARS
/* CAMERA DATA ELEMENTS */
DETECTOR_TEMPERATURE = 18.3705
FOCAL_PLANE_TEMPERATURE = 8.9911
INST_CMPRS_NAME = "DISCRETE COSINE TRANSFORMATION (DCT)"
INST_CMPRS_RATIO = 10.1909
INST_CMPRS_QUALITY = 0
INST_CMPRS_QUANTZ_TBL_ID = 0
INSTRUMENT_TEMPERATURE = 12.2535
LENS_TEMPERATURE = 9.3989
MACROPIXEL_SIZE = 4
MISSING_FRAMES = 0
PIXEL_SUBSAMPLING_FLAG = N
SIGNAL_CHAIN_ID = 2
/* RADIOMETRIC DATA ELEMENTS */
BANDWIDTH = 81.0
CENTER_FILTER_WAVELENGTH = 955.5
RADIANCE_OFFSET = 0.0224424
RADIANCE_SCALING_FACTOR = 0.00444448
REFLECTANCE_SCALING_FACTOR = 0.000574191
MEX:REFLECTANCE_OFFSET = 0.00289938
/* IMAGE OBJECT DEFINITIONS */
OBJECT = IMAGE
  INTERCHANGE_FORMAT = BINARY
  LINES = 4840
  LINE_SAMPLES = 1247
  SAMPLE_TYPE = UNSIGNED_INTEGER
  SAMPLE_BITS = 8
  BANDS = 1
  BAND_STORAGE_TYPE = BAND_SEQUENTIAL
  MAXIMUM = 255
  MEAN = 108.01
  MINIMUM = 1
  STANDARD_DEVIATION = 19.5741
END_OBJECT = IMAGE
/* MAP OBJECT DEFINITIONS */
OBJECT = IMAGE_MAP_PROJECTION
  ^DATA_SET_MAP_PROJECTION_CATALOG= "DSMAP.CAT"
  A_AXIS_RADIUS = 3396.0
  B_AXIS_RADIUS = 3396.0
  C_AXIS_RADIUS = 3396.0
  CENTER_LATITUDE = 0.0
  CENTER_LONGITUDE = 139.0
  COORDINATE_SYSTEM_NAME = PLANETOGRAPHIC
  COORDINATE_SYSTEM_TYPE = "BODY-FIXED ROTATING"
  EASTERNMOST_LONGITUDE = 139.769
  FIRST_STANDARD_PARALLEL = "N/A"
  LINE_FIRST_PIXEL = 1
  LINE_LAST_PIXEL = 4840
  LINE_PROJECTION_OFFSET = -12292.375
  MAP_PROJECTION_ROTATION = 0.0
  MAP_PROJECTION_TYPE = SINUSOIDAL
  MAP_RESOLUTION = 592.713803866667
  MAP_SCALE = 0.1
  MAXIMUM_LATITUDE = -20.7247
  MINIMUM_LATITUDE = -28.8865
  POSITIVE_LONGITUDE_DIRECTION = EAST
  REFERENCE_LATITUDE = "N/A"
  REFERENCE_LONGITUDE = "N/A"
  SAMPLE_FIRST_PIXEL = 1
  SAMPLE_LAST_PIXEL = 1247
  SAMPLE_PROJECTION_OFFSET = 861.875
  SECOND_STANDARD_PARALLEL = "N/A"
  WESTERNMOST_LONGITUDE = 137.407
END_OBJECT = IMAGE_MAP_PROJECTION
/* The JPEG2000 image data file associated with this label. */
OBJECT = COMPRESSED_FILE
  FILE_NAME = "HA625_0001_IR3.JP2"
  RECORD_TYPE = UNDEFINED
  FILE_RECORDS = UNK
  ENCODING_TYPE = "JP2"
  INTERCHANGE_FORMAT = BINARY
  UNCOMPRESSED_FILE_NAME = "HA625_0001_IR3.IMG"
  REQUIRED_STORAGE_BYTES = "6054185"
  ^DESCRIPTION = "JP2INFO.TXT"
END_OBJECT = COMPRESSED_FILE
END
