PDS_VERSION_ID = PDS3
/* FILE DATA ELEMENTS */
RECORD_TYPE = STREAM
/* POINTERS TO DATA OBJECTS */
^COMPRESSED_FILE = "HA626_0000_GR3.JP2"
/* IDENTIFICATION DATA ELEMENTS */
DATA_SET_ID = "MEX-M-HRSC-5-REFDR-MAPPROJECTED-V3.0"
DATA_SET_NAME = "MARS EXPRESS HRSC MAP PROJECTED REFDR V3.0"
DETECTOR_ID = MEX_HRSC_GREEN
EVENT_TYPE = "MARS-REGIONAL-MAPPING-Im-Fl"
INSTRUMENT_HOST_ID = MEX
INSTRUMENT_HOST_NAME = "MARS EXPRESS"
INSTRUMENT_ID = HRSC
INSTRUMENT_NAME = "HIGH RESOLUTION STEREO CAMERA"
MISSION_NAME = "MARS EXPRESS"
MISSION_PHASE_NAME = ME_Phase_25
PROCESSING_LEVEL_ID = 3
PRODUCT_CREATION_TIME = 2016-10-27T21:34:36.000Z
PRODUCT_ID = "HA626_0000_GR3.JP2"
RELEASE_ID = 0109
REVISION_ID = 0000
/* QUALITY DATA ELEMENTS */
DATA_QUALITY_ID = 1
DATA_QUALITY_DESC = "Data calculated based on original SPICE kernels"
/* TIME DATA ELEMENTS */
SPACECRAFT_CLOCK_START_COUNT = "1/0284254241.07309"
SPACECRAFT_CLOCK_STOP_COUNT = "1/0284254500.20709"
START_TIME = 2012-05-04T23:31:24.548Z
STOP_TIME = 2012-05-04T23:34:19.507Z
/* ORBITAL DATA ELEMENTS */
ASCENDING_NODE_LONGITUDE = 14.5
MAXIMUM_RESOLUTION = 122.8
FOOTPRINT_POINT_LATITUDE = (-39.3037,-39.2973,-39.2874,-39.1795, -38.9764,-38.7735,-38.5707,-38.3681, -38.1656,-37.9633,-37.7611,-37.5592, -37.3576,-37.1561,-36.7537,-36.3522, -35.9514,-35.7469,-35.5413,-35.3363, -35.1315,-34.8245,-34.6161,-34.4065, -34.1971,-33.9879,-33.7789,-33.4604, -33.2471,-32.9274,-32.7153,-32.4988, -32.2806,-31.9543,-31.7372,-31.5164, -31.2944,-31.073,-30.8519,-30.6276, -30.4021,-30.1767,-29.9517,-29.7231, -29.4947,-29.2643,-29.0352,-28.8012, -28.5679,-28.5363,-28.5386,-28.5401, -28.5405,-28.5404,-28.6593,-28.8934, -29.1262,-29.3557,-29.5856,-29.9304, -30.1569,-30.3821,-30.6098,-30.8349, -31.1669,-31.5,-31.7222,-31.9402, -32.2662,-32.4845,-32.7024,-32.9158, -33.1294,-33.3433,-33.5575,-33.8749, -34.0842,-34.2939,-34.6081,-34.9221, -35.1271,-35.3311,-35.5362,-35.7424, -35.948,-36.3498,-36.5509,-36.853, -37.0543,-37.256,-37.458,-37.6603, -37.8626,-38.0655,-38.268,-38.471, -38.7758,-38.9792,-39.1826,-39.3037)
FOOTPRINT_POINT_LONGITUDE = (36.5348,36.1246,35.6173,35.1748, 35.1809,35.1868,35.1924,35.1982,35.2038 ,35.2094,35.215,35.2199,35.2246,35.2289 ,35.2376,35.2448,35.252,35.2556,35.2599 ,35.2628,35.2652,35.2698,35.2727, 35.2757,35.2786,35.2811,35.2839,35.2871 ,35.2881,35.2901,35.2885,35.2888, 35.2918,35.2942,35.2951,35.2954,35.2967 ,35.2969,35.2971,35.2972,35.2963, 35.2958,35.2952,35.2944,35.2894,35.2921 ,35.2908,35.2898,35.2879,35.6105, 35.9701,36.3819,36.6854,36.9165,37.1924 ,37.1872,37.1819,37.1765,37.1711,37.163 ,37.159,37.1527,37.1493,37.1435,37.1347 ,37.1264,37.1209,37.1161,37.1068, 37.1013,37.0954,37.0899,37.0842,37.0784 ,37.0725,37.0639,37.0579,37.0521, 37.0422,37.0359,37.0296,37.0216,37.0149 ,37.0091,37.0028,36.9902,36.9838, 36.9741,36.9671,36.9603,36.9535,36.9469 ,36.94,36.9334,36.9261,36.919,36.9084, 36.901,36.8935,36.5348)
ORBIT_NUMBER = 10626
ORBITAL_ECCENTRICITY = 0.578
ORBITAL_INCLINATION = 86.87
ORBITAL_SEMIMAJOR_AXIS = 8789.81
PERIAPSIS_ALTITUDE = 330.41
PERIAPSIS_ARGUMENT_ANGLE = 304.0
PERIAPSIS_TIME = 2012-05-04T23:27:04.000Z
SPACECRAFT_ORIENTATION = (0.0,1.0,0.0)
^MEX_ORIENTATION_DESC = "MEX_ORIENTATION_DESC.TXT"
SPACECRAFT_POINTING_MODE = ACROSSTRACK
^MEX_POINTING_DESC = "MEX_POINTING_DESC.TXT"
RIGHT_ASCENSION = -1e+32
DECLINATION = -1e+32
OFFSET_ANGLE = 0.3
SPACECRAFT_SOLAR_DISTANCE = 2.44679e+08
TARGET_NAME = MARS
/* CAMERA DATA ELEMENTS */
DETECTOR_TEMPERATURE = 18.5744
FOCAL_PLANE_TEMPERATURE = 8.5833
INST_CMPRS_NAME = "DISCRETE COSINE TRANSFORMATION (DCT)"
INST_CMPRS_RATIO = 8.02031
INST_CMPRS_QUALITY = 0
INST_CMPRS_QUANTZ_TBL_ID = 0
INSTRUMENT_TEMPERATURE = 11.8457
LENS_TEMPERATURE = 8.9911
MACROPIXEL_SIZE = 8
MISSING_FRAMES = 0
PIXEL_SUBSAMPLING_FLAG = N
SIGNAL_CHAIN_ID = 2
/* RADIOMETRIC DATA ELEMENTS */
BANDWIDTH = 88.0
CENTER_FILTER_WAVELENGTH = 538.0
RADIANCE_OFFSET = 0.296409
RADIANCE_SCALING_FACTOR = 0.00454699
REFLECTANCE_SCALING_FACTOR = 0.000234372
MEX:REFLECTANCE_OFFSET = 0.0152782
/* IMAGE OBJECT DEFINITIONS */
OBJECT = IMAGE
  INTERCHANGE_FORMAT = BINARY
  LINES = 6394
  LINE_SAMPLES = 1031
  SAMPLE_TYPE = UNSIGNED_INTEGER
  SAMPLE_BITS = 8
  BANDS = 1
  BAND_STORAGE_TYPE = BAND_SEQUENTIAL
  MAXIMUM = 255
  MEAN = 121.855
  MINIMUM = 1
  STANDARD_DEVIATION = 26.7042
END_OBJECT = IMAGE
/* MAP OBJECT DEFINITIONS */
OBJECT = IMAGE_MAP_PROJECTION
  ^DATA_SET_MAP_PROJECTION_CATALOG= "DSMAP.CAT"
  A_AXIS_RADIUS = 3396.0
  B_AXIS_RADIUS = 3396.0
  C_AXIS_RADIUS = 3396.0
  CENTER_LATITUDE = 0.0
  CENTER_LONGITUDE = 36.0
  COORDINATE_SYSTEM_NAME = PLANETOGRAPHIC
  COORDINATE_SYSTEM_TYPE = "BODY-FIXED ROTATING"
  EASTERNMOST_LONGITUDE = 37.1924
  FIRST_STANDARD_PARALLEL = "N/A"
  LINE_FIRST_PIXEL = 1
  LINE_LAST_PIXEL = 6394
  LINE_PROJECTION_OFFSET = -16912.9375
  MAP_PROJECTION_ROTATION = 0.0
  MAP_PROJECTION_TYPE = SINUSOIDAL
  MAP_RESOLUTION = 592.713803866667
  MAP_SCALE = 0.1
  MAXIMUM_LATITUDE = -28.5363
  MINIMUM_LATITUDE = -39.3037
  POSITIVE_LONGITUDE_DIRECTION = EAST
  REFERENCE_LATITUDE = "N/A"
  REFERENCE_LONGITUDE = "N/A"
  SAMPLE_FIRST_PIXEL = 1
  SAMPLE_LAST_PIXEL = 1031
  SAMPLE_PROJECTION_OFFSET = 408.1875
  SECOND_STANDARD_PARALLEL = "N/A"
  WESTERNMOST_LONGITUDE = 35.1748
END_OBJECT = IMAGE_MAP_PROJECTION
/* The JPEG2000 image data file associated with this label. */
OBJECT = COMPRESSED_FILE
  FILE_NAME = "HA626_0000_GR3.JP2"
  RECORD_TYPE = UNDEFINED
  FILE_RECORDS = UNK
  ENCODING_TYPE = "JP2"
  INTERCHANGE_FORMAT = BINARY
  UNCOMPRESSED_FILE_NAME = "HA626_0000_GR3.IMG"
  REQUIRED_STORAGE_BYTES = "6610772"
  ^DESCRIPTION = "JP2INFO.TXT"
END_OBJECT = COMPRESSED_FILE
END
