PDS_VERSION_ID = PDS3
/* FILE DATA ELEMENTS */
RECORD_TYPE = STREAM
/* POINTERS TO DATA OBJECTS */
^COMPRESSED_FILE = "HA628_0000_GR3.JP2"
/* IDENTIFICATION DATA ELEMENTS */
DATA_SET_ID = "MEX-M-HRSC-5-REFDR-MAPPROJECTED-V3.0"
DATA_SET_NAME = "MARS EXPRESS HRSC MAP PROJECTED REFDR V3.0"
DETECTOR_ID = MEX_HRSC_GREEN
EVENT_TYPE = "MARS-REGIONAL-MAPPING-Im-Fl-Lc"
INSTRUMENT_HOST_ID = MEX
INSTRUMENT_HOST_NAME = "MARS EXPRESS"
INSTRUMENT_ID = HRSC
INSTRUMENT_NAME = "HIGH RESOLUTION STEREO CAMERA"
MISSION_NAME = "MARS EXPRESS"
MISSION_PHASE_NAME = ME_Phase_25
PROCESSING_LEVEL_ID = 3
PRODUCT_CREATION_TIME = 2016-10-27T21:34:36.000Z
PRODUCT_ID = "HA628_0000_GR3.JP2"
RELEASE_ID = 0109
REVISION_ID = 0000
/* QUALITY DATA ELEMENTS */
DATA_QUALITY_ID = 1
DATA_QUALITY_DESC = "Data calculated based on original SPICE kernels"
/* TIME DATA ELEMENTS */
SPACECRAFT_CLOCK_START_COUNT = "1/0284304630.09045"
SPACECRAFT_CLOCK_STOP_COUNT = "1/0284304969.28451"
START_TIME = 2012-05-05T13:31:16.491Z
STOP_TIME = 2012-05-05T13:35:15.847Z
/* ORBITAL DATA ELEMENTS */
ASCENDING_NODE_LONGITUDE = 14.46
MAXIMUM_RESOLUTION = 65.7
FOOTPRINT_POINT_LATITUDE = (-36.0554,-36.0519,-36.0445,-36.04, -35.7901,-35.4157,-34.9147,-34.66, -34.4056,-34.1515,-33.8945,-33.6349, -33.3757,-33.1168,-32.8548,-32.5904, -32.1943,-31.9288,-31.659,-31.3903, -31.1211,-30.7101,-30.436,-30.1606, -29.8817,-29.4645,-29.1815,-28.8979, -28.6146,-28.1824,-27.8941,-27.6033, -27.3104,-27.0176,-26.7193,-26.4221, -25.9706,-25.6685,-25.2095,-24.9032, -24.5913,-24.2802,-23.9647,-23.6502, -23.3303,-23.0093,-22.6852,-22.361, -22.0319,-21.8166,-21.8151,-21.8129, -21.8109,-21.8067,-22.1352,-22.4637, -22.7895,-23.2736,-23.5951,-23.9116, -24.2286,-24.5405,-25.0076,-25.3151, -25.6226,-25.9254,-26.379,-26.6772, -27.1234,-27.4169,-27.8567,-28.1455, -28.4349,-28.8633,-29.147,-29.4306, -29.7099,-29.9895,-30.4052,-30.6796, -30.9545,-31.2272,-31.4969,-31.767, -32.037,-32.3017,-32.5668,-32.8321, -33.0953,-33.4849,-33.7449,-34.1329, -34.3871,-34.6416,-34.8968,-35.1516, -35.401,-35.6507,-35.9007,-36.0554)
FOOTPRINT_POINT_LONGITUDE = (192.24,191.915,191.394,190.881,190.885 ,190.892,190.898,190.901,190.904, 190.906,190.911,190.912,190.913,190.915 ,190.917,190.917,190.917,190.918, 190.919,190.917,190.918,190.917,190.917 ,190.918,190.916,190.911,190.912, 190.909,190.906,190.903,190.9,190.896, 190.891,190.888,190.884,190.879,190.871 ,190.866,190.857,190.851,190.845, 190.839,190.832,190.822,190.815,190.81, 190.802,190.793,190.784,191.187,191.534 ,191.961,192.245,192.712,192.957, 192.952,192.946,192.939,192.933,192.928 ,192.922,192.916,192.908,192.902, 192.897,192.891,192.883,192.877,192.868 ,192.862,192.853,192.847,192.841, 192.832,192.825,192.819,192.813,192.807 ,192.797,192.79,192.784,192.778,192.772 ,192.766,192.759,192.753,192.747, 192.741,192.734,192.725,192.718,192.708 ,192.7,192.693,192.686,192.68,192.673, 192.666,192.659,192.24)
ORBIT_NUMBER = 10628
ORBITAL_ECCENTRICITY = 0.577
ORBITAL_INCLINATION = 86.88
ORBITAL_SEMIMAJOR_AXIS = 8785.86
PERIAPSIS_ALTITUDE = 330.23
PERIAPSIS_ARGUMENT_ANGLE = 303.66
PERIAPSIS_TIME = 2012-05-05T13:25:59.000Z
SPACECRAFT_ORIENTATION = (0.0,1.0,0.0)
^MEX_ORIENTATION_DESC = "MEX_ORIENTATION_DESC.TXT"
SPACECRAFT_POINTING_MODE = ACROSSTRACK
^MEX_POINTING_DESC = "MEX_POINTING_DESC.TXT"
RIGHT_ASCENSION = -1e+32
DECLINATION = -1e+32
OFFSET_ANGLE = 0.2
SPACECRAFT_SOLAR_DISTANCE = 2.44613e+08
TARGET_NAME = MARS
/* CAMERA DATA ELEMENTS */
DETECTOR_TEMPERATURE = 18.5744
FOCAL_PLANE_TEMPERATURE = 9.6028
INST_CMPRS_NAME = "DISCRETE COSINE TRANSFORMATION (DCT)"
INST_CMPRS_RATIO = 4.9605
INST_CMPRS_QUALITY = 0
INST_CMPRS_QUANTZ_TBL_ID = 0
INSTRUMENT_TEMPERATURE = 11.8457
LENS_TEMPERATURE = 9.8067
MACROPIXEL_SIZE = 4
MISSING_FRAMES = 0
PIXEL_SUBSAMPLING_FLAG = N
SIGNAL_CHAIN_ID = 2
/* RADIOMETRIC DATA ELEMENTS */
BANDWIDTH = 88.0
CENTER_FILTER_WAVELENGTH = 538.0
RADIANCE_OFFSET = 0.215981
RADIANCE_SCALING_FACTOR = 0.00665487
REFLECTANCE_SCALING_FACTOR = 0.000342838
MEX:REFLECTANCE_OFFSET = 0.0111267
/* IMAGE OBJECT DEFINITIONS */
OBJECT = IMAGE
  INTERCHANGE_FORMAT = BINARY
  LINES = 16916
  LINE_SAMPLES = 2464
  SAMPLE_TYPE = UNSIGNED_INTEGER
  SAMPLE_BITS = 8
  BANDS = 1
  BAND_STORAGE_TYPE = BAND_SEQUENTIAL
  MAXIMUM = 255
  MEAN = 109.698
  MINIMUM = 1
  STANDARD_DEVIATION = 29.3725
END_OBJECT = IMAGE
/* MAP OBJECT DEFINITIONS */
OBJECT = IMAGE_MAP_PROJECTION
  ^DATA_SET_MAP_PROJECTION_CATALOG= "DSMAP.CAT"
  A_AXIS_RADIUS = 3396.0
  B_AXIS_RADIUS = 3396.0
  C_AXIS_RADIUS = 3396.0
  CENTER_LATITUDE = 0.0
  CENTER_LONGITUDE = 192.0
  COORDINATE_SYSTEM_NAME = PLANETOGRAPHIC
  COORDINATE_SYSTEM_TYPE = "BODY-FIXED ROTATING"
  EASTERNMOST_LONGITUDE = 192.957
  FIRST_STANDARD_PARALLEL = "N/A"
  LINE_FIRST_PIXEL = 1
  LINE_LAST_PIXEL = 16916
  LINE_PROJECTION_OFFSET = -25844.125
  MAP_PROJECTION_ROTATION = 0.0
  MAP_PROJECTION_TYPE = SINUSOIDAL
  MAP_RESOLUTION = 1185.42760773333
  MAP_SCALE = 0.05
  MAXIMUM_LATITUDE = -21.8067
  MINIMUM_LATITUDE = -36.0554
  POSITIVE_LONGITUDE_DIRECTION = EAST
  REFERENCE_LATITUDE = "N/A"
  REFERENCE_LONGITUDE = "N/A"
  SAMPLE_FIRST_PIXEL = 1
  SAMPLE_LAST_PIXEL = 2464
  SAMPLE_PROJECTION_OFFSET = 1388.875
  SECOND_STANDARD_PARALLEL = "N/A"
  WESTERNMOST_LONGITUDE = 190.784
END_OBJECT = IMAGE_MAP_PROJECTION
/* The JPEG2000 image data file associated with this label. */
OBJECT = COMPRESSED_FILE
  FILE_NAME = "HA628_0000_GR3.JP2"
  RECORD_TYPE = UNDEFINED
  FILE_RECORDS = UNK
  ENCODING_TYPE = "JP2"
  INTERCHANGE_FORMAT = BINARY
  UNCOMPRESSED_FILE_NAME = "HA628_0000_GR3.IMG"
  REQUIRED_STORAGE_BYTES = "41700736"
  ^DESCRIPTION = "JP2INFO.TXT"
END_OBJECT = COMPRESSED_FILE
END
