PDS_VERSION_ID = PDS3
/* FILE DATA ELEMENTS */
RECORD_TYPE = STREAM
/* POINTERS TO DATA OBJECTS */
^COMPRESSED_FILE = "HA631_0000_GR3.JP2"
/* IDENTIFICATION DATA ELEMENTS */
DATA_SET_ID = "MEX-M-HRSC-5-REFDR-MAPPROJECTED-V3.0"
DATA_SET_NAME = "MARS EXPRESS HRSC MAP PROJECTED REFDR V3.0"
DETECTOR_ID = MEX_HRSC_GREEN
EVENT_TYPE = "MARS-CLOUD-VARIABLE-At"
INSTRUMENT_HOST_ID = MEX
INSTRUMENT_HOST_NAME = "MARS EXPRESS"
INSTRUMENT_ID = HRSC
INSTRUMENT_NAME = "HIGH RESOLUTION STEREO CAMERA"
MISSION_NAME = "MARS EXPRESS"
MISSION_PHASE_NAME = ME_Phase_25
PROCESSING_LEVEL_ID = 3
PRODUCT_CREATION_TIME = 2016-10-27T21:34:36.000Z
PRODUCT_ID = "HA631_0000_GR3.JP2"
RELEASE_ID = 0109
REVISION_ID = 0000
/* QUALITY DATA ELEMENTS */
DATA_QUALITY_ID = 1
DATA_QUALITY_DESC = "Data calculated based on original SPICE kernels"
/* TIME DATA ELEMENTS */
SPACECRAFT_CLOCK_START_COUNT = "1/0284380299.08410"
SPACECRAFT_CLOCK_STOP_COUNT = "1/0284381643.12168"
START_TIME = 2012-05-06T10:32:31.485Z
STOP_TIME = 2012-05-06T10:49:03.684Z
/* ORBITAL DATA ELEMENTS */
ASCENDING_NODE_LONGITUDE = 14.41
MAXIMUM_RESOLUTION = 83.8
FOOTPRINT_POINT_LATITUDE = (-26.0118,-26.0065,-25.2154,-24.4109, -23.5931,-22.76,-21.9106,-21.0462, -20.1636,-19.2637,-18.3461,-17.4093, -15.9534,-14.9646,-13.9537,-12.9201, -11.3254,-10.26,-9.20756,-8.16743, -7.14026,-6.12641,-5.12624,-4.13931, -3.16499,-2.20312,-1.25373,-0.317211, 0.606604,1.51798,2.41756,3.30505, 4.18089,5.04514,5.89775,6.7389,7.56845, 8.38638,9.19322,9.98943,10.7749,11.5498 ,12.3141,13.0681,13.8119,15.2693, 16.6875,18.0678,18.2512,18.3505,18.3986 ,18.4505,18.4789,17.8036,16.3875, 14.9334,13.44,12.6783,11.9063,11.1239, 10.331,9.52747,8.71185,7.88721,7.05127, 6.2036,5.34449,4.47404,3.59329,2.70388, 1.80181,0.883538,-0.0457247,-0.991496, -1.94929,-2.917,-3.89715,-4.88982, -5.89505,-6.91281,-7.94339,-8.98676, -10.043,-11.112,-12.7179,-13.7604, -14.7788,-15.7745,-17.2406,-18.184, -19.1079,-20.0142,-20.9009,-21.7717, -22.6248,-23.4643,-24.2862,-25.0945, -25.8894,-26.0118)
FOOTPRINT_POINT_LONGITUDE = (245.237,244.383,244.367,244.35,244.331 ,244.31,244.286,244.26,244.232,244.201, 244.168,244.132,244.071,244.027,243.979 ,243.928,243.843,243.783,243.72,243.657 ,243.592,243.525,243.454,243.38,243.305 ,243.229,243.151,243.071,242.989, 242.905,242.82,242.734,242.647,242.558, 242.469,242.378,242.285,242.19,242.094, 241.998,241.9,241.801,241.7,241.599, 241.496,241.287,241.072,240.853,242.053 ,243.754,244.725,245.942,246.735, 247.335,247.269,247.208,247.149,247.121 ,247.094,247.068,247.042,247.017, 246.996,246.971,246.947,246.925,246.904 ,246.883,246.859,246.83,246.803,246.785 ,246.765,246.755,246.745,246.73,246.715 ,246.7,246.686,246.671,246.656,246.642, 246.628,246.613,246.592,246.579,246.566 ,246.553,246.534,246.521,246.509, 246.496,246.484,246.472,246.459,246.447 ,246.435,246.422,246.409,245.237)
ORBIT_NUMBER = 10631
ORBITAL_ECCENTRICITY = 0.578
ORBITAL_INCLINATION = 86.88
ORBITAL_SEMIMAJOR_AXIS = 8786.55
PERIAPSIS_ALTITUDE = 329.42
PERIAPSIS_ARGUMENT_ANGLE = 303.13
PERIAPSIS_TIME = 2012-05-06T10:24:19.000Z
SPACECRAFT_ORIENTATION = (0.0,1.0,0.0)
^MEX_ORIENTATION_DESC = "MEX_ORIENTATION_DESC.TXT"
SPACECRAFT_POINTING_MODE = NADIR
^MEX_POINTING_DESC = "MEX_POINTING_DESC.TXT"
RIGHT_ASCENSION = -1e+32
DECLINATION = -1e+32
OFFSET_ANGLE = -1e+32
SPACECRAFT_SOLAR_DISTANCE = 2.44514e+08
TARGET_NAME = MARS
/* CAMERA DATA ELEMENTS */
DETECTOR_TEMPERATURE = 17.5549
FOCAL_PLANE_TEMPERATURE = 8.3794
INST_CMPRS_NAME = "DISCRETE COSINE TRANSFORMATION (DCT)"
INST_CMPRS_RATIO = 20.2089
INST_CMPRS_QUALITY = 0
INST_CMPRS_QUANTZ_TBL_ID = 0
INSTRUMENT_TEMPERATURE = 11.6418
LENS_TEMPERATURE = 8.5833
MACROPIXEL_SIZE = 4
MISSING_FRAMES = 1
PIXEL_SUBSAMPLING_FLAG = N
SIGNAL_CHAIN_ID = 2
/* RADIOMETRIC DATA ELEMENTS */
BANDWIDTH = 88.0
CENTER_FILTER_WAVELENGTH = 538.0
RADIANCE_OFFSET = 0.364266
RADIANCE_SCALING_FACTOR = 0.0127266
REFLECTANCE_SCALING_FACTOR = 0.000655101
MEX:REFLECTANCE_OFFSET = 0.0187506
/* IMAGE OBJECT DEFINITIONS */
OBJECT = IMAGE
  INTERCHANGE_FORMAT = BINARY
  LINES = 26394
  LINE_SAMPLES = 3426
  SAMPLE_TYPE = UNSIGNED_INTEGER
  SAMPLE_BITS = 8
  BANDS = 1
  BAND_STORAGE_TYPE = BAND_SEQUENTIAL
  MAXIMUM = 255
  MEAN = 160.388
  MINIMUM = 1
  STANDARD_DEVIATION = 47.8461
END_OBJECT = IMAGE
/* MAP OBJECT DEFINITIONS */
OBJECT = IMAGE_MAP_PROJECTION
  ^DATA_SET_MAP_PROJECTION_CATALOG= "DSMAP.CAT"
  A_AXIS_RADIUS = 3396.0
  B_AXIS_RADIUS = 3396.0
  C_AXIS_RADIUS = 3396.0
  CENTER_LATITUDE = 0.0
  CENTER_LONGITUDE = 245.0
  COORDINATE_SYSTEM_NAME = PLANETOGRAPHIC
  COORDINATE_SYSTEM_TYPE = "BODY-FIXED ROTATING"
  EASTERNMOST_LONGITUDE = 247.335
  FIRST_STANDARD_PARALLEL = "N/A"
  LINE_FIRST_PIXEL = 1
  LINE_LAST_PIXEL = 26394
  LINE_PROJECTION_OFFSET = 10971.0
  MAP_PROJECTION_ROTATION = 0.0
  MAP_PROJECTION_TYPE = SINUSOIDAL
  MAP_RESOLUTION = 592.713803866667
  MAP_SCALE = 0.1
  MAXIMUM_LATITUDE = 18.4789
  MINIMUM_LATITUDE = -26.0118
  POSITIVE_LONGITUDE_DIRECTION = EAST
  REFERENCE_LATITUDE = "N/A"
  REFERENCE_LONGITUDE = "N/A"
  SAMPLE_FIRST_PIXEL = 1
  SAMPLE_LAST_PIXEL = 3426
  SAMPLE_PROJECTION_OFFSET = 2209.0
  SECOND_STANDARD_PARALLEL = "N/A"
  WESTERNMOST_LONGITUDE = 240.853
END_OBJECT = IMAGE_MAP_PROJECTION
/* The JPEG2000 image data file associated with this label. */
OBJECT = COMPRESSED_FILE
  FILE_NAME = "HA631_0000_GR3.JP2"
  RECORD_TYPE = UNDEFINED
  FILE_RECORDS = UNK
  ENCODING_TYPE = "JP2"
  INTERCHANGE_FORMAT = BINARY
  UNCOMPRESSED_FILE_NAME = "HA631_0000_GR3.IMG"
  REQUIRED_STORAGE_BYTES = "90449826"
  ^DESCRIPTION = "JP2INFO.TXT"
END_OBJECT = COMPRESSED_FILE
END
