PDS_VERSION_ID = PDS3
/* FILE DATA ELEMENTS */
RECORD_TYPE = STREAM
/* POINTERS TO DATA OBJECTS */
^COMPRESSED_FILE = "HA633_0000_IR3.JP2"
/* IDENTIFICATION DATA ELEMENTS */
DATA_SET_ID = "MEX-M-HRSC-5-REFDR-MAPPROJECTED-V3.0"
DATA_SET_NAME = "MARS EXPRESS HRSC MAP PROJECTED REFDR V3.0"
DETECTOR_ID = MEX_HRSC_IR
EVENT_TYPE = "MARS-REGIONAL-MAPPING-Im-Fl"
INSTRUMENT_HOST_ID = MEX
INSTRUMENT_HOST_NAME = "MARS EXPRESS"
INSTRUMENT_ID = HRSC
INSTRUMENT_NAME = "HIGH RESOLUTION STEREO CAMERA"
MISSION_NAME = "MARS EXPRESS"
MISSION_PHASE_NAME = ME_Phase_25
PROCESSING_LEVEL_ID = 3
PRODUCT_CREATION_TIME = 2016-10-27T21:34:36.000Z
PRODUCT_ID = "HA633_0000_IR3.JP2"
RELEASE_ID = 0109
REVISION_ID = 0000
/* QUALITY DATA ELEMENTS */
DATA_QUALITY_ID = 1
DATA_QUALITY_DESC = "Data calculated based on original SPICE kernels"
/* TIME DATA ELEMENTS */
SPACECRAFT_CLOCK_START_COUNT = "1/0284430394.09046"
SPACECRAFT_CLOCK_STOP_COUNT = "1/0284430612.34545"
START_TIME = 2012-05-07T00:27:40.248Z
STOP_TIME = 2012-05-07T00:30:06.071Z
/* ORBITAL DATA ELEMENTS */
ASCENDING_NODE_LONGITUDE = 14.37
MAXIMUM_RESOLUTION = 64.6
FOOTPRINT_POINT_LATITUDE = (-41.6489,-41.6471,-41.6449,-41.6422, -41.6392,-41.6358,-41.5852,-41.4163, -41.248,-41.0798,-40.912,-40.7446, -40.5763,-40.4087,-40.0798,-39.663, -39.4934,-39.0799,-38.8317,-38.5791, -38.4096,-38.2401,-38.0698,-37.9005, -37.6511,-37.4796,-37.3074,-37.1328, -36.958,-36.787,-36.6164,-36.4418, -36.1791,-36.004,-35.8291,-35.6545, -35.4768,-35.2983,-35.119,-34.9412, -34.7638,-34.584,-34.4029,-34.223, -34.0407,-33.8599,-33.6768,-33.4904, -33.215,-33.0318,-32.9939,-32.9973, -32.9955,-32.9948,-32.9934,-32.9927, -33.1772,-33.3617,-33.6394,-33.8244, -34.0056,-34.1871,-34.3688,-34.5505, -34.8201,-35.0875,-35.2665,-35.4452, -35.6236,-35.7985,-36.061,-36.2352, -36.415,-36.6839,-36.8562,-37.1124, -37.2863,-37.4588,-37.7161,-38.0465, -38.2177,-38.3862,-38.6397,-38.8093, -38.9757,-39.1427,-39.4754,-39.6421, -39.809,-40.0592,-40.2264,-40.3938, -40.5611,-40.7289,-40.8972,-41.0653, -41.2338,-41.4868,-41.6556,-41.6489)
FOOTPRINT_POINT_LONGITUDE = (40.9056,40.6425,40.3783,40.1134, 39.8478,39.5809,39.3496,39.3565,39.363, 39.3693,39.3753,39.3811,39.3874,39.3934 ,39.4003,39.4134,39.4207,39.4314, 39.4379,39.4447,39.4489,39.4531,39.4579 ,39.462,39.465,39.468,39.4711,39.4761, 39.4811,39.4836,39.4858,39.4883,39.4919 ,39.4945,39.4969,39.4991,39.5013, 39.5034,39.506,39.5077,39.5092,39.511, 39.5122,39.5127,39.5148,39.516,39.517, 39.5192,39.52,39.5202,39.7782,40.1803, 40.4913,40.892,41.1642,41.4779,41.4725, 41.4669,41.4585,41.453,41.4473,41.4417, 41.4359,41.43,41.4213,41.4125,41.4067, 41.4007,41.3947,41.3887,41.3797,41.3733 ,41.3682,41.3608,41.3548,41.345,41.3392 ,41.3328,41.3232,41.3087,41.3028, 41.2961,41.2861,41.2799,41.2736,41.2674 ,41.2542,41.2476,41.2409,41.2306, 41.2237,41.2167,41.2096,41.2025,41.1955 ,41.1882,41.181,41.1699,41.1625, 40.9056)
ORBIT_NUMBER = 10633
ORBITAL_ECCENTRICITY = 0.578
ORBITAL_INCLINATION = 86.87
ORBITAL_SEMIMAJOR_AXIS = 8787.95
PERIAPSIS_ALTITUDE = 330.27
PERIAPSIS_ARGUMENT_ANGLE = 302.81
PERIAPSIS_TIME = 2012-05-07T00:23:15.000Z
SPACECRAFT_ORIENTATION = (0.0,1.0,0.0)
^MEX_ORIENTATION_DESC = "MEX_ORIENTATION_DESC.TXT"
SPACECRAFT_POINTING_MODE = ACROSSTRACK
^MEX_POINTING_DESC = "MEX_POINTING_DESC.TXT"
RIGHT_ASCENSION = -1e+32
DECLINATION = -1e+32
OFFSET_ANGLE = 0.3
SPACECRAFT_SOLAR_DISTANCE = 2.44448e+08
TARGET_NAME = MARS
/* CAMERA DATA ELEMENTS */
DETECTOR_TEMPERATURE = 17.5549
FOCAL_PLANE_TEMPERATURE = 8.5833
INST_CMPRS_NAME = "DISCRETE COSINE TRANSFORMATION (DCT)"
INST_CMPRS_RATIO = 8.81313
INST_CMPRS_QUALITY = 0
INST_CMPRS_QUANTZ_TBL_ID = 0
INSTRUMENT_TEMPERATURE = 11.8457
LENS_TEMPERATURE = 8.7872
MACROPIXEL_SIZE = 4
MISSING_FRAMES = 0
PIXEL_SUBSAMPLING_FLAG = N
SIGNAL_CHAIN_ID = 2
/* RADIOMETRIC DATA ELEMENTS */
BANDWIDTH = 81.0
CENTER_FILTER_WAVELENGTH = 955.5
RADIANCE_OFFSET = 0.184107
RADIANCE_SCALING_FACTOR = 0.00306124
REFLECTANCE_SCALING_FACTOR = 0.000394635
MEX:REFLECTANCE_OFFSET = 0.0237339
/* IMAGE OBJECT DEFINITIONS */
OBJECT = IMAGE
  INTERCHANGE_FORMAT = BINARY
  LINES = 10325
  LINE_SAMPLES = 2023
  SAMPLE_TYPE = UNSIGNED_INTEGER
  SAMPLE_BITS = 8
  BANDS = 1
  BAND_STORAGE_TYPE = BAND_SEQUENTIAL
  MAXIMUM = 255
  MEAN = 122.183
  MINIMUM = 1
  STANDARD_DEVIATION = 37.9122
END_OBJECT = IMAGE
/* MAP OBJECT DEFINITIONS */
OBJECT = IMAGE_MAP_PROJECTION
  ^DATA_SET_MAP_PROJECTION_CATALOG= "DSMAP.CAT"
  A_AXIS_RADIUS = 3396.0
  B_AXIS_RADIUS = 3396.0
  C_AXIS_RADIUS = 3396.0
  CENTER_LATITUDE = 0.0
  CENTER_LONGITUDE = 40.0
  COORDINATE_SYSTEM_NAME = PLANETOGRAPHIC
  COORDINATE_SYSTEM_TYPE = "BODY-FIXED ROTATING"
  EASTERNMOST_LONGITUDE = 41.4779
  FIRST_STANDARD_PARALLEL = "N/A"
  LINE_FIRST_PIXEL = 1
  LINE_LAST_PIXEL = 10325
  LINE_PROJECTION_OFFSET = -39115.625
  MAP_PROJECTION_ROTATION = 0.0
  MAP_PROJECTION_TYPE = SINUSOIDAL
  MAP_RESOLUTION = 1185.42760773333
  MAP_SCALE = 0.05
  MAXIMUM_LATITUDE = -32.9927
  MINIMUM_LATITUDE = -41.6556
  POSITIVE_LONGITUDE_DIRECTION = EAST
  REFERENCE_LATITUDE = "N/A"
  REFERENCE_LONGITUDE = "N/A"
  SAMPLE_FIRST_PIXEL = 1
  SAMPLE_LAST_PIXEL = 2023
  SAMPLE_PROJECTION_OFFSET = 595.375
  SECOND_STANDARD_PARALLEL = "N/A"
  WESTERNMOST_LONGITUDE = 39.3496
END_OBJECT = IMAGE_MAP_PROJECTION
/* The JPEG2000 image data file associated with this label. */
OBJECT = COMPRESSED_FILE
  FILE_NAME = "HA633_0000_IR3.JP2"
  RECORD_TYPE = UNDEFINED
  FILE_RECORDS = UNK
  ENCODING_TYPE = "JP2"
  INTERCHANGE_FORMAT = BINARY
  UNCOMPRESSED_FILE_NAME = "HA633_0000_IR3.IMG"
  REQUIRED_STORAGE_BYTES = "20907705"
  ^DESCRIPTION = "JP2INFO.TXT"
END_OBJECT = COMPRESSED_FILE
END
