PDS_VERSION_ID = PDS3
/* FILE DATA ELEMENTS */
RECORD_TYPE = STREAM
/* POINTERS TO DATA OBJECTS */
^COMPRESSED_FILE = "HA645_0000_P13.JP2"
/* IDENTIFICATION DATA ELEMENTS */
DATA_SET_ID = "MEX-M-HRSC-5-REFDR-MAPPROJECTED-V3.0"
DATA_SET_NAME = "MARS EXPRESS HRSC MAP PROJECTED REFDR V3.0"
DETECTOR_ID = MEX_HRSC_P1
EVENT_TYPE = "MARS-REGIONAL-MAPPING-Te-Fl"
INSTRUMENT_HOST_ID = MEX
INSTRUMENT_HOST_NAME = "MARS EXPRESS"
INSTRUMENT_ID = HRSC
INSTRUMENT_NAME = "HIGH RESOLUTION STEREO CAMERA"
MISSION_NAME = "MARS EXPRESS"
MISSION_PHASE_NAME = ME_Phase_25
PROCESSING_LEVEL_ID = 3
PRODUCT_CREATION_TIME = 2016-10-27T21:34:36.000Z
PRODUCT_ID = "HA645_0000_P13.JP2"
RELEASE_ID = 0109
REVISION_ID = 0000
/* QUALITY DATA ELEMENTS */
DATA_QUALITY_ID = 1
DATA_QUALITY_DESC = "Data calculated based on original SPICE kernels"
/* TIME DATA ELEMENTS */
SPACECRAFT_CLOCK_START_COUNT = "1/0284732418.09048"
SPACECRAFT_CLOCK_STOP_COUNT = "1/0284732745.20627"
START_TIME = 2012-05-10T12:21:19.347Z
STOP_TIME = 2012-05-10T12:25:25.941Z
/* ORBITAL DATA ELEMENTS */
ASCENDING_NODE_LONGITUDE = 14.14
MAXIMUM_RESOLUTION = 32.1
FOOTPRINT_POINT_LATITUDE = (-42.3772,-42.3695,-42.3592,-42.3694, -42.1083,-41.8477,-41.5874,-41.3276, -41.0682,-40.8092,-40.2925,-40.0287, -39.7645,-39.5009,-39.2376,-38.9704, -38.7009,-38.4294,-38.1602,-37.8901, -37.616,-37.3399,-36.9256,-36.5079, -36.2296,-35.9452,-35.6609,-35.3775, -34.9457,-34.6573,-34.2198,-33.9263, -33.4858,-33.1892,-32.8908,-32.5883, -32.2846,-31.8301,-31.5239,-31.0592, -30.7479,-30.274,-29.9581,-29.6368, -29.3182,-28.9947,-28.6714,-28.3436, -28.0152,-27.9695,-27.9698,-27.9683, -28.1214,-28.4531,-28.7814,-29.1112, -29.4362,-29.7576,-30.0777,-30.3934, -30.7077,-31.0173,-31.3289,-31.6354, -31.9438,-32.2543,-32.5573,-32.8589, -33.1554,-33.4512,-33.7516,-34.0501, -34.3381,-34.6297,-34.9181,-35.3501, -35.6335,-35.9171,-36.3428,-36.622, -36.901,-37.1796,-37.4543,-37.7301, -38.0082,-38.2829,-38.554,-38.8242, -39.2285,-39.4925,-39.7568,-40.0214, -40.2868,-40.5458,-40.805,-41.0646, -41.4545,-41.7147,-41.9756,-42.3772)
FOOTPRINT_POINT_LONGITUDE = (254.443,253.949,253.403,252.853, 252.861,252.87,252.878,252.885,252.892, 252.899,252.912,252.918,252.924,252.93, 252.935,252.94,252.945,252.951,252.956, 252.958,252.962,252.967,252.972,252.975 ,252.978,252.981,252.983,252.985, 252.987,252.988,252.99,252.99,252.989, 252.988,252.988,252.987,252.986,252.982 ,252.979,252.975,252.972,252.968, 252.964,252.96,252.955,252.949,252.944, 252.937,252.931,253.396,254.031,254.475 ,255.109,255.103,255.096,255.091, 255.084,255.077,255.07,255.062,255.054, 255.045,255.037,255.029,255.022,255.017 ,255.01,255.001,254.993,254.983,254.978 ,254.973,254.961,254.954,254.946, 254.933,254.925,254.917,254.905,254.897 ,254.888,254.88,254.872,254.864,254.857 ,254.85,254.842,254.834,254.821,254.812 ,254.803,254.793,254.784,254.775, 254.765,254.756,254.741,254.731,254.721 ,254.443)
ORBIT_NUMBER = 10645
ORBITAL_ECCENTRICITY = 0.577
ORBITAL_INCLINATION = 86.87
ORBITAL_SEMIMAJOR_AXIS = 8782.91
PERIAPSIS_ALTITUDE = 329.41
PERIAPSIS_ARGUMENT_ANGLE = 300.76
PERIAPSIS_TIME = 2012-05-10T12:16:39.000Z
SPACECRAFT_ORIENTATION = (0.0,1.0,0.0)
^MEX_ORIENTATION_DESC = "MEX_ORIENTATION_DESC.TXT"
SPACECRAFT_POINTING_MODE = NADIR
^MEX_POINTING_DESC = "MEX_POINTING_DESC.TXT"
RIGHT_ASCENSION = -1e+32
DECLINATION = -1e+32
OFFSET_ANGLE = -1e+32
SPACECRAFT_SOLAR_DISTANCE = 2.44039e+08
TARGET_NAME = MARS
/* CAMERA DATA ELEMENTS */
DETECTOR_TEMPERATURE = 17.351
FOCAL_PLANE_TEMPERATURE = 8.5833
INST_CMPRS_NAME = "DISCRETE COSINE TRANSFORMATION (DCT)"
INST_CMPRS_RATIO = 7.13779
INST_CMPRS_QUALITY = 0
INST_CMPRS_QUANTZ_TBL_ID = 0
INSTRUMENT_TEMPERATURE = 11.4379
LENS_TEMPERATURE = 8.7872
MACROPIXEL_SIZE = 2
MISSING_FRAMES = 0
PIXEL_SUBSAMPLING_FLAG = N
SIGNAL_CHAIN_ID = 3
/* RADIOMETRIC DATA ELEMENTS */
BANDWIDTH = 174.0
CENTER_FILTER_WAVELENGTH = 675.0
RADIANCE_OFFSET = 0.51288
RADIANCE_SCALING_FACTOR = 0.0244037
REFLECTANCE_SCALING_FACTOR = 0.000781736
MEX:REFLECTANCE_OFFSET = 0.0164293
/* IMAGE OBJECT DEFINITIONS */
OBJECT = IMAGE
  INTERCHANGE_FORMAT = BINARY
  LINES = 34235
  LINE_SAMPLES = 4526
  SAMPLE_TYPE = UNSIGNED_INTEGER
  SAMPLE_BITS = 8
  BANDS = 1
  BAND_STORAGE_TYPE = BAND_SEQUENTIAL
  MAXIMUM = 255
  MEAN = 85.76
  MINIMUM = 1
  STANDARD_DEVIATION = 35.6237
END_OBJECT = IMAGE
/* MAP OBJECT DEFINITIONS */
OBJECT = IMAGE_MAP_PROJECTION
  ^DATA_SET_MAP_PROJECTION_CATALOG= "DSMAP.CAT"
  A_AXIS_RADIUS = 3396.0
  B_AXIS_RADIUS = 3396.0
  C_AXIS_RADIUS = 3396.0
  CENTER_LATITUDE = 0.0
  CENTER_LONGITUDE = 254.0
  COORDINATE_SYSTEM_NAME = PLANETOGRAPHIC
  COORDINATE_SYSTEM_TYPE = "BODY-FIXED ROTATING"
  EASTERNMOST_LONGITUDE = 255.109
  FIRST_STANDARD_PARALLEL = "N/A"
  LINE_FIRST_PIXEL = 1
  LINE_LAST_PIXEL = 34235
  LINE_PROJECTION_OFFSET = -66359.25
  MAP_PROJECTION_ROTATION = 0.0
  MAP_PROJECTION_TYPE = SINUSOIDAL
  MAP_RESOLUTION = 2370.85521546667
  MAP_SCALE = 0.025
  MAXIMUM_LATITUDE = -27.9683
  MINIMUM_LATITUDE = -42.3772
  POSITIVE_LONGITUDE_DIRECTION = EAST
  REFERENCE_LATITUDE = "N/A"
  REFERENCE_LONGITUDE = "N/A"
  SAMPLE_FIRST_PIXEL = 1
  SAMPLE_LAST_PIXEL = 4526
  SAMPLE_PROJECTION_OFFSET = 2224.25
  SECOND_STANDARD_PARALLEL = "N/A"
  WESTERNMOST_LONGITUDE = 252.853
END_OBJECT = IMAGE_MAP_PROJECTION
/* The JPEG2000 image data file associated with this label. */
OBJECT = COMPRESSED_FILE
  FILE_NAME = "HA645_0000_P13.JP2"
  RECORD_TYPE = UNDEFINED
  FILE_RECORDS = UNK
  ENCODING_TYPE = "JP2"
  INTERCHANGE_FORMAT = BINARY
  UNCOMPRESSED_FILE_NAME = "HA645_0000_P13.IMG"
  REQUIRED_STORAGE_BYTES = "154974766"
  ^DESCRIPTION = "JP2INFO.TXT"
END_OBJECT = COMPRESSED_FILE
END
