PDS_VERSION_ID = PDS3
/* FILE DATA ELEMENTS */
RECORD_TYPE = STREAM
/* POINTERS TO DATA OBJECTS */
^COMPRESSED_FILE = "HA645_0000_S23.JP2"
/* IDENTIFICATION DATA ELEMENTS */
DATA_SET_ID = "MEX-M-HRSC-5-REFDR-MAPPROJECTED-V3.0"
DATA_SET_NAME = "MARS EXPRESS HRSC MAP PROJECTED REFDR V3.0"
DETECTOR_ID = MEX_HRSC_S2
EVENT_TYPE = "MARS-REGIONAL-MAPPING-Te-Fl"
INSTRUMENT_HOST_ID = MEX
INSTRUMENT_HOST_NAME = "MARS EXPRESS"
INSTRUMENT_ID = HRSC
INSTRUMENT_NAME = "HIGH RESOLUTION STEREO CAMERA"
MISSION_NAME = "MARS EXPRESS"
MISSION_PHASE_NAME = ME_Phase_25
PROCESSING_LEVEL_ID = 3
PRODUCT_CREATION_TIME = 2016-10-27T21:34:36.000Z
PRODUCT_ID = "HA645_0000_S23.JP2"
RELEASE_ID = 0109
REVISION_ID = 0000
/* QUALITY DATA ELEMENTS */
DATA_QUALITY_ID = 1
DATA_QUALITY_DESC = "Data calculated based on original SPICE kernels"
/* TIME DATA ELEMENTS */
SPACECRAFT_CLOCK_START_COUNT = "1/0284732418.09048"
SPACECRAFT_CLOCK_STOP_COUNT = "1/0284732745.20627"
START_TIME = 2012-05-10T12:20:21.825Z
STOP_TIME = 2012-05-10T12:24:01.323Z
/* ORBITAL DATA ELEMENTS */
ASCENDING_NODE_LONGITUDE = 14.14
MAXIMUM_RESOLUTION = 31.1
FOOTPRINT_POINT_LATITUDE = (-42.479,-42.4741,-42.4634,-42.456, -42.4079,-42.1673,-41.893,-41.4818, -41.0707,-40.6595,-40.2487,-39.838, -39.5641,-39.2906,-39.017,-38.7442, -38.4759,-38.2041,-37.9252,-37.6532, -37.3861,-36.9762,-36.7023,-36.4301, -36.1551,-35.8763,-35.5981,-35.1802, -34.7546,-34.4689,-34.1847,-33.8962, -33.4577,-33.1643,-32.7233,-32.4241, -32.1255,-31.6705,-31.3653,-31.0615, -30.7559,-30.4449,-30.1322,-29.8169, -29.4972,-29.0192,-28.5308,-28.2049, -28.0303,-28.0332,-28.0346,-28.0367, -28.0376,-28.0349,-28.2018,-28.5345, -28.8594,-29.1823,-29.4989,-29.8166, -30.2885,-30.6056,-30.9187,-31.3791, -31.6865,-31.9918,-32.2833,-32.7326, -33.0334,-33.3281,-33.6192,-33.9037, -34.1953,-34.4879,-34.7732,-35.0607, -35.344,-35.6238,-36.0431,-36.459, -36.8679,-37.1408,-37.4133,-37.8197, -38.2244,-38.4939,-38.7659,-39.0391, -39.3129,-39.5869,-39.8611,-40.1357, -40.5467,-40.8209,-41.2328,-41.6451, -41.9203,-42.1949,-42.4374,-42.479)
FOOTPRINT_POINT_LONGITUDE = (254.251,253.985,253.521,253.256, 252.906,252.915,252.924,252.938,252.952 ,252.964,252.976,252.987,252.994, 253.001,253.007,253.013,253.021,253.027 ,253.03,253.035,253.042,253.048,253.051 ,253.055,253.059,253.063,253.066, 253.071,253.075,253.077,253.079,253.081 ,253.083,253.083,253.085,253.085, 253.085,253.084,253.083,253.083,253.082 ,253.081,253.079,253.076,253.074, 253.069,253.064,253.06,253.263,253.731, 253.956,254.18,254.461,254.836,254.989, 254.982,254.977,254.972,254.967,254.962 ,254.954,254.947,254.941,254.933, 254.926,254.92,254.917,254.909,254.901, 254.895,254.889,254.886,254.879,254.87, 254.864,254.857,254.85,254.843,254.833, 254.824,254.813,254.806,254.799,254.79, 254.781,254.775,254.767,254.76,254.752, 254.743,254.735,254.726,254.713,254.705 ,254.691,254.677,254.667,254.657, 254.649,254.251)
ORBIT_NUMBER = 10645
ORBITAL_ECCENTRICITY = 0.577
ORBITAL_INCLINATION = 86.87
ORBITAL_SEMIMAJOR_AXIS = 8782.91
PERIAPSIS_ALTITUDE = 329.41
PERIAPSIS_ARGUMENT_ANGLE = 300.76
PERIAPSIS_TIME = 2012-05-10T12:16:39.000Z
SPACECRAFT_ORIENTATION = (0.0,1.0,0.0)
^MEX_ORIENTATION_DESC = "MEX_ORIENTATION_DESC.TXT"
SPACECRAFT_POINTING_MODE = NADIR
^MEX_POINTING_DESC = "MEX_POINTING_DESC.TXT"
RIGHT_ASCENSION = -1e+32
DECLINATION = -1e+32
OFFSET_ANGLE = -1e+32
SPACECRAFT_SOLAR_DISTANCE = 2.44039e+08
TARGET_NAME = MARS
/* CAMERA DATA ELEMENTS */
DETECTOR_TEMPERATURE = 19.1861
FOCAL_PLANE_TEMPERATURE = 8.5833
INST_CMPRS_NAME = "DISCRETE COSINE TRANSFORMATION (DCT)"
INST_CMPRS_RATIO = 8.36958
INST_CMPRS_QUALITY = 0
INST_CMPRS_QUANTZ_TBL_ID = 0
INSTRUMENT_TEMPERATURE = 11.4379
LENS_TEMPERATURE = 8.7872
MACROPIXEL_SIZE = 2
MISSING_FRAMES = 0
PIXEL_SUBSAMPLING_FLAG = N
SIGNAL_CHAIN_ID = 1
/* RADIOMETRIC DATA ELEMENTS */
BANDWIDTH = 178.0
CENTER_FILTER_WAVELENGTH = 679.0
RADIANCE_OFFSET = 0.488178
RADIANCE_SCALING_FACTOR = 0.0239303
REFLECTANCE_SCALING_FACTOR = 0.000754735
MEX:REFLECTANCE_OFFSET = 0.0153966
/* IMAGE OBJECT DEFINITIONS */
OBJECT = IMAGE
  INTERCHANGE_FORMAT = BINARY
  LINES = 34235
  LINE_SAMPLES = 4526
  SAMPLE_TYPE = UNSIGNED_INTEGER
  SAMPLE_BITS = 8
  BANDS = 1
  BAND_STORAGE_TYPE = BAND_SEQUENTIAL
  MAXIMUM = 255
  MEAN = 81.3497
  MINIMUM = 1
  STANDARD_DEVIATION = 34.8548
END_OBJECT = IMAGE
/* MAP OBJECT DEFINITIONS */
OBJECT = IMAGE_MAP_PROJECTION
  ^DATA_SET_MAP_PROJECTION_CATALOG= "DSMAP.CAT"
  A_AXIS_RADIUS = 3396.0
  B_AXIS_RADIUS = 3396.0
  C_AXIS_RADIUS = 3396.0
  CENTER_LATITUDE = 0.0
  CENTER_LONGITUDE = 254.0
  COORDINATE_SYSTEM_NAME = PLANETOGRAPHIC
  COORDINATE_SYSTEM_TYPE = "BODY-FIXED ROTATING"
  EASTERNMOST_LONGITUDE = 254.989
  FIRST_STANDARD_PARALLEL = "N/A"
  LINE_FIRST_PIXEL = 1
  LINE_LAST_PIXEL = 34235
  LINE_PROJECTION_OFFSET = -66359.25
  MAP_PROJECTION_ROTATION = 0.0
  MAP_PROJECTION_TYPE = SINUSOIDAL
  MAP_RESOLUTION = 2370.85521546667
  MAP_SCALE = 0.025
  MAXIMUM_LATITUDE = -28.0303
  MINIMUM_LATITUDE = -42.479
  POSITIVE_LONGITUDE_DIRECTION = EAST
  REFERENCE_LATITUDE = "N/A"
  REFERENCE_LONGITUDE = "N/A"
  SAMPLE_FIRST_PIXEL = 1
  SAMPLE_LAST_PIXEL = 4526
  SAMPLE_PROJECTION_OFFSET = 2224.25
  SECOND_STANDARD_PARALLEL = "N/A"
  WESTERNMOST_LONGITUDE = 252.906
END_OBJECT = IMAGE_MAP_PROJECTION
/* The JPEG2000 image data file associated with this label. */
OBJECT = COMPRESSED_FILE
  FILE_NAME = "HA645_0000_S23.JP2"
  RECORD_TYPE = UNDEFINED
  FILE_RECORDS = UNK
  ENCODING_TYPE = "JP2"
  INTERCHANGE_FORMAT = BINARY
  UNCOMPRESSED_FILE_NAME = "HA645_0000_S23.IMG"
  REQUIRED_STORAGE_BYTES = "154974766"
  ^DESCRIPTION = "JP2INFO.TXT"
END_OBJECT = COMPRESSED_FILE
END
