PDS_VERSION_ID = PDS3
/* FILE DATA ELEMENTS */
RECORD_TYPE = STREAM
/* POINTERS TO DATA OBJECTS */
^COMPRESSED_FILE = "HA651_0000_P23.JP2"
/* IDENTIFICATION DATA ELEMENTS */
DATA_SET_ID = "MEX-M-HRSC-5-REFDR-MAPPROJECTED-V3.0"
DATA_SET_NAME = "MARS EXPRESS HRSC MAP PROJECTED REFDR V3.0"
DETECTOR_ID = MEX_HRSC_P2
EVENT_TYPE = "MARS-REGIONAL-MAPPING-Im-Fl-Mw"
INSTRUMENT_HOST_ID = MEX
INSTRUMENT_HOST_NAME = "MARS EXPRESS"
INSTRUMENT_ID = HRSC
INSTRUMENT_NAME = "HIGH RESOLUTION STEREO CAMERA"
MISSION_NAME = "MARS EXPRESS"
MISSION_PHASE_NAME = ME_Phase_25
PROCESSING_LEVEL_ID = 3
PRODUCT_CREATION_TIME = 2016-10-27T21:34:36.000Z
PRODUCT_ID = "HA651_0000_P23.JP2"
RELEASE_ID = 0109
REVISION_ID = 0000
/* QUALITY DATA ELEMENTS */
DATA_QUALITY_ID = 1
DATA_QUALITY_DESC = "Data calculated based on original SPICE kernels"
/* TIME DATA ELEMENTS */
SPACECRAFT_CLOCK_START_COUNT = "1/0284883572.08253"
SPACECRAFT_CLOCK_STOP_COUNT = "1/0284883987.06573"
START_TIME = 2012-05-12T06:19:50.114Z
STOP_TIME = 2012-05-12T06:24:08.307Z
/* ORBITAL DATA ELEMENTS */
ASCENDING_NODE_LONGITUDE = 14.03
MAXIMUM_RESOLUTION = 35.6
FOOTPRINT_POINT_LATITUDE = (-33.0785,-33.0641,-33.0196,-32.7483, -32.3467,-31.94,-31.6642,-31.3881, -31.1128,-30.8325,-30.5513,-30.2712, -29.9863,-29.6999,-29.4143,-28.9788, -28.6878,-28.2452,-27.9497,-27.6494, -27.3475,-27.0461,-26.5866,-26.2805, -25.9689,-25.6581,-25.3429,-25.0243, -24.5428,-24.2215,-23.8951,-23.5696, -23.2426,-22.912,-22.5748,-22.065, -21.7233,-21.3776,-21.032,-20.68, -20.1506,-19.7938,-19.4331,-19.0696, -18.7041,-18.335,-17.9634,-17.5887, -17.2105,-17.1868,-17.3001,-17.192, -17.1911,-17.3774,-17.756,-18.1304, -18.5026,-18.8703,-19.2364,-19.5996, -19.9629,-20.3175,-20.8448,-21.1941, -21.5457,-21.8905,-22.2335,-22.735, -23.0699,-23.4019,-23.8927,-24.2238, -24.5463,-25.0279,-25.345,-25.6616, -25.9741,-26.2881,-26.5979,-26.9045, -27.2084,-27.5097,-27.9615,-28.2581, -28.7031,-28.9964,-29.4275,-29.714, -30.0049,-30.2934,-30.5743,-30.8557, -31.2754,-31.5512,-31.8275,-32.102, -32.3727,-32.6438,-33.0484,-33.0785)
FOOTPRINT_POINT_LONGITUDE = (360.505,359.919,359.104,359.102, 359.107,359.108,359.109,359.109,359.109 ,359.109,359.108,359.108,359.107, 359.106,359.105,359.103,359.101,359.098 ,359.095,359.091,359.087,359.084, 359.078,359.074,359.069,359.065,359.059 ,359.052,359.043,359.036,359.029, 359.023,359.018,359.011,359.002,358.987 ,358.977,358.967,358.958,358.946,358.93 ,358.919,358.906,358.894,358.881, 358.868,358.855,358.841,358.827,359.432 ,360.056,360.514,360.873,361.309, 361.304,361.3,361.295,361.291,361.286, 361.281,361.276,361.271,361.265,361.26, 361.253,361.248,361.243,361.236,361.231 ,361.226,361.219,361.212,361.207, 361.198,361.193,361.187,361.181,361.175 ,361.169,361.163,361.157,361.151, 361.142,361.136,361.126,361.12,361.112, 361.105,361.097,361.09,361.084,361.077, 361.066,361.06,361.052,361.045,361.038, 361.031,361.02,360.505)
ORBIT_NUMBER = 10651
ORBITAL_ECCENTRICITY = 0.577
ORBITAL_INCLINATION = 86.88
ORBITAL_SEMIMAJOR_AXIS = 8781.07
PERIAPSIS_ALTITUDE = 330.03
PERIAPSIS_ARGUMENT_ANGLE = 299.74
PERIAPSIS_TIME = 2012-05-12T06:13:16.000Z
SPACECRAFT_ORIENTATION = (0.0,1.0,0.0)
^MEX_ORIENTATION_DESC = "MEX_ORIENTATION_DESC.TXT"
SPACECRAFT_POINTING_MODE = ACROSSTRACK
^MEX_POINTING_DESC = "MEX_POINTING_DESC.TXT"
RIGHT_ASCENSION = -1e+32
DECLINATION = -1e+32
OFFSET_ANGLE = 0.42
SPACECRAFT_SOLAR_DISTANCE = 2.43829e+08
TARGET_NAME = MARS
/* CAMERA DATA ELEMENTS */
DETECTOR_TEMPERATURE = 18.3705
FOCAL_PLANE_TEMPERATURE = 8.3794
INST_CMPRS_NAME = "DISCRETE COSINE TRANSFORMATION (DCT)"
INST_CMPRS_RATIO = 6.6161
INST_CMPRS_QUALITY = 0
INST_CMPRS_QUANTZ_TBL_ID = 0
INSTRUMENT_TEMPERATURE = 11.234
LENS_TEMPERATURE = 8.5833
MACROPIXEL_SIZE = 2
MISSING_FRAMES = 0
PIXEL_SUBSAMPLING_FLAG = N
SIGNAL_CHAIN_ID = 3
/* RADIOMETRIC DATA ELEMENTS */
BANDWIDTH = 177.0
CENTER_FILTER_WAVELENGTH = 676.5
RADIANCE_OFFSET = 0.826401
RADIANCE_SCALING_FACTOR = 0.0211356
REFLECTANCE_SCALING_FACTOR = 0.000666259
MEX:REFLECTANCE_OFFSET = 0.0260507
/* IMAGE OBJECT DEFINITIONS */
OBJECT = IMAGE
  INTERCHANGE_FORMAT = BINARY
  LINES = 37641
  LINE_SAMPLES = 6147
  SAMPLE_TYPE = UNSIGNED_INTEGER
  SAMPLE_BITS = 8
  BANDS = 1
  BAND_STORAGE_TYPE = BAND_SEQUENTIAL
  MAXIMUM = 255
  MEAN = 125.428
  MINIMUM = 1
  STANDARD_DEVIATION = 25.9475
END_OBJECT = IMAGE
/* MAP OBJECT DEFINITIONS */
OBJECT = IMAGE_MAP_PROJECTION
  ^DATA_SET_MAP_PROJECTION_CATALOG= "DSMAP.CAT"
  A_AXIS_RADIUS = 3396.0
  B_AXIS_RADIUS = 3396.0
  C_AXIS_RADIUS = 3396.0
  CENTER_LATITUDE = 0.0
  CENTER_LONGITUDE = 0.0
  COORDINATE_SYSTEM_NAME = PLANETOGRAPHIC
  COORDINATE_SYSTEM_TYPE = "BODY-FIXED ROTATING"
  EASTERNMOST_LONGITUDE = 1.309
  FIRST_STANDARD_PARALLEL = "N/A"
  LINE_FIRST_PIXEL = 1
  LINE_LAST_PIXEL = 37641
  LINE_PROJECTION_OFFSET = -40708.25
  MAP_PROJECTION_ROTATION = 0.0
  MAP_PROJECTION_TYPE = SINUSOIDAL
  MAP_RESOLUTION = 2370.85521546667
  MAP_SCALE = 0.025
  MAXIMUM_LATITUDE = -17.1868
  MINIMUM_LATITUDE = -33.0785
  POSITIVE_LONGITUDE_DIRECTION = EAST
  REFERENCE_LATITUDE = "N/A"
  REFERENCE_LONGITUDE = "N/A"
  SAMPLE_FIRST_PIXEL = 1
  SAMPLE_LAST_PIXEL = 6147
  SAMPLE_PROJECTION_OFFSET = 2943.75
  SECOND_STANDARD_PARALLEL = "N/A"
  WESTERNMOST_LONGITUDE = -1.173
END_OBJECT = IMAGE_MAP_PROJECTION
/* The JPEG2000 image data file associated with this label. */
OBJECT = COMPRESSED_FILE
  FILE_NAME = "HA651_0000_P23.JP2"
  RECORD_TYPE = UNDEFINED
  FILE_RECORDS = UNK
  ENCODING_TYPE = "JP2"
  INTERCHANGE_FORMAT = BINARY
  UNCOMPRESSED_FILE_NAME = "HA651_0000_P23.IMG"
  REQUIRED_STORAGE_BYTES = "231409962"
  ^DESCRIPTION = "JP2INFO.TXT"
END_OBJECT = COMPRESSED_FILE
END
