PDS_VERSION_ID = PDS3
/* FILE DATA ELEMENTS */
RECORD_TYPE = STREAM
/* POINTERS TO DATA OBJECTS */
^COMPRESSED_FILE = "HA651_0000_S23.JP2"
/* IDENTIFICATION DATA ELEMENTS */
DATA_SET_ID = "MEX-M-HRSC-5-REFDR-MAPPROJECTED-V3.0"
DATA_SET_NAME = "MARS EXPRESS HRSC MAP PROJECTED REFDR V3.0"
DETECTOR_ID = MEX_HRSC_S2
EVENT_TYPE = "MARS-REGIONAL-MAPPING-Im-Fl-Mw"
INSTRUMENT_HOST_ID = MEX
INSTRUMENT_HOST_NAME = "MARS EXPRESS"
INSTRUMENT_ID = HRSC
INSTRUMENT_NAME = "HIGH RESOLUTION STEREO CAMERA"
MISSION_NAME = "MARS EXPRESS"
MISSION_PHASE_NAME = ME_Phase_25
PROCESSING_LEVEL_ID = 3
PRODUCT_CREATION_TIME = 2016-10-27T21:34:36.000Z
PRODUCT_ID = "HA651_0000_S23.JP2"
RELEASE_ID = 0109
REVISION_ID = 0000
/* QUALITY DATA ELEMENTS */
DATA_QUALITY_ID = 1
DATA_QUALITY_DESC = "Data calculated based on original SPICE kernels"
/* TIME DATA ELEMENTS */
SPACECRAFT_CLOCK_START_COUNT = "1/0284883572.08253"
SPACECRAFT_CLOCK_STOP_COUNT = "1/0284883987.06573"
START_TIME = 2012-05-12T06:19:35.873Z
STOP_TIME = 2012-05-12T06:23:45.749Z
/* ORBITAL DATA ELEMENTS */
ASCENDING_NODE_LONGITUDE = 14.03
MAXIMUM_RESOLUTION = 36
FOOTPRINT_POINT_LATITUDE = (-33.1026,-33.0842,-33.0612,-32.7473, -32.2139,-31.9441,-31.6689,-31.3933, -31.1185,-30.8402,-30.5589,-30.2793, -29.9967,-29.7101,-29.4246,-29.1385, -28.846,-28.555,-28.2615,-27.8146, -27.3647,-27.0618,-26.7595,-26.2982, -25.9906,-25.6785,-25.3652,-25.0459, -24.5664,-24.0817,-23.7577,-23.271, -22.7727,-22.4367,-22.0929,-21.7517, -21.4064,-21.0624,-20.7137,-20.1811, -19.8251,-19.4633,-18.9181,-18.5519, -18.1819,-17.8099,-17.4342,-17.1864, -17.1934,-17.1978,-17.205,-17.2067, -17.2063,-17.5857,-17.9616,-18.3346, -18.7006,-19.0712,-19.4333,-19.8011, -20.1523,-20.6832,-21.2068,-21.5612, -21.9067,-22.2468,-22.5795,-22.9145, -23.4127,-23.7421,-24.0656,-24.3878, -24.8756,-25.3528,-25.6667,-25.9816, -26.2939,-26.7586,-27.0602,-27.3637, -27.6629,-28.1123,-28.4099,-28.7032, -28.998,-29.2802,-29.5664,-29.8541, -30.1514,-30.431,-30.7118,-31.1323, -31.4082,-31.6831,-31.9588,-32.2295, -32.4993,-32.7694,-33.0397,-33.1026)
FOOTPRINT_POINT_LONGITUDE = (360.571,359.995,359.414,359.119, 359.125,359.125,359.126,359.127,359.127 ,359.128,359.127,359.127,359.127, 359.126,359.125,359.124,359.122,359.121 ,359.119,359.115,359.11,359.107,359.103 ,359.097,359.093,359.089,359.084, 359.078,359.069,359.06,359.053,359.046, 359.035,359.027,359.017,359.007,358.998 ,358.989,358.98,358.963,358.952,358.94, 358.923,358.91,358.898,358.885,358.872, 359.264,359.617,359.945,360.459,360.832 ,361.133,361.277,361.273,361.269, 361.265,361.261,361.257,361.251,361.248 ,361.241,361.235,361.229,361.224, 361.219,361.215,361.21,361.203,361.198, 361.194,361.189,361.18,361.172,361.167, 361.161,361.155,361.147,361.141,361.135 ,361.13,361.121,361.115,361.109,361.102 ,361.098,361.092,361.085,361.077, 361.071,361.064,361.054,361.048,361.041 ,361.034,361.027,361.02,361.013,361.006 ,360.571)
ORBIT_NUMBER = 10651
ORBITAL_ECCENTRICITY = 0.577
ORBITAL_INCLINATION = 86.88
ORBITAL_SEMIMAJOR_AXIS = 8781.07
PERIAPSIS_ALTITUDE = 330.03
PERIAPSIS_ARGUMENT_ANGLE = 299.74
PERIAPSIS_TIME = 2012-05-12T06:13:16.000Z
SPACECRAFT_ORIENTATION = (0.0,1.0,0.0)
^MEX_ORIENTATION_DESC = "MEX_ORIENTATION_DESC.TXT"
SPACECRAFT_POINTING_MODE = ACROSSTRACK
^MEX_POINTING_DESC = "MEX_POINTING_DESC.TXT"
RIGHT_ASCENSION = -1e+32
DECLINATION = -1e+32
OFFSET_ANGLE = 0.42
SPACECRAFT_SOLAR_DISTANCE = 2.43829e+08
TARGET_NAME = MARS
/* CAMERA DATA ELEMENTS */
DETECTOR_TEMPERATURE = 18.3705
FOCAL_PLANE_TEMPERATURE = 8.3794
INST_CMPRS_NAME = "DISCRETE COSINE TRANSFORMATION (DCT)"
INST_CMPRS_RATIO = 9.2838
INST_CMPRS_QUALITY = 0
INST_CMPRS_QUANTZ_TBL_ID = 0
INSTRUMENT_TEMPERATURE = 11.234
LENS_TEMPERATURE = 8.5833
MACROPIXEL_SIZE = 2
MISSING_FRAMES = 0
PIXEL_SUBSAMPLING_FLAG = N
SIGNAL_CHAIN_ID = 1
/* RADIOMETRIC DATA ELEMENTS */
BANDWIDTH = 178.0
CENTER_FILTER_WAVELENGTH = 679.0
RADIANCE_OFFSET = 0.73931
RADIANCE_SCALING_FACTOR = 0.0226824
REFLECTANCE_SCALING_FACTOR = 0.000714147
MEX:REFLECTANCE_OFFSET = 0.0232769
/* IMAGE OBJECT DEFINITIONS */
OBJECT = IMAGE
  INTERCHANGE_FORMAT = BINARY
  LINES = 37641
  LINE_SAMPLES = 6147
  SAMPLE_TYPE = UNSIGNED_INTEGER
  SAMPLE_BITS = 8
  BANDS = 1
  BAND_STORAGE_TYPE = BAND_SEQUENTIAL
  MAXIMUM = 255
  MEAN = 129.083
  MINIMUM = 1
  STANDARD_DEVIATION = 26.449
END_OBJECT = IMAGE
/* MAP OBJECT DEFINITIONS */
OBJECT = IMAGE_MAP_PROJECTION
  ^DATA_SET_MAP_PROJECTION_CATALOG= "DSMAP.CAT"
  A_AXIS_RADIUS = 3396.0
  B_AXIS_RADIUS = 3396.0
  C_AXIS_RADIUS = 3396.0
  CENTER_LATITUDE = 0.0
  CENTER_LONGITUDE = 0.0
  COORDINATE_SYSTEM_NAME = PLANETOGRAPHIC
  COORDINATE_SYSTEM_TYPE = "BODY-FIXED ROTATING"
  EASTERNMOST_LONGITUDE = 1.277
  FIRST_STANDARD_PARALLEL = "N/A"
  LINE_FIRST_PIXEL = 1
  LINE_LAST_PIXEL = 37641
  LINE_PROJECTION_OFFSET = -40708.25
  MAP_PROJECTION_ROTATION = 0.0
  MAP_PROJECTION_TYPE = SINUSOIDAL
  MAP_RESOLUTION = 2370.85521546667
  MAP_SCALE = 0.025
  MAXIMUM_LATITUDE = -17.1864
  MINIMUM_LATITUDE = -33.1026
  POSITIVE_LONGITUDE_DIRECTION = EAST
  REFERENCE_LATITUDE = "N/A"
  REFERENCE_LONGITUDE = "N/A"
  SAMPLE_FIRST_PIXEL = 1
  SAMPLE_LAST_PIXEL = 6147
  SAMPLE_PROJECTION_OFFSET = 2943.75
  SECOND_STANDARD_PARALLEL = "N/A"
  WESTERNMOST_LONGITUDE = -1.128
END_OBJECT = IMAGE_MAP_PROJECTION
/* The JPEG2000 image data file associated with this label. */
OBJECT = COMPRESSED_FILE
  FILE_NAME = "HA651_0000_S23.JP2"
  RECORD_TYPE = UNDEFINED
  FILE_RECORDS = UNK
  ENCODING_TYPE = "JP2"
  INTERCHANGE_FORMAT = BINARY
  UNCOMPRESSED_FILE_NAME = "HA651_0000_S23.IMG"
  REQUIRED_STORAGE_BYTES = "231409962"
  ^DESCRIPTION = "JP2INFO.TXT"
END_OBJECT = COMPRESSED_FILE
END
