PDS_VERSION_ID = PDS3
/* FILE DATA ELEMENTS */
RECORD_TYPE = STREAM
/* POINTERS TO DATA OBJECTS */
^COMPRESSED_FILE = "HA656_0000_P23.JP2"
/* IDENTIFICATION DATA ELEMENTS */
DATA_SET_ID = "MEX-M-HRSC-5-REFDR-MAPPROJECTED-V3.0"
DATA_SET_NAME = "MARS EXPRESS HRSC MAP PROJECTED REFDR V3.0"
DETECTOR_ID = MEX_HRSC_P2
EVENT_TYPE = "MARS-REGIONAL-MAPPING-Te-Im-Fl"
INSTRUMENT_HOST_ID = MEX
INSTRUMENT_HOST_NAME = "MARS EXPRESS"
INSTRUMENT_ID = HRSC
INSTRUMENT_NAME = "HIGH RESOLUTION STEREO CAMERA"
MISSION_NAME = "MARS EXPRESS"
MISSION_PHASE_NAME = ME_Phase_25
PROCESSING_LEVEL_ID = 3
PRODUCT_CREATION_TIME = 2016-10-27T21:34:36.000Z
PRODUCT_ID = "HA656_0000_P23.JP2"
RELEASE_ID = 0109
REVISION_ID = 0000
/* QUALITY DATA ELEMENTS */
DATA_QUALITY_ID = 1
DATA_QUALITY_DESC = "Data calculated based on original SPICE kernels"
/* TIME DATA ELEMENTS */
SPACECRAFT_CLOCK_START_COUNT = "1/0285009334.09061"
SPACECRAFT_CLOCK_STOP_COUNT = "1/0285009627.34427"
START_TIME = 2012-05-13T17:15:50.711Z
STOP_TIME = 2012-05-13T17:18:48.847Z
/* ORBITAL DATA ELEMENTS */
ASCENDING_NODE_LONGITUDE = 13.93
MAXIMUM_RESOLUTION = 34.2
FOOTPRINT_POINT_LATITUDE = (-38.3538,-38.3423,-38.3298,-38.3162, -38.3016,-38.2858,-38.269,-38.0393, -37.8346,-37.4265,-37.0191,-36.8113, -36.6029,-36.2909,-36.0826,-35.7667, -35.4489,-35.2358,-35.0232,-34.8092, -34.5918,-34.3748,-34.158,-33.9414, -33.7208,-33.4992,-33.2781,-33.0571, -32.8335,-32.6082,-32.3815,-32.1563, -31.928,-31.6972,-31.4674,-31.2374, -30.8862,-30.6517,-30.4184,-30.1806, -29.9417,-29.5837,-29.22,-28.9773, -28.7362,-28.491,-28.2455,-27.9977, -27.7461,-27.4939,-27.2424,-26.9867, -26.9855,-26.9954,-27.006,-27.0161, -27.0247,-27.0359,-27.292,-27.5446, -27.7957,-28.0475,-28.2949,-28.5425, -28.9124,-29.1557,-29.3992,-29.643, -29.8831,-30.1224,-30.4791,-30.7135, -30.9482,-31.3001,-31.5309,-31.7613, -32.105,-32.3306,-32.5567,-32.7831, -33.1212,-33.4604,-33.6815,-34.0131, -34.2298,-34.5561,-34.7735,-35.0964, -35.3086,-35.6281,-35.8413,-36.0531, -36.2614,-36.47,-36.6785,-36.8874, -37.2995,-37.6055,-38.0139,-38.3538)
FOOTPRINT_POINT_LONGITUDE = (209.133,208.852,208.569,208.284, 207.996,207.706,207.412,207.331,207.336 ,207.348,207.359,207.364,207.369, 207.377,207.382,207.388,207.396,207.4, 207.404,207.407,207.411,207.415,207.418 ,207.422,207.425,207.428,207.431, 207.434,207.437,207.44,207.441,207.443, 207.445,207.446,207.447,207.448,207.449 ,207.45,207.451,207.451,207.451,207.451 ,207.45,207.449,207.45,207.451,207.451, 207.449,207.447,207.444,207.442,207.439 ,207.816,208.068,208.42,208.771,209.098 ,209.573,209.567,209.561,209.555, 209.549,209.542,209.536,209.527,209.52, 209.514,209.507,209.5,209.494,209.484, 209.477,209.47,209.46,209.453,209.446, 209.435,209.428,209.421,209.413,209.402 ,209.391,209.384,209.372,209.364, 209.353,209.345,209.333,209.325,209.313 ,209.305,209.297,209.288,209.28,209.272 ,209.263,209.246,209.233,209.216, 209.133)
ORBIT_NUMBER = 10656
ORBITAL_ECCENTRICITY = 0.577
ORBITAL_INCLINATION = 86.89
ORBITAL_SEMIMAJOR_AXIS = 8778.3
PERIAPSIS_ALTITUDE = 329.35
PERIAPSIS_ARGUMENT_ANGLE = 298.91
PERIAPSIS_TIME = 2012-05-13T17:10:26.000Z
SPACECRAFT_ORIENTATION = (0.0,1.0,0.0)
^MEX_ORIENTATION_DESC = "MEX_ORIENTATION_DESC.TXT"
SPACECRAFT_POINTING_MODE = ACROSSTRACK
^MEX_POINTING_DESC = "MEX_POINTING_DESC.TXT"
RIGHT_ASCENSION = -1e+32
DECLINATION = -1e+32
OFFSET_ANGLE = 0.8
SPACECRAFT_SOLAR_DISTANCE = 2.43652e+08
TARGET_NAME = MARS
/* CAMERA DATA ELEMENTS */
DETECTOR_TEMPERATURE = 18.7783
FOCAL_PLANE_TEMPERATURE = 8.5833
INST_CMPRS_NAME = "DISCRETE COSINE TRANSFORMATION (DCT)"
INST_CMPRS_RATIO = 5.02325
INST_CMPRS_QUALITY = 0
INST_CMPRS_QUANTZ_TBL_ID = 0
INSTRUMENT_TEMPERATURE = 11.4379
LENS_TEMPERATURE = 8.9911
MACROPIXEL_SIZE = 2
MISSING_FRAMES = 0
PIXEL_SUBSAMPLING_FLAG = N
SIGNAL_CHAIN_ID = 3
/* RADIOMETRIC DATA ELEMENTS */
BANDWIDTH = 177.0
CENTER_FILTER_WAVELENGTH = 676.5
RADIANCE_OFFSET = 0.634372
RADIANCE_SCALING_FACTOR = 0.02001
REFLECTANCE_SCALING_FACTOR = 0.000629857
MEX:REFLECTANCE_OFFSET = 0.0199682
/* IMAGE OBJECT DEFINITIONS */
OBJECT = IMAGE
  INTERCHANGE_FORMAT = BINARY
  LINES = 26828
  LINE_SAMPLES = 4915
  SAMPLE_TYPE = UNSIGNED_INTEGER
  SAMPLE_BITS = 8
  BANDS = 1
  BAND_STORAGE_TYPE = BAND_SEQUENTIAL
  MAXIMUM = 255
  MEAN = 89.464
  MINIMUM = 1
  STANDARD_DEVIATION = 31.0888
END_OBJECT = IMAGE
/* MAP OBJECT DEFINITIONS */
OBJECT = IMAGE_MAP_PROJECTION
  ^DATA_SET_MAP_PROJECTION_CATALOG= "DSMAP.CAT"
  A_AXIS_RADIUS = 3396.0
  B_AXIS_RADIUS = 3396.0
  C_AXIS_RADIUS = 3396.0
  CENTER_LATITUDE = 0.0
  CENTER_LONGITUDE = 208.0
  COORDINATE_SYSTEM_NAME = PLANETOGRAPHIC
  COORDINATE_SYSTEM_TYPE = "BODY-FIXED ROTATING"
  EASTERNMOST_LONGITUDE = 209.573
  FIRST_STANDARD_PARALLEL = "N/A"
  LINE_FIRST_PIXEL = 1
  LINE_LAST_PIXEL = 26828
  LINE_PROJECTION_OFFSET = -63973.25
  MAP_PROJECTION_ROTATION = 0.0
  MAP_PROJECTION_TYPE = SINUSOIDAL
  MAP_RESOLUTION = 2370.85521546667
  MAP_SCALE = 0.025
  MAXIMUM_LATITUDE = -26.9855
  MINIMUM_LATITUDE = -38.3538
  POSITIVE_LONGITUDE_DIRECTION = EAST
  REFERENCE_LATITUDE = "N/A"
  REFERENCE_LONGITUDE = "N/A"
  SAMPLE_FIRST_PIXEL = 1
  SAMPLE_LAST_PIXEL = 4915
  SAMPLE_PROJECTION_OFFSET = 1457.75
  SECOND_STANDARD_PARALLEL = "N/A"
  WESTERNMOST_LONGITUDE = 207.331
END_OBJECT = IMAGE_MAP_PROJECTION
/* The JPEG2000 image data file associated with this label. */
OBJECT = COMPRESSED_FILE
  FILE_NAME = "HA656_0000_P23.JP2"
  RECORD_TYPE = UNDEFINED
  FILE_RECORDS = UNK
  ENCODING_TYPE = "JP2"
  INTERCHANGE_FORMAT = BINARY
  UNCOMPRESSED_FILE_NAME = "HA656_0000_P23.IMG"
  REQUIRED_STORAGE_BYTES = "131884195"
  ^DESCRIPTION = "JP2INFO.TXT"
END_OBJECT = COMPRESSED_FILE
END
