PDS_VERSION_ID = PDS3
/* FILE DATA ELEMENTS */
RECORD_TYPE = STREAM
/* POINTERS TO DATA OBJECTS */
^COMPRESSED_FILE = "HA658_0000_GR3.JP2"
/* IDENTIFICATION DATA ELEMENTS */
DATA_SET_ID = "MEX-M-HRSC-5-REFDR-MAPPROJECTED-V3.0"
DATA_SET_NAME = "MARS EXPRESS HRSC MAP PROJECTED REFDR V3.0"
DETECTOR_ID = MEX_HRSC_GREEN
EVENT_TYPE = "MARS-CLOUD-VARIABLE-At"
INSTRUMENT_HOST_ID = MEX
INSTRUMENT_HOST_NAME = "MARS EXPRESS"
INSTRUMENT_ID = HRSC
INSTRUMENT_NAME = "HIGH RESOLUTION STEREO CAMERA"
MISSION_NAME = "MARS EXPRESS"
MISSION_PHASE_NAME = ME_Phase_25
PROCESSING_LEVEL_ID = 3
PRODUCT_CREATION_TIME = 2016-10-27T21:34:36.000Z
PRODUCT_ID = "HA658_0000_GR3.JP2"
RELEASE_ID = 0109
REVISION_ID = 0000
/* QUALITY DATA ELEMENTS */
DATA_QUALITY_ID = 1
DATA_QUALITY_DESC = "Data calculated based on original SPICE kernels"
/* TIME DATA ELEMENTS */
SPACECRAFT_CLOCK_START_COUNT = "1/0285059956.08248"
SPACECRAFT_CLOCK_STOP_COUNT = "1/0285061043.10920"
START_TIME = 2012-05-14T07:20:26.703Z
STOP_TIME = 2012-05-14T07:37:25.006Z
/* ORBITAL DATA ELEMENTS */
ASCENDING_NODE_LONGITUDE = 13.9
MAXIMUM_RESOLUTION = 110.4
FOOTPRINT_POINT_LATITUDE = (-20.7305,-20.7423,-20.2069,-19.1344, -18.0736,-17.0253,-15.9889,-14.9643, -13.9518,-12.9515,-11.954,-10.9779, -10.0132,-9.05996,-8.11992,-7.19021, -6.26416,-5.35849,-4.46447,-3.5817, -2.71146,-1.85047,-1.00123,-0.163109, 0.664038,1.48091,2.28677,3.08206,3.8657 ,4.64162,5.40611,6.16054,6.90543, 7.64062,8.36597,9.08162,9.78755,10.4848 ,11.1737,11.853,12.5237,13.1858,13.8392 ,14.4824,15.1205,16.3663,17.5863, 18.7733,19.7605,19.85,19.9436,20.0125, 20.0989,20.1531,18.966,17.7498,16.5027, 15.224,14.5724,13.9127,13.2444,12.5666, 11.8826,11.1887,10.4857,9.77406,9.05306 ,8.3227,7.5832,6.83357,6.0748,5.30635, 4.52761,3.73879,2.93972,2.13058,1.31125 ,0.481178,-0.359678,-1.21096,-2.07331, -2.94644,-3.8306,-4.72585,-5.63241, -7.02351,-7.95918,-8.90635,-9.86583, -10.835,-11.8166,-12.82,-13.8262, -14.8432,-15.8726,-16.9142,-17.9673, -19.0322,-20.109,-20.7305)
FOOTPRINT_POINT_LONGITUDE = (365.502,364.382,363.61,363.565,363.518 ,363.468,363.415,363.361,363.305, 363.246,363.184,363.121,363.057,362.993 ,362.923,362.855,362.783,362.711, 362.636,362.561,362.481,362.404,362.324 ,362.243,362.16,362.077,361.991,361.905 ,361.814,361.728,361.637,361.546, 361.453,361.36,361.265,361.169,361.071, 360.973,360.874,360.774,360.673,360.571 ,360.468,360.361,360.258,360.04,359.827 ,359.606,360.371,361.531,362.904, 364.061,365.802,367.213,367.147,367.082 ,367.021,366.964,366.936,366.909, 366.883,366.86,366.832,366.808,366.784, 366.76,366.738,366.716,366.694,366.674, 366.654,366.634,366.615,366.597,366.579 ,366.562,366.544,366.528,366.512, 366.495,366.48,366.464,366.449,366.433, 366.418,366.398,366.384,366.37,366.358, 366.341,366.326,366.312,366.299,366.283 ,366.268,366.254,366.239,366.223, 366.207,365.502)
ORBIT_NUMBER = 10658
ORBITAL_ECCENTRICITY = 0.577
ORBITAL_INCLINATION = 86.88
ORBITAL_SEMIMAJOR_AXIS = 8779.55
PERIAPSIS_ALTITUDE = 329.94
PERIAPSIS_ARGUMENT_ANGLE = 298.56
PERIAPSIS_TIME = 2012-05-14T07:09:18.000Z
SPACECRAFT_ORIENTATION = (0.0,1.0,0.0)
^MEX_ORIENTATION_DESC = "MEX_ORIENTATION_DESC.TXT"
SPACECRAFT_POINTING_MODE = NADIR
^MEX_POINTING_DESC = "MEX_POINTING_DESC.TXT"
RIGHT_ASCENSION = -1e+32
DECLINATION = -1e+32
OFFSET_ANGLE = -1e+32
SPACECRAFT_SOLAR_DISTANCE = 2.4358e+08
TARGET_NAME = MARS
/* CAMERA DATA ELEMENTS */
DETECTOR_TEMPERATURE = 18.1666
FOCAL_PLANE_TEMPERATURE = 8.3794
INST_CMPRS_NAME = "DISCRETE COSINE TRANSFORMATION (DCT)"
INST_CMPRS_RATIO = 19.458
INST_CMPRS_QUALITY = 0
INST_CMPRS_QUANTZ_TBL_ID = 0
INSTRUMENT_TEMPERATURE = 11.234
LENS_TEMPERATURE = 8.5833
MACROPIXEL_SIZE = 4
MISSING_FRAMES = 2
PIXEL_SUBSAMPLING_FLAG = N
SIGNAL_CHAIN_ID = 2
/* RADIOMETRIC DATA ELEMENTS */
BANDWIDTH = 88.0
CENTER_FILTER_WAVELENGTH = 538.0
RADIANCE_OFFSET = 0.772634
RADIANCE_SCALING_FACTOR = 0.00833233
REFLECTANCE_SCALING_FACTOR = 0.000425633
MEX:REFLECTANCE_OFFSET = 0.0394678
/* IMAGE OBJECT DEFINITIONS */
OBJECT = IMAGE
  INTERCHANGE_FORMAT = BINARY
  LINES = 24244
  LINE_SAMPLES = 3964
  SAMPLE_TYPE = UNSIGNED_INTEGER
  SAMPLE_BITS = 8
  BANDS = 1
  BAND_STORAGE_TYPE = BAND_SEQUENTIAL
  MAXIMUM = 255
  MEAN = 134.983
  MINIMUM = 1
  STANDARD_DEVIATION = 44.5319
END_OBJECT = IMAGE
/* MAP OBJECT DEFINITIONS */
OBJECT = IMAGE_MAP_PROJECTION
  ^DATA_SET_MAP_PROJECTION_CATALOG= "DSMAP.CAT"
  A_AXIS_RADIUS = 3396.0
  B_AXIS_RADIUS = 3396.0
  C_AXIS_RADIUS = 3396.0
  CENTER_LATITUDE = 0.0
  CENTER_LONGITUDE = 4.0
  COORDINATE_SYSTEM_NAME = PLANETOGRAPHIC
  COORDINATE_SYSTEM_TYPE = "BODY-FIXED ROTATING"
  EASTERNMOST_LONGITUDE = 7.213
  FIRST_STANDARD_PARALLEL = "N/A"
  LINE_FIRST_PIXEL = 1
  LINE_LAST_PIXEL = 24244
  LINE_PROJECTION_OFFSET = 11946.0
  MAP_PROJECTION_ROTATION = 0.0
  MAP_PROJECTION_TYPE = SINUSOIDAL
  MAP_RESOLUTION = 592.713803866667
  MAP_SCALE = 0.1
  MAXIMUM_LATITUDE = 20.1531
  MINIMUM_LATITUDE = -20.7423
  POSITIVE_LONGITUDE_DIRECTION = EAST
  REFERENCE_LATITUDE = "N/A"
  REFERENCE_LONGITUDE = "N/A"
  SAMPLE_FIRST_PIXEL = 1
  SAMPLE_LAST_PIXEL = 3964
  SAMPLE_PROJECTION_OFFSET = 2351.0
  SECOND_STANDARD_PARALLEL = "N/A"
  WESTERNMOST_LONGITUDE = -0.394
END_OBJECT = IMAGE_MAP_PROJECTION
/* The JPEG2000 image data file associated with this label. */
OBJECT = COMPRESSED_FILE
  FILE_NAME = "HA658_0000_GR3.JP2"
  RECORD_TYPE = UNDEFINED
  FILE_RECORDS = UNK
  ENCODING_TYPE = "JP2"
  INTERCHANGE_FORMAT = BINARY
  UNCOMPRESSED_FILE_NAME = "HA658_0000_GR3.IMG"
  REQUIRED_STORAGE_BYTES = "96127000"
  ^DESCRIPTION = "JP2INFO.TXT"
END_OBJECT = COMPRESSED_FILE
END
