PDS_VERSION_ID = PDS3
/* FILE DATA ELEMENTS */
RECORD_TYPE = STREAM
/* POINTERS TO DATA OBJECTS */
^COMPRESSED_FILE = "HA659_0000_GR3.JP2"
/* IDENTIFICATION DATA ELEMENTS */
DATA_SET_ID = "MEX-M-HRSC-5-REFDR-MAPPROJECTED-V3.0"
DATA_SET_NAME = "MARS EXPRESS HRSC MAP PROJECTED REFDR V3.0"
DETECTOR_ID = MEX_HRSC_GREEN
EVENT_TYPE = "MARS-CLOUD-VARIABLE-At"
INSTRUMENT_HOST_ID = MEX
INSTRUMENT_HOST_NAME = "MARS EXPRESS"
INSTRUMENT_ID = HRSC
INSTRUMENT_NAME = "HIGH RESOLUTION STEREO CAMERA"
MISSION_NAME = "MARS EXPRESS"
MISSION_PHASE_NAME = ME_Phase_25
PROCESSING_LEVEL_ID = 3
PRODUCT_CREATION_TIME = 2016-10-27T21:34:36.000Z
PRODUCT_ID = "HA659_0000_GR3.JP2"
RELEASE_ID = 0109
REVISION_ID = 0000
/* QUALITY DATA ELEMENTS */
DATA_QUALITY_ID = 1
DATA_QUALITY_DESC = "Data calculated based on original SPICE kernels"
/* TIME DATA ELEMENTS */
SPACECRAFT_CLOCK_START_COUNT = "1/0285085094.09083"
SPACECRAFT_CLOCK_STOP_COUNT = "1/0285086217.25936"
START_TIME = 2012-05-14T14:19:20.647Z
STOP_TIME = 2012-05-14T14:36:59.211Z
/* ORBITAL DATA ELEMENTS */
ASCENDING_NODE_LONGITUDE = 13.88
MAXIMUM_RESOLUTION = 103.9
FOOTPRINT_POINT_LATITUDE = (-22.7853,-22.7917,-22.2183,-21.0819, -19.9581,-18.2878,-17.1961,-16.1175, -15.0519,-13.9996,-12.9606,-11.9343, -10.9209,-9.92098,-8.9339,-7.95901, -6.99842,-6.05037,-5.11218,-4.18529, -3.27362,-2.37384,-1.48644,-0.611127, 0.252774,1.11193,1.95285,2.78238, 3.60059,4.40775,5.20381,5.98901,6.76367 ,7.52763,8.28137,9.02489,9.75834, 10.4819,11.1971,11.9023,12.5983,13.2838 ,13.96,14.6265,15.9327,17.2041,18.4435, 19.651,19.7531,19.8449,19.9268,19.9909, 20.0593,20.1142,20.1655,18.9344,17.6713 ,16.3752,15.0449,14.3667,13.6796, 12.9834,12.278,11.5633,10.8391,10.1051, 9.36136,8.60775,7.84407,7.07012,6.28581 ,5.49096,4.68542,3.86908,3.04172, 2.20335,1.35373,0.051192,-0.827182, -1.71651,-2.61753,-3.53071,-4.4561, -5.39477,-6.34607,-7.31112,-8.77738, -9.76705,-10.7735,-11.7926,-12.826, -13.8693,-14.927,-15.9972,-17.0805, -18.1766,-19.8534,-20.9812,-22.1216, -22.7853)
FOOTPRINT_POINT_LONGITUDE = (263.246,262.491,261.441,261.399, 261.355,261.284,261.234,261.181,261.126 ,261.068,261.007,260.944,260.879, 260.811,260.742,260.671,260.596,260.519 ,260.445,260.372,260.291,260.21,260.126 ,260.041,259.955,259.867,259.779, 259.689,259.598,259.506,259.412,259.317 ,259.221,259.123,259.024,258.924, 258.823,258.721,258.621,258.518,258.415 ,258.309,258.201,258.091,257.868,257.64 ,257.41,257.177,257.89,259.05,260.206, 261.217,262.448,263.61,264.948,264.879, 264.813,264.751,264.692,264.663,264.635 ,264.608,264.582,264.556,264.531, 264.507,264.483,264.46,264.438,264.416, 264.395,264.375,264.355,264.336,264.317 ,264.299,264.281,264.255,264.239, 264.221,264.203,264.187,264.171,264.157 ,264.145,264.136,264.112,264.089, 264.074,264.06,264.049,264.032,264.018, 264.003,263.988,263.973,263.95,263.933, 263.916,263.246)
ORBIT_NUMBER = 10659
ORBITAL_ECCENTRICITY = 0.577
ORBITAL_INCLINATION = 86.87
ORBITAL_SEMIMAJOR_AXIS = 8779.2
PERIAPSIS_ALTITUDE = 329.35
PERIAPSIS_ARGUMENT_ANGLE = 298.39
PERIAPSIS_TIME = 2012-05-14T14:08:47.000Z
SPACECRAFT_ORIENTATION = (0.0,1.0,0.0)
^MEX_ORIENTATION_DESC = "MEX_ORIENTATION_DESC.TXT"
SPACECRAFT_POINTING_MODE = NADIR
^MEX_POINTING_DESC = "MEX_POINTING_DESC.TXT"
RIGHT_ASCENSION = -1e+32
DECLINATION = -1e+32
OFFSET_ANGLE = -1e+32
SPACECRAFT_SOLAR_DISTANCE = 2.43544e+08
TARGET_NAME = MARS
/* CAMERA DATA ELEMENTS */
DETECTOR_TEMPERATURE = 17.9627
FOCAL_PLANE_TEMPERATURE = 8.3794
INST_CMPRS_NAME = "DISCRETE COSINE TRANSFORMATION (DCT)"
INST_CMPRS_RATIO = 19.4671
INST_CMPRS_QUALITY = 0
INST_CMPRS_QUANTZ_TBL_ID = 0
INSTRUMENT_TEMPERATURE = 10.8262
LENS_TEMPERATURE = 8.7872
MACROPIXEL_SIZE = 4
MISSING_FRAMES = 2
PIXEL_SUBSAMPLING_FLAG = N
SIGNAL_CHAIN_ID = 2
/* RADIOMETRIC DATA ELEMENTS */
BANDWIDTH = 88.0
CENTER_FILTER_WAVELENGTH = 538.0
RADIANCE_OFFSET = 0.611661
RADIANCE_SCALING_FACTOR = 0.0121433
REFLECTANCE_SCALING_FACTOR = 0.00062012
MEX:REFLECTANCE_OFFSET = 0.0312357
/* IMAGE OBJECT DEFINITIONS */
OBJECT = IMAGE
  INTERCHANGE_FORMAT = BINARY
  LINES = 25467
  LINE_SAMPLES = 3979
  SAMPLE_TYPE = UNSIGNED_INTEGER
  SAMPLE_BITS = 8
  BANDS = 1
  BAND_STORAGE_TYPE = BAND_SEQUENTIAL
  MAXIMUM = 255
  MEAN = 165.844
  MINIMUM = 1
  STANDARD_DEVIATION = 44.7944
END_OBJECT = IMAGE
/* MAP OBJECT DEFINITIONS */
OBJECT = IMAGE_MAP_PROJECTION
  ^DATA_SET_MAP_PROJECTION_CATALOG= "DSMAP.CAT"
  A_AXIS_RADIUS = 3396.0
  B_AXIS_RADIUS = 3396.0
  C_AXIS_RADIUS = 3396.0
  CENTER_LATITUDE = 0.0
  CENTER_LONGITUDE = 262.0
  COORDINATE_SYSTEM_NAME = PLANETOGRAPHIC
  COORDINATE_SYSTEM_TYPE = "BODY-FIXED ROTATING"
  EASTERNMOST_LONGITUDE = 264.948
  FIRST_STANDARD_PARALLEL = "N/A"
  LINE_FIRST_PIXEL = 1
  LINE_LAST_PIXEL = 25467
  LINE_PROJECTION_OFFSET = 11951.0
  MAP_PROJECTION_ROTATION = 0.0
  MAP_PROJECTION_TYPE = SINUSOIDAL
  MAP_RESOLUTION = 592.713803866667
  MAP_SCALE = 0.1
  MAXIMUM_LATITUDE = 20.1655
  MINIMUM_LATITUDE = -22.7917
  POSITIVE_LONGITUDE_DIRECTION = EAST
  REFERENCE_LATITUDE = "N/A"
  REFERENCE_LONGITUDE = "N/A"
  SAMPLE_FIRST_PIXEL = 1
  SAMPLE_LAST_PIXEL = 3979
  SAMPLE_PROJECTION_OFFSET = 2506.0
  SECOND_STANDARD_PARALLEL = "N/A"
  WESTERNMOST_LONGITUDE = 257.177
END_OBJECT = IMAGE_MAP_PROJECTION
/* The JPEG2000 image data file associated with this label. */
OBJECT = COMPRESSED_FILE
  FILE_NAME = "HA659_0000_GR3.JP2"
  RECORD_TYPE = UNDEFINED
  FILE_RECORDS = UNK
  ENCODING_TYPE = "JP2"
  INTERCHANGE_FORMAT = BINARY
  UNCOMPRESSED_FILE_NAME = "HA659_0000_GR3.IMG"
  REQUIRED_STORAGE_BYTES = "101357067"
  ^DESCRIPTION = "JP2INFO.TXT"
END_OBJECT = COMPRESSED_FILE
END
