PDS_VERSION_ID = PDS3
/* FILE DATA ELEMENTS */
RECORD_TYPE = STREAM
/* POINTERS TO DATA OBJECTS */
^COMPRESSED_FILE = "HA669_0000_BL3.JP2"
/* IDENTIFICATION DATA ELEMENTS */
DATA_SET_ID = "MEX-M-HRSC-5-REFDR-MAPPROJECTED-V3.0"
DATA_SET_NAME = "MARS EXPRESS HRSC MAP PROJECTED REFDR V3.0"
DETECTOR_ID = MEX_HRSC_BLUE
EVENT_TYPE = "MARS-REGIONAL-MAPPING-Te-Im-Fl"
INSTRUMENT_HOST_ID = MEX
INSTRUMENT_HOST_NAME = "MARS EXPRESS"
INSTRUMENT_ID = HRSC
INSTRUMENT_NAME = "HIGH RESOLUTION STEREO CAMERA"
MISSION_NAME = "MARS EXPRESS"
MISSION_PHASE_NAME = ME_Phase_25
PROCESSING_LEVEL_ID = 3
PRODUCT_CREATION_TIME = 2016-10-27T21:34:36.000Z
PRODUCT_ID = "HA669_0000_BL3.JP2"
RELEASE_ID = 0109
REVISION_ID = 0000
/* QUALITY DATA ELEMENTS */
DATA_QUALITY_ID = 1
DATA_QUALITY_DESC = "Data calculated based on original SPICE kernels"
/* TIME DATA ELEMENTS */
SPACECRAFT_CLOCK_START_COUNT = "1/0285336458.09062"
SPACECRAFT_CLOCK_STOP_COUNT = "1/0285336876.39329"
START_TIME = 2012-05-17T12:08:12.827Z
STOP_TIME = 2012-05-17T12:13:09.155Z
/* ORBITAL DATA ELEMENTS */
ASCENDING_NODE_LONGITUDE = 13.69
MAXIMUM_RESOLUTION = 66.3
FOOTPRINT_POINT_LATITUDE = (-42.408,-42.3811,-42.1713,-41.7175, -41.413,-41.1081,-40.8026,-40.3349, -40.0226,-39.7139,-39.3969,-39.0775, -38.761,-38.2777,-37.9556,-37.6304, -37.3002,-36.9715,-36.6385,-36.3014, -35.9654,-35.4538,-35.112,-34.7664, -34.4197,-34.0694,-33.7148,-33.3611, -33.0008,-32.6412,-32.2754,-31.9095, -31.5395,-31.1682,-30.791,-30.2222, -29.8395,-29.4524,-28.867,-28.4734, -28.0743,-27.6728,-27.2681,-26.8587, -26.4469,-26.0316,-25.6109,-25.1866, -24.7588,-24.5222,-24.5286,-24.5365, -24.5405,-24.5437,-24.7642,-25.1941, -25.6206,-26.0435,-26.4605,-26.8745, -27.2861,-27.6921,-28.2958,-28.8915, -29.4797,-29.8687,-30.2527,-30.6347, -31.0131,-31.5745,-31.9472,-32.3138, -32.6812,-33.0419,-33.5815,-33.9363, -34.4652,-34.813,-35.1602,-35.5023, -36.0157,-36.521,-36.8584,-37.1887, -37.52,-37.8492,-38.1735,-38.4984, -38.8226,-39.1407,-39.4594,-39.9348, -40.2468,-40.5592,-41.0253,-41.3309, -41.637,-41.9437,-42.3945,-42.408)
FOOTPRINT_POINT_LONGITUDE = (318.691,318.105,317.215,317.244, 317.266,317.284,317.299,317.325,317.337 ,317.363,317.384,317.391,317.409, 317.437,317.458,317.469,317.482,317.499 ,317.506,317.514,317.523,317.538, 317.547,317.559,317.573,317.578,317.584 ,317.59,317.596,317.601,317.605,317.608 ,317.615,317.618,317.62,317.623,317.625 ,317.626,317.627,317.627,317.626, 317.624,317.623,317.621,317.618,317.615 ,317.61,317.605,317.599,318.136,318.485 ,319.014,319.355,319.715,320.051, 320.039,320.027,320.014,320.002,319.989 ,319.976,319.963,319.943,319.923, 319.902,319.888,319.874,319.86,319.846, 319.824,319.809,319.794,319.779,319.764 ,319.741,319.725,319.701,319.683, 319.666,319.648,319.622,319.597,319.579 ,319.561,319.544,319.525,319.506, 319.488,319.469,319.45,319.431,319.401, 319.382,319.362,319.331,319.31,319.29, 319.269,319.235,318.691)
ORBIT_NUMBER = 10669
ORBITAL_ECCENTRICITY = 0.577
ORBITAL_INCLINATION = 86.89
ORBITAL_SEMIMAJOR_AXIS = 8774.71
PERIAPSIS_ALTITUDE = 329.53
PERIAPSIS_ARGUMENT_ANGLE = 296.71
PERIAPSIS_TIME = 2012-05-17T12:03:00.000Z
SPACECRAFT_ORIENTATION = (0.0,1.0,0.0)
^MEX_ORIENTATION_DESC = "MEX_ORIENTATION_DESC.TXT"
SPACECRAFT_POINTING_MODE = ACROSSTRACK
^MEX_POINTING_DESC = "MEX_POINTING_DESC.TXT"
RIGHT_ASCENSION = -1e+32
DECLINATION = -1e+32
OFFSET_ANGLE = 1.374
SPACECRAFT_SOLAR_DISTANCE = 2.43178e+08
TARGET_NAME = MARS
/* CAMERA DATA ELEMENTS */
DETECTOR_TEMPERATURE = 18.3705
FOCAL_PLANE_TEMPERATURE = 8.1755
INST_CMPRS_NAME = "DISCRETE COSINE TRANSFORMATION (DCT)"
INST_CMPRS_RATIO = 5.8606
INST_CMPRS_QUALITY = 0
INST_CMPRS_QUANTZ_TBL_ID = 0
INSTRUMENT_TEMPERATURE = 11.0301
LENS_TEMPERATURE = 8.5833
MACROPIXEL_SIZE = 4
MISSING_FRAMES = 0
PIXEL_SUBSAMPLING_FLAG = N
SIGNAL_CHAIN_ID = 2
/* RADIOMETRIC DATA ELEMENTS */
BANDWIDTH = 76.0
CENTER_FILTER_WAVELENGTH = 444.0
RADIANCE_OFFSET = 0.12157
RADIANCE_SCALING_FACTOR = 0.00234705
REFLECTANCE_SCALING_FACTOR = 0.000142602
MEX:REFLECTANCE_OFFSET = 0.00738634
/* IMAGE OBJECT DEFINITIONS */
OBJECT = IMAGE
  INTERCHANGE_FORMAT = BINARY
  LINES = 21212
  LINE_SAMPLES = 2825
  SAMPLE_TYPE = UNSIGNED_INTEGER
  SAMPLE_BITS = 8
  BANDS = 1
  BAND_STORAGE_TYPE = BAND_SEQUENTIAL
  MAXIMUM = 255
  MEAN = 124.274
  MINIMUM = 1
  STANDARD_DEVIATION = 25.2569
END_OBJECT = IMAGE
/* MAP OBJECT DEFINITIONS */
OBJECT = IMAGE_MAP_PROJECTION
  ^DATA_SET_MAP_PROJECTION_CATALOG= "DSMAP.CAT"
  A_AXIS_RADIUS = 3396.0
  B_AXIS_RADIUS = 3396.0
  C_AXIS_RADIUS = 3396.0
  CENTER_LATITUDE = 0.0
  CENTER_LONGITUDE = 319.0
  COORDINATE_SYSTEM_NAME = PLANETOGRAPHIC
  COORDINATE_SYSTEM_TYPE = "BODY-FIXED ROTATING"
  EASTERNMOST_LONGITUDE = 320.051
  FIRST_STANDARD_PARALLEL = "N/A"
  LINE_FIRST_PIXEL = 1
  LINE_LAST_PIXEL = 21212
  LINE_PROJECTION_OFFSET = -29071.625
  MAP_PROJECTION_ROTATION = 0.0
  MAP_PROJECTION_TYPE = SINUSOIDAL
  MAP_RESOLUTION = 1185.42760773333
  MAP_SCALE = 0.05
  MAXIMUM_LATITUDE = -24.5222
  MINIMUM_LATITUDE = -42.408
  POSITIVE_LONGITUDE_DIRECTION = EAST
  REFERENCE_LATITUDE = "N/A"
  REFERENCE_LONGITUDE = "N/A"
  SAMPLE_FIRST_PIXEL = 1
  SAMPLE_LAST_PIXEL = 2825
  SAMPLE_PROJECTION_OFFSET = 1661.125
  SECOND_STANDARD_PARALLEL = "N/A"
  WESTERNMOST_LONGITUDE = 317.215
END_OBJECT = IMAGE_MAP_PROJECTION
/* The JPEG2000 image data file associated with this label. */
OBJECT = COMPRESSED_FILE
  FILE_NAME = "HA669_0000_BL3.JP2"
  RECORD_TYPE = UNDEFINED
  FILE_RECORDS = UNK
  ENCODING_TYPE = "JP2"
  INTERCHANGE_FORMAT = BINARY
  UNCOMPRESSED_FILE_NAME = "HA669_0000_BL3.IMG"
  REQUIRED_STORAGE_BYTES = "59946500"
  ^DESCRIPTION = "JP2INFO.TXT"
END_OBJECT = COMPRESSED_FILE
END
