PDS_VERSION_ID = PDS3
/* FILE DATA ELEMENTS */
RECORD_TYPE = STREAM
/* POINTERS TO DATA OBJECTS */
^COMPRESSED_FILE = "HA671_0000_GR3.JP2"
/* IDENTIFICATION DATA ELEMENTS */
DATA_SET_ID = "MEX-M-HRSC-5-REFDR-MAPPROJECTED-V3.0"
DATA_SET_NAME = "MARS EXPRESS HRSC MAP PROJECTED REFDR V3.0"
DETECTOR_ID = MEX_HRSC_GREEN
EVENT_TYPE = "MARS-REGIONAL-MAPPING-Vo-Gl-Pf"
INSTRUMENT_HOST_ID = MEX
INSTRUMENT_HOST_NAME = "MARS EXPRESS"
INSTRUMENT_ID = HRSC
INSTRUMENT_NAME = "HIGH RESOLUTION STEREO CAMERA"
MISSION_NAME = "MARS EXPRESS"
MISSION_PHASE_NAME = ME_Phase_25
PROCESSING_LEVEL_ID = 3
PRODUCT_CREATION_TIME = 2016-10-27T21:34:36.000Z
PRODUCT_ID = "HA671_0000_GR3.JP2"
RELEASE_ID = 0109
REVISION_ID = 0000
/* QUALITY DATA ELEMENTS */
DATA_QUALITY_ID = 1
DATA_QUALITY_DESC = "Data calculated based on original SPICE kernels"
/* TIME DATA ELEMENTS */
SPACECRAFT_CLOCK_START_COUNT = "1/0285386867.08388"
SPACECRAFT_CLOCK_STOP_COUNT = "1/0285387111.50027"
START_TIME = 2012-05-18T02:08:39.824Z
STOP_TIME = 2012-05-18T02:10:59.192Z
/* ORBITAL DATA ELEMENTS */
ASCENDING_NODE_LONGITUDE = 13.65
MAXIMUM_RESOLUTION = 74.7
FOOTPRINT_POINT_LATITUDE = (-37.6219,-37.6193,-37.6157,-37.612, -37.6064,-37.6009,-37.5277,-37.2285, -36.9266,-36.6253,-36.396,-36.089, -35.7826,-35.6272,-35.4711,-35.315, -35.1592,-35.0034,-34.7658,-34.6072, -34.4487,-34.2905,-34.1306,-33.9693, -33.8082,-33.6473,-33.4866,-33.3227, -33.1591,-32.9957,-32.8324,-32.5842, -32.4182,-32.2524,-32.0023,-31.8336, -31.6653,-31.4971,-31.3274,-31.1564, -30.9856,-30.8151,-30.5556,-30.3824, -30.2095,-29.9466,-29.7711,-29.5958, -29.4532,-29.4547,-29.4567,-29.4576, -29.4578,-29.4569,-29.4556,-29.5454, -29.7213,-29.8974,-30.0737,-30.3353, -30.509,-30.6829,-30.8555,-31.0266, -31.198,-31.4552,-31.6239,-31.7927, -31.9617,-32.1305,-32.2966,-32.4631, -32.6296,-32.796,-32.9597,-33.2056, -33.3698,-33.5336,-33.6948,-33.8561, -34.0178,-34.2599,-34.4186,-34.5775, -34.7365,-34.8958,-35.0538,-35.2098, -35.3662,-35.5227,-35.6793,-35.9111, -36.0648,-36.2185,-36.3725,-36.6032, -36.9052,-37.2077,-37.4346,-37.6219)
FOOTPRINT_POINT_LONGITUDE = (116.611,116.291,115.951,115.669, 115.311,115.009,114.801,114.803,114.806 ,114.808,114.809,114.811,114.812, 114.812,114.813,114.813,114.813,114.813 ,114.814,114.813,114.813,114.813, 114.812,114.812,114.812,114.811,114.81, 114.81,114.809,114.808,114.807,114.805, 114.804,114.802,114.8,114.798,114.796, 114.794,114.792,114.79,114.788,114.786, 114.782,114.78,114.777,114.773,114.77, 114.767,114.934,115.149,115.534,115.876 ,116.176,116.605,116.904,117.06,117.056 ,117.052,117.048,117.043,117.039, 117.035,117.031,117.027,117.023,117.018 ,117.014,117.01,117.006,117.002,116.998 ,116.994,116.99,116.986,116.982,116.976 ,116.972,116.968,116.964,116.96,116.956 ,116.95,116.945,116.941,116.937,116.933 ,116.928,116.924,116.92,116.916,116.911 ,116.904,116.9,116.895,116.891,116.884, 116.875,116.866,116.859,116.611)
ORBIT_NUMBER = 10671
ORBITAL_ECCENTRICITY = 0.577
ORBITAL_INCLINATION = 86.88
ORBITAL_SEMIMAJOR_AXIS = 8778.55
PERIAPSIS_ALTITUDE = 329.06
PERIAPSIS_ARGUMENT_ANGLE = 296.35
PERIAPSIS_TIME = 2012-05-18T02:01:49.000Z
SPACECRAFT_ORIENTATION = (0.0,1.0,0.0)
^MEX_ORIENTATION_DESC = "MEX_ORIENTATION_DESC.TXT"
SPACECRAFT_POINTING_MODE = NADIR
^MEX_POINTING_DESC = "MEX_POINTING_DESC.TXT"
RIGHT_ASCENSION = -1e+32
DECLINATION = -1e+32
OFFSET_ANGLE = -1e+32
SPACECRAFT_SOLAR_DISTANCE = 2.43103e+08
TARGET_NAME = MARS
/* CAMERA DATA ELEMENTS */
DETECTOR_TEMPERATURE = 18.5744
FOCAL_PLANE_TEMPERATURE = 8.3794
INST_CMPRS_NAME = "DISCRETE COSINE TRANSFORMATION (DCT)"
INST_CMPRS_RATIO = 5.17564
INST_CMPRS_QUALITY = 0
INST_CMPRS_QUANTZ_TBL_ID = 0
INSTRUMENT_TEMPERATURE = 11.8457
LENS_TEMPERATURE = 8.5833
MACROPIXEL_SIZE = 4
MISSING_FRAMES = 0
PIXEL_SUBSAMPLING_FLAG = N
SIGNAL_CHAIN_ID = 2
/* RADIOMETRIC DATA ELEMENTS */
BANDWIDTH = 88.0
CENTER_FILTER_WAVELENGTH = 538.0
RADIANCE_OFFSET = 0.329974
RADIANCE_SCALING_FACTOR = 0.0053979
REFLECTANCE_SCALING_FACTOR = 0.000274659
MEX:REFLECTANCE_OFFSET = 0.01679
/* IMAGE OBJECT DEFINITIONS */
OBJECT = IMAGE
  INTERCHANGE_FORMAT = BINARY
  LINES = 9686
  LINE_SAMPLES = 2427
  SAMPLE_TYPE = UNSIGNED_INTEGER
  SAMPLE_BITS = 8
  BANDS = 1
  BAND_STORAGE_TYPE = BAND_SEQUENTIAL
  MAXIMUM = 255
  MEAN = 133.553
  MINIMUM = 1
  STANDARD_DEVIATION = 15.7223
END_OBJECT = IMAGE
/* MAP OBJECT DEFINITIONS */
OBJECT = IMAGE_MAP_PROJECTION
  ^DATA_SET_MAP_PROJECTION_CATALOG= "DSMAP.CAT"
  A_AXIS_RADIUS = 3396.0
  B_AXIS_RADIUS = 3396.0
  C_AXIS_RADIUS = 3396.0
  CENTER_LATITUDE = 0.0
  CENTER_LONGITUDE = 116.0
  COORDINATE_SYSTEM_NAME = PLANETOGRAPHIC
  COORDINATE_SYSTEM_TYPE = "BODY-FIXED ROTATING"
  EASTERNMOST_LONGITUDE = 117.06
  FIRST_STANDARD_PARALLEL = "N/A"
  LINE_FIRST_PIXEL = 1
  LINE_LAST_PIXEL = 9686
  LINE_PROJECTION_OFFSET = -34916.375
  MAP_PROJECTION_ROTATION = 0.0
  MAP_PROJECTION_TYPE = SINUSOIDAL
  MAP_RESOLUTION = 1185.42760773333
  MAP_SCALE = 0.05
  MAXIMUM_LATITUDE = -29.4532
  MINIMUM_LATITUDE = -37.6219
  POSITIVE_LONGITUDE_DIRECTION = EAST
  REFERENCE_LATITUDE = "N/A"
  REFERENCE_LONGITUDE = "N/A"
  SAMPLE_FIRST_PIXEL = 1
  SAMPLE_LAST_PIXEL = 2427
  SAMPLE_PROJECTION_OFFSET = 1307.875
  SECOND_STANDARD_PARALLEL = "N/A"
  WESTERNMOST_LONGITUDE = 114.767
END_OBJECT = IMAGE_MAP_PROJECTION
/* The JPEG2000 image data file associated with this label. */
OBJECT = COMPRESSED_FILE
  FILE_NAME = "HA671_0000_GR3.JP2"
  RECORD_TYPE = UNDEFINED
  FILE_RECORDS = UNK
  ENCODING_TYPE = "JP2"
  INTERCHANGE_FORMAT = BINARY
  UNCOMPRESSED_FILE_NAME = "HA671_0000_GR3.IMG"
  REQUIRED_STORAGE_BYTES = "23527338"
  ^DESCRIPTION = "JP2INFO.TXT"
END_OBJECT = COMPRESSED_FILE
END
