PDS_VERSION_ID = PDS3
/* FILE DATA ELEMENTS */
RECORD_TYPE = STREAM
/* POINTERS TO DATA OBJECTS */
^COMPRESSED_FILE = "HA674_0000_P13.JP2"
/* IDENTIFICATION DATA ELEMENTS */
DATA_SET_ID = "MEX-M-HRSC-5-REFDR-MAPPROJECTED-V3.0"
DATA_SET_NAME = "MARS EXPRESS HRSC MAP PROJECTED REFDR V3.0"
DETECTOR_ID = MEX_HRSC_P1
EVENT_TYPE = "MARS-REGIONAL-MAPPING-Im-Fl"
INSTRUMENT_HOST_ID = MEX
INSTRUMENT_HOST_NAME = "MARS EXPRESS"
INSTRUMENT_ID = HRSC
INSTRUMENT_NAME = "HIGH RESOLUTION STEREO CAMERA"
MISSION_NAME = "MARS EXPRESS"
MISSION_PHASE_NAME = ME_Phase_25
PROCESSING_LEVEL_ID = 3
PRODUCT_CREATION_TIME = 2016-10-27T21:34:36.000Z
PRODUCT_ID = "HA674_0000_P13.JP2"
RELEASE_ID = 0109
REVISION_ID = 0000
/* QUALITY DATA ELEMENTS */
DATA_QUALITY_ID = 1
DATA_QUALITY_DESC = "Data calculated based on original SPICE kernels"
/* TIME DATA ELEMENTS */
SPACECRAFT_CLOCK_START_COUNT = "1/0285462361.07296"
SPACECRAFT_CLOCK_STOP_COUNT = "1/0285462664.31928"
START_TIME = 2012-05-18T23:07:17.845Z
STOP_TIME = 2012-05-18T23:10:39.246Z
/* ORBITAL DATA ELEMENTS */
ASCENDING_NODE_LONGITUDE = 13.59
MAXIMUM_RESOLUTION = 39.7
FOOTPRINT_POINT_LATITUDE = (-38.2189,-38.2217,-38.2238,-38.2253, -38.2262,-38.2263,-37.8565,-37.4613, -37.2606,-36.8592,-36.6578,-36.4528, -36.2487,-36.0444,-35.8377,-35.635, -35.4293,-35.2219,-35.0101,-34.7999, -34.5905,-34.3774,-34.1646,-33.8442, -33.6286,-33.3073,-33.0886,-32.8715, -32.5431,-32.3222,-31.9897,-31.7661, -31.5431,-31.3169,-30.9777,-30.7491, -30.4062,-30.1745,-29.9432,-29.5927, -29.3582,-29.1204,-28.8878,-28.6451, -28.4061,-28.165,-27.9229,-27.6788, -27.4339,-27.2637,-27.2556,-27.2484, -27.242,-27.2306,-27.2209,-27.3348, -27.5812,-27.8264,-28.0685,-28.3181, -28.5587,-28.7927,-29.1525,-29.3933, -29.6286,-29.8627,-30.0903,-30.3231, -30.5533,-30.8989,-31.1258,-31.3529, -31.6915,-31.916,-32.1402,-32.4727, -32.6944,-32.9128,-33.1319,-33.458, -33.6731,-33.8881,-34.2083,-34.4224, -34.6363,-34.8465,-35.0568,-35.2673, -35.4745,-35.6817,-35.9924,-36.1966, -36.4009,-36.7067,-37.0092,-37.2109, -37.4129,-37.8097,-38.2074,-38.2189)
FOOTPRINT_POINT_LONGITUDE = (168.375,168.044,167.71,167.372,167.03, 166.683,166.495,166.506,166.512,166.522 ,166.529,166.535,166.54,166.545,166.551 ,166.549,166.552,166.556,166.562, 166.567,166.57,166.574,166.577,166.582, 166.584,166.586,166.588,166.589,166.59, 166.592,166.593,166.594,166.594,166.594 ,166.595,166.594,166.593,166.592, 166.591,166.589,166.589,166.588,166.581 ,166.584,166.581,166.578,166.576, 166.573,166.57,166.776,167.19,167.573, 167.878,168.356,168.73,169.18,169.171, 169.163,169.154,169.145,169.136,169.127 ,169.114,169.105,169.096,169.087, 169.078,169.069,169.059,169.046,169.036 ,169.027,169.013,169.004,168.994,168.98 ,168.97,168.961,168.951,168.936,168.927 ,168.917,168.902,168.892,168.882, 168.872,168.862,168.851,168.841,168.831 ,168.816,168.805,168.795,168.779, 168.763,168.752,168.741,168.72,168.698, 168.375)
ORBIT_NUMBER = 10674
ORBITAL_ECCENTRICITY = 0.577
ORBITAL_INCLINATION = 86.88
ORBITAL_SEMIMAJOR_AXIS = 8775.74
PERIAPSIS_ALTITUDE = 329.99
PERIAPSIS_ARGUMENT_ANGLE = 295.86
PERIAPSIS_TIME = 2012-05-18T23:00:06.000Z
SPACECRAFT_ORIENTATION = (0.0,1.0,0.0)
^MEX_ORIENTATION_DESC = "MEX_ORIENTATION_DESC.TXT"
SPACECRAFT_POINTING_MODE = ACROSSTRACK
^MEX_POINTING_DESC = "MEX_POINTING_DESC.TXT"
RIGHT_ASCENSION = -1e+32
DECLINATION = -1e+32
OFFSET_ANGLE = 1.15
SPACECRAFT_SOLAR_DISTANCE = 2.42991e+08
TARGET_NAME = MARS
/* CAMERA DATA ELEMENTS */
DETECTOR_TEMPERATURE = 17.5549
FOCAL_PLANE_TEMPERATURE = 8.1755
INST_CMPRS_NAME = "DISCRETE COSINE TRANSFORMATION (DCT)"
INST_CMPRS_RATIO = 5.61222
INST_CMPRS_QUALITY = 0
INST_CMPRS_QUANTZ_TBL_ID = 0
INSTRUMENT_TEMPERATURE = 11.8457
LENS_TEMPERATURE = 8.7872
MACROPIXEL_SIZE = 2
MISSING_FRAMES = 0
PIXEL_SUBSAMPLING_FLAG = N
SIGNAL_CHAIN_ID = 3
/* RADIOMETRIC DATA ELEMENTS */
BANDWIDTH = 174.0
CENTER_FILTER_WAVELENGTH = 675.0
RADIANCE_OFFSET = 0.438925
RADIANCE_SCALING_FACTOR = 0.0225791
REFLECTANCE_SCALING_FACTOR = 0.000717084
MEX:REFLECTANCE_OFFSET = 0.0139397
/* IMAGE OBJECT DEFINITIONS */
OBJECT = IMAGE
  INTERCHANGE_FORMAT = BINARY
  LINES = 26169
  LINE_SAMPLES = 5312
  SAMPLE_TYPE = UNSIGNED_INTEGER
  SAMPLE_BITS = 8
  BANDS = 1
  BAND_STORAGE_TYPE = BAND_SEQUENTIAL
  MAXIMUM = 255
  MEAN = 94.463
  MINIMUM = 1
  STANDARD_DEVIATION = 29.2769
END_OBJECT = IMAGE
/* MAP OBJECT DEFINITIONS */
OBJECT = IMAGE_MAP_PROJECTION
  ^DATA_SET_MAP_PROJECTION_CATALOG= "DSMAP.CAT"
  A_AXIS_RADIUS = 3396.0
  B_AXIS_RADIUS = 3396.0
  C_AXIS_RADIUS = 3396.0
  CENTER_LATITUDE = 0.0
  CENTER_LONGITUDE = 168.0
  COORDINATE_SYSTEM_NAME = PLANETOGRAPHIC
  COORDINATE_SYSTEM_TYPE = "BODY-FIXED ROTATING"
  EASTERNMOST_LONGITUDE = 169.18
  FIRST_STANDARD_PARALLEL = "N/A"
  LINE_FIRST_PIXEL = 1
  LINE_LAST_PIXEL = 26169
  LINE_PROJECTION_OFFSET = -64580.75
  MAP_PROJECTION_ROTATION = 0.0
  MAP_PROJECTION_TYPE = SINUSOIDAL
  MAP_RESOLUTION = 2370.85521546667
  MAP_SCALE = 0.025
  MAXIMUM_LATITUDE = -27.2209
  MINIMUM_LATITUDE = -38.2263
  POSITIVE_LONGITUDE_DIRECTION = EAST
  REFERENCE_LATITUDE = "N/A"
  REFERENCE_LONGITUDE = "N/A"
  SAMPLE_FIRST_PIXEL = 1
  SAMPLE_LAST_PIXEL = 5312
  SAMPLE_PROJECTION_OFFSET = 3005.25
  SECOND_STANDARD_PARALLEL = "N/A"
  WESTERNMOST_LONGITUDE = 166.495
END_OBJECT = IMAGE_MAP_PROJECTION
/* The JPEG2000 image data file associated with this label. */
OBJECT = COMPRESSED_FILE
  FILE_NAME = "HA674_0000_P13.JP2"
  RECORD_TYPE = UNDEFINED
  FILE_RECORDS = UNK
  ENCODING_TYPE = "JP2"
  INTERCHANGE_FORMAT = BINARY
  UNCOMPRESSED_FILE_NAME = "HA674_0000_P13.IMG"
  REQUIRED_STORAGE_BYTES = "139036288"
  ^DESCRIPTION = "JP2INFO.TXT"
END_OBJECT = COMPRESSED_FILE
END
