PDS_VERSION_ID = PDS3
/* FILE DATA ELEMENTS */
RECORD_TYPE = STREAM
/* POINTERS TO DATA OBJECTS */
^COMPRESSED_FILE = "HA677_0000_P23.JP2"
/* IDENTIFICATION DATA ELEMENTS */
DATA_SET_ID = "MEX-M-HRSC-5-REFDR-MAPPROJECTED-V3.0"
DATA_SET_NAME = "MARS EXPRESS HRSC MAP PROJECTED REFDR V3.0"
DETECTOR_ID = MEX_HRSC_P2
EVENT_TYPE = "MARS-REGIONAL-MAPPING-Vo-Te"
INSTRUMENT_HOST_ID = MEX
INSTRUMENT_HOST_NAME = "MARS EXPRESS"
INSTRUMENT_ID = HRSC
INSTRUMENT_NAME = "HIGH RESOLUTION STEREO CAMERA"
MISSION_NAME = "MARS EXPRESS"
MISSION_PHASE_NAME = ME_Phase_25
PROCESSING_LEVEL_ID = 3
PRODUCT_CREATION_TIME = 2016-10-27T21:34:36.000Z
PRODUCT_ID = "HA677_0000_P23.JP2"
RELEASE_ID = 0109
REVISION_ID = 0000
/* QUALITY DATA ELEMENTS */
DATA_QUALITY_ID = 1
DATA_QUALITY_DESC = "Data calculated based on original SPICE kernels"
/* TIME DATA ELEMENTS */
SPACECRAFT_CLOCK_START_COUNT = "1/0285537788.08255"
SPACECRAFT_CLOCK_STOP_COUNT = "1/0285538168.13135"
START_TIME = 2012-05-19T20:03:24.307Z
STOP_TIME = 2012-05-19T20:07:36.702Z
/* ORBITAL DATA ELEMENTS */
ASCENDING_NODE_LONGITUDE = 13.54
MAXIMUM_RESOLUTION = 66.5
FOOTPRINT_POINT_LATITUDE = (-42.9936,-42.971,-42.9445,-42.8777, -42.6118,-42.2036,-41.9292,-41.5179, -41.0989,-40.8187,-40.3993,-39.9705, -39.5381,-39.2502,-38.9581,-38.6645, -38.3717,-37.9279,-37.6286,-37.3297, -36.8756,-36.5727,-36.2701,-35.9568, -35.644,-35.333,-35.016,-34.6989, -34.2182,-33.8953,-33.5743,-33.247, -32.9166,-32.5819,-32.0799,-31.7396, -31.4009,-30.8819,-30.5352,-30.1831, -29.6528,-29.2958,-28.9313,-28.3897, -28.0224,-27.6509,-27.2768,-27.0162, -27.0283,-27.036,-27.0422,-27.0473, -27.0504,-27.2435,-27.6183,-27.9921, -28.3614,-28.91,-29.2734,-29.6314, -29.9886,-30.341,-30.6929,-31.0397, -31.3864,-31.7273,-32.2373,-32.5727, -32.9083,-33.2378,-33.7318,-34.0553, -34.3789,-34.8585,-35.1765,-35.4927, -35.8045,-36.1164,-36.5791,-36.8848, -37.1913,-37.4927,-37.9433,-38.2441, -38.5409,-38.8344,-39.1265,-39.4169, -39.7024,-39.9892,-40.4193,-40.7005, -40.9825,-41.2641,-41.5435,-41.8185, -42.2286,-42.5044,-42.7793,-42.9936)
FOOTPRINT_POINT_LONGITUDE = (222.292,221.729,221.158,220.488, 220.503,220.524,220.536,220.554,220.569 ,220.58,220.597,220.609,220.621,220.629 ,220.637,220.644,220.652,220.663,220.67 ,220.677,220.686,220.694,220.701, 220.704,220.707,220.711,220.716,220.719 ,220.724,220.726,220.731,220.735, 220.735,220.734,220.735,220.735,220.736 ,220.734,220.732,220.731,220.727, 220.725,220.719,220.716,220.713,220.708 ,220.702,221.067,221.521,221.865, 222.208,222.549,222.825,222.998,222.99, 222.981,222.973,222.96,222.951,222.942, 222.933,222.924,222.915,222.905,222.896 ,222.886,222.872,222.862,222.852, 222.842,222.826,222.816,222.805,222.789 ,222.778,222.767,222.756,222.745, 222.727,222.716,222.704,222.692,222.674 ,222.661,222.649,222.636,222.624, 222.611,222.598,222.585,222.565,222.552 ,222.538,222.524,222.511,222.497, 222.476,222.461,222.446,222.292)
ORBIT_NUMBER = 10677
ORBITAL_ECCENTRICITY = 0.577
ORBITAL_INCLINATION = 86.89
ORBITAL_SEMIMAJOR_AXIS = 8773.3
PERIAPSIS_ALTITUDE = 328.55
PERIAPSIS_ARGUMENT_ANGLE = 295.33
PERIAPSIS_TIME = 2012-05-19T19:58:16.000Z
SPACECRAFT_ORIENTATION = (0.0,1.0,0.0)
^MEX_ORIENTATION_DESC = "MEX_ORIENTATION_DESC.TXT"
SPACECRAFT_POINTING_MODE = ACROSSTRACK
^MEX_POINTING_DESC = "MEX_POINTING_DESC.TXT"
RIGHT_ASCENSION = -1e+32
DECLINATION = -1e+32
OFFSET_ANGLE = 0.6
SPACECRAFT_SOLAR_DISTANCE = 2.42878e+08
TARGET_NAME = MARS
/* CAMERA DATA ELEMENTS */
DETECTOR_TEMPERATURE = 18.9822
FOCAL_PLANE_TEMPERATURE = 8.5833
INST_CMPRS_NAME = "DISCRETE COSINE TRANSFORMATION (DCT)"
INST_CMPRS_RATIO = 5.0517
INST_CMPRS_QUALITY = 0
INST_CMPRS_QUANTZ_TBL_ID = 0
INSTRUMENT_TEMPERATURE = 11.8457
LENS_TEMPERATURE = 8.9911
MACROPIXEL_SIZE = 4
MISSING_FRAMES = 0
PIXEL_SUBSAMPLING_FLAG = N
SIGNAL_CHAIN_ID = 3
/* RADIOMETRIC DATA ELEMENTS */
BANDWIDTH = 177.0
CENTER_FILTER_WAVELENGTH = 676.5
RADIANCE_OFFSET = 0.426928
RADIANCE_SCALING_FACTOR = 0.023216
REFLECTANCE_SCALING_FACTOR = 0.000726136
MEX:REFLECTANCE_OFFSET = 0.0133532
/* IMAGE OBJECT DEFINITIONS */
OBJECT = IMAGE
  INTERCHANGE_FORMAT = BINARY
  LINES = 18876
  LINE_SAMPLES = 2645
  SAMPLE_TYPE = UNSIGNED_INTEGER
  SAMPLE_BITS = 8
  BANDS = 1
  BAND_STORAGE_TYPE = BAND_SEQUENTIAL
  MAXIMUM = 255
  MEAN = 101.321
  MINIMUM = 1
  STANDARD_DEVIATION = 36.9029
END_OBJECT = IMAGE
/* MAP OBJECT DEFINITIONS */
OBJECT = IMAGE_MAP_PROJECTION
  ^DATA_SET_MAP_PROJECTION_CATALOG= "DSMAP.CAT"
  A_AXIS_RADIUS = 3396.0
  B_AXIS_RADIUS = 3396.0
  C_AXIS_RADIUS = 3396.0
  CENTER_LATITUDE = 0.0
  CENTER_LONGITUDE = 222.0
  COORDINATE_SYSTEM_NAME = PLANETOGRAPHIC
  COORDINATE_SYSTEM_TYPE = "BODY-FIXED ROTATING"
  EASTERNMOST_LONGITUDE = 222.998
  FIRST_STANDARD_PARALLEL = "N/A"
  LINE_FIRST_PIXEL = 1
  LINE_LAST_PIXEL = 18876
  LINE_PROJECTION_OFFSET = -32039.125
  MAP_PROJECTION_ROTATION = 0.0
  MAP_PROJECTION_TYPE = SINUSOIDAL
  MAP_RESOLUTION = 1185.42760773333
  MAP_SCALE = 0.05
  MAXIMUM_LATITUDE = -27.0162
  MINIMUM_LATITUDE = -42.9936
  POSITIVE_LONGITUDE_DIRECTION = EAST
  REFERENCE_LATITUDE = "N/A"
  REFERENCE_LONGITUDE = "N/A"
  SAMPLE_FIRST_PIXEL = 1
  SAMPLE_LAST_PIXEL = 2645
  SAMPLE_PROJECTION_OFFSET = 1511.625
  SECOND_STANDARD_PARALLEL = "N/A"
  WESTERNMOST_LONGITUDE = 220.488
END_OBJECT = IMAGE_MAP_PROJECTION
/* The JPEG2000 image data file associated with this label. */
OBJECT = COMPRESSED_FILE
  FILE_NAME = "HA677_0000_P23.JP2"
  RECORD_TYPE = UNDEFINED
  FILE_RECORDS = UNK
  ENCODING_TYPE = "JP2"
  INTERCHANGE_FORMAT = BINARY
  UNCOMPRESSED_FILE_NAME = "HA677_0000_P23.IMG"
  REQUIRED_STORAGE_BYTES = "49948180"
  ^DESCRIPTION = "JP2INFO.TXT"
END_OBJECT = COMPRESSED_FILE
END
