PDS_VERSION_ID = PDS3
/* FILE DATA ELEMENTS */
RECORD_TYPE = STREAM
/* POINTERS TO DATA OBJECTS */
^COMPRESSED_FILE = "HA688_0000_RE3.JP2"
/* IDENTIFICATION DATA ELEMENTS */
DATA_SET_ID = "MEX-M-HRSC-5-REFDR-MAPPROJECTED-V3.0"
DATA_SET_NAME = "MARS EXPRESS HRSC MAP PROJECTED REFDR V3.0"
DETECTOR_ID = MEX_HRSC_RED
EVENT_TYPE = "MARS-REGIONAL-MAPPING-Im-Fl"
INSTRUMENT_HOST_ID = MEX
INSTRUMENT_HOST_NAME = "MARS EXPRESS"
INSTRUMENT_ID = HRSC
INSTRUMENT_NAME = "HIGH RESOLUTION STEREO CAMERA"
MISSION_NAME = "MARS EXPRESS"
MISSION_PHASE_NAME = ME_Phase_26
PROCESSING_LEVEL_ID = 3
PRODUCT_CREATION_TIME = 2016-10-27T21:34:36.000Z
PRODUCT_ID = "HA688_0000_RE3.JP2"
RELEASE_ID = 0109
REVISION_ID = 0000
/* QUALITY DATA ELEMENTS */
DATA_QUALITY_ID = 1
DATA_QUALITY_DESC = "Data calculated based on original SPICE kernels"
/* TIME DATA ELEMENTS */
SPACECRAFT_CLOCK_START_COUNT = "1/0285814564.08251"
SPACECRAFT_CLOCK_STOP_COUNT = "1/0285814849.33465"
START_TIME = 2012-05-23T00:56:13.742Z
STOP_TIME = 2012-05-23T00:59:15.514Z
/* ORBITAL DATA ELEMENTS */
ASCENDING_NODE_LONGITUDE = 13.33
MAXIMUM_RESOLUTION = 63.5
FOOTPRINT_POINT_LATITUDE = (-47.9696,-47.9767,-47.9797,-47.6036, -47.3825,-47.1625,-46.9422,-46.7222, -46.502,-46.2823,-46.0626,-45.8427, -45.6232,-45.2941,-45.0745,-44.8556, -44.6358,-44.302,-44.0768,-43.7395, -43.5143,-43.2902,-43.062,-42.7163, -42.4827,-42.2526,-42.0242,-41.7925, -41.4364,-41.1959,-40.968,-40.6072, -40.3666,-40.1264,-39.8864,-39.641, -39.3954,-39.1499,-38.9046,-38.6547, -38.2794,-38.0286,-37.7742,-37.5179, -37.2623,-36.8767,-36.6161,-36.2255, -36.1067,-36.0984,-36.0876,-36.0753, -36.0646,-36.3247,-36.5857,-36.8464, -37.1045,-37.3599,-37.616,-37.8725, -38.1238,-38.3752,-38.6267,-38.8773, -39.1237,-39.4929,-39.8623,-40.103, -40.3439,-40.5848,-40.9454,-41.2994, -41.5352,-41.8891,-42.1224,-42.3532, -42.6986,-42.9281,-43.1579,-43.3828, -43.6104,-43.836,-44.1745,-44.4013, -44.6165,-44.8355,-45.0565,-45.3904, -45.6108,-45.8322,-46.0496,-46.2708, -46.4937,-46.7132,-46.9336,-47.1535, -47.3738,-47.5946,-47.8155,-47.9696)
FOOTPRINT_POINT_LONGITUDE = (179.119,178.526,177.944,177.743,177.75 ,177.757,177.764,177.77,177.776,177.782 ,177.788,177.794,177.799,177.806, 177.811,177.816,177.82,177.827,177.831, 177.836,177.84,177.843,177.846,177.851, 177.854,177.856,177.858,177.86,177.863, 177.865,177.866,177.868,177.869,177.87, 177.871,177.871,177.871,177.871,177.871 ,177.871,177.87,177.869,177.868,177.867 ,177.865,177.863,177.861,177.858, 178.168,178.7,179.179,179.662,179.995, 179.993,179.99,179.987,179.983,179.98, 179.977,179.973,179.969,179.965,179.961 ,179.957,179.953,179.947,179.94,179.936 ,179.932,179.928,179.921,179.914,179.91 ,179.903,179.898,179.893,179.887, 179.883,179.88,179.875,179.868,179.862, 179.854,179.848,179.848,179.844,179.837 ,179.825,179.819,179.812,179.81,179.803 ,179.795,179.79,179.784,179.779,179.774 ,179.768,179.761,179.119)
ORBIT_NUMBER = 10688
ORBITAL_ECCENTRICITY = 0.577
ORBITAL_INCLINATION = 86.88
ORBITAL_SEMIMAJOR_AXIS = 8772.37
PERIAPSIS_ALTITUDE = 329.56
PERIAPSIS_ARGUMENT_ANGLE = 293.48
PERIAPSIS_TIME = 2012-05-23T00:51:59.000Z
SPACECRAFT_ORIENTATION = (0.0,1.0,0.0)
^MEX_ORIENTATION_DESC = "MEX_ORIENTATION_DESC.TXT"
SPACECRAFT_POINTING_MODE = ACROSSTRACK
^MEX_POINTING_DESC = "MEX_POINTING_DESC.TXT"
RIGHT_ASCENSION = -1e+32
DECLINATION = -1e+32
OFFSET_ANGLE = -0.8
SPACECRAFT_SOLAR_DISTANCE = 2.42454e+08
TARGET_NAME = MARS
/* CAMERA DATA ELEMENTS */
DETECTOR_TEMPERATURE = 18.5744
FOCAL_PLANE_TEMPERATURE = 8.3794
INST_CMPRS_NAME = "DISCRETE COSINE TRANSFORMATION (DCT)"
INST_CMPRS_RATIO = 9.83482
INST_CMPRS_QUALITY = 0
INST_CMPRS_QUANTZ_TBL_ID = 0
INSTRUMENT_TEMPERATURE = 11.6418
LENS_TEMPERATURE = 7.9716
MACROPIXEL_SIZE = 4
MISSING_FRAMES = 0
PIXEL_SUBSAMPLING_FLAG = N
SIGNAL_CHAIN_ID = 2
/* RADIOMETRIC DATA ELEMENTS */
BANDWIDTH = 48.0
CENTER_FILTER_WAVELENGTH = 748.0
RADIANCE_OFFSET = 0.0765034
RADIANCE_SCALING_FACTOR = 0.0044627
REFLECTANCE_SCALING_FACTOR = 0.000598663
MEX:REFLECTANCE_OFFSET = 0.0102628
/* IMAGE OBJECT DEFINITIONS */
OBJECT = IMAGE
  INTERCHANGE_FORMAT = BINARY
  LINES = 14037
  LINE_SAMPLES = 2214
  SAMPLE_TYPE = UNSIGNED_INTEGER
  SAMPLE_BITS = 8
  BANDS = 1
  BAND_STORAGE_TYPE = BAND_SEQUENTIAL
  MAXIMUM = 255
  MEAN = 93.1339
  MINIMUM = 1
  STANDARD_DEVIATION = 22.9828
END_OBJECT = IMAGE
/* MAP OBJECT DEFINITIONS */
OBJECT = IMAGE_MAP_PROJECTION
  ^DATA_SET_MAP_PROJECTION_CATALOG= "DSMAP.CAT"
  A_AXIS_RADIUS = 3396.0
  B_AXIS_RADIUS = 3396.0
  C_AXIS_RADIUS = 3396.0
  CENTER_LATITUDE = 0.0
  CENTER_LONGITUDE = 179.0
  COORDINATE_SYSTEM_NAME = PLANETOGRAPHIC
  COORDINATE_SYSTEM_TYPE = "BODY-FIXED ROTATING"
  EASTERNMOST_LONGITUDE = 179.995
  FIRST_STANDARD_PARALLEL = "N/A"
  LINE_FIRST_PIXEL = 1
  LINE_LAST_PIXEL = 14037
  LINE_PROJECTION_OFFSET = -42785.125
  MAP_PROJECTION_ROTATION = 0.0
  MAP_PROJECTION_TYPE = SINUSOIDAL
  MAP_RESOLUTION = 1185.42760773333
  MAP_SCALE = 0.05
  MAXIMUM_LATITUDE = -36.0646
  MINIMUM_LATITUDE = -47.9797
  POSITIVE_LONGITUDE_DIRECTION = EAST
  REFERENCE_LATITUDE = "N/A"
  REFERENCE_LONGITUDE = "N/A"
  SAMPLE_FIRST_PIXEL = 1
  SAMPLE_LAST_PIXEL = 2214
  SAMPLE_PROJECTION_OFFSET = 1164.125
  SECOND_STANDARD_PARALLEL = "N/A"
  WESTERNMOST_LONGITUDE = 177.743
END_OBJECT = IMAGE_MAP_PROJECTION
/* The JPEG2000 image data file associated with this label. */
OBJECT = COMPRESSED_FILE
  FILE_NAME = "HA688_0000_RE3.JP2"
  RECORD_TYPE = UNDEFINED
  FILE_RECORDS = UNK
  ENCODING_TYPE = "JP2"
  INTERCHANGE_FORMAT = BINARY
  UNCOMPRESSED_FILE_NAME = "HA688_0000_RE3.IMG"
  REQUIRED_STORAGE_BYTES = "31100058"
  ^DESCRIPTION = "JP2INFO.TXT"
END_OBJECT = COMPRESSED_FILE
END
