PDS_VERSION_ID = PDS3
/* FILE DATA ELEMENTS */
RECORD_TYPE = STREAM
/* POINTERS TO DATA OBJECTS */
^COMPRESSED_FILE = "HA688_0000_S23.JP2"
/* IDENTIFICATION DATA ELEMENTS */
DATA_SET_ID = "MEX-M-HRSC-5-REFDR-MAPPROJECTED-V3.0"
DATA_SET_NAME = "MARS EXPRESS HRSC MAP PROJECTED REFDR V3.0"
DETECTOR_ID = MEX_HRSC_S2
EVENT_TYPE = "MARS-REGIONAL-MAPPING-Im-Fl"
INSTRUMENT_HOST_ID = MEX
INSTRUMENT_HOST_NAME = "MARS EXPRESS"
INSTRUMENT_ID = HRSC
INSTRUMENT_NAME = "HIGH RESOLUTION STEREO CAMERA"
MISSION_NAME = "MARS EXPRESS"
MISSION_PHASE_NAME = ME_Phase_26
PROCESSING_LEVEL_ID = 3
PRODUCT_CREATION_TIME = 2016-10-27T21:34:36.000Z
PRODUCT_ID = "HA688_0000_S23.JP2"
RELEASE_ID = 0109
REVISION_ID = 0000
/* QUALITY DATA ELEMENTS */
DATA_QUALITY_ID = 1
DATA_QUALITY_DESC = "Data calculated based on original SPICE kernels"
/* TIME DATA ELEMENTS */
SPACECRAFT_CLOCK_START_COUNT = "1/0285814564.08251"
SPACECRAFT_CLOCK_STOP_COUNT = "1/0285814849.33465"
START_TIME = 2012-05-23T00:56:07.873Z
STOP_TIME = 2012-05-23T00:59:07.845Z
/* ORBITAL DATA ELEMENTS */
ASCENDING_NODE_LONGITUDE = 13.33
MAXIMUM_RESOLUTION = 32.1
FOOTPRINT_POINT_LATITUDE = (-47.9745,-47.9874,-47.9954,-47.8326, -47.4978,-47.1633,-46.9404,-46.7176, -46.4947,-46.2724,-46.0497,-45.8272, -45.6048,-45.3826,-45.1602,-44.9384, -44.7157,-44.4919,-44.2689,-44.0469, -43.705,-43.477,-43.1356,-42.9078, -42.5564,-42.3228,-42.0899,-41.8629, -41.6284,-41.383,-41.032,-40.7928, -40.5542,-40.3115,-40.0675,-39.8236, -39.5801,-39.2094,-38.96,-38.7108, -38.4628,-38.2089,-37.9537,-37.698, -37.4433,-37.1836,-36.9238,-36.6645, -36.4025,-36.1154,-36.1068,-36.0973, -36.0826,-36.071,-36.0589,-36.3242, -36.587,-36.9764,-37.2364,-37.4938, -37.7488,-38.0044,-38.2601,-38.5123, -38.7621,-39.0124,-39.3879,-39.6323, -39.9991,-40.2439,-40.4877,-40.7264, -40.9657,-41.3249,-41.5642,-41.7977, -42.1483,-42.3823,-42.7336,-42.9604, -43.3012,-43.5314,-43.7603,-43.9898, -44.2124,-44.4361,-44.6537,-44.8755, -45.0996,-45.439,-45.7716,-46.1074, -46.3326,-46.6679,-46.8907,-47.1131, -47.4472,-47.6706,-47.8941,-47.9745)
FOOTPRINT_POINT_LONGITUDE = (179.41,178.79,178.182,177.739,177.751, 177.761,177.768,177.775,177.781,177.787 ,177.793,177.799,177.804,177.81,177.815 ,177.819,177.824,177.829,177.833, 177.837,177.843,177.846,177.851,177.855 ,177.859,177.862,177.864,177.866, 177.868,177.871,177.873,177.874,177.876 ,177.877,177.878,177.878,177.879, 177.879,177.879,177.879,177.878,177.878 ,177.877,177.876,177.875,177.874, 177.872,177.87,177.868,177.986,178.432, 178.841,179.378,179.712,179.994,179.991 ,179.988,179.984,179.981,179.978, 179.974,179.97,179.966,179.962,179.958, 179.954,179.948,179.944,179.938,179.933 ,179.929,179.925,179.921,179.914,179.91 ,179.905,179.898,179.894,179.886, 179.883,179.877,179.871,179.865,179.859 ,179.854,179.848,179.848,179.844, 179.837,179.825,179.818,179.809,179.801 ,179.792,179.787,179.782,179.774, 179.768,179.761,179.41)
ORBIT_NUMBER = 10688
ORBITAL_ECCENTRICITY = 0.577
ORBITAL_INCLINATION = 86.88
ORBITAL_SEMIMAJOR_AXIS = 8772.37
PERIAPSIS_ALTITUDE = 329.56
PERIAPSIS_ARGUMENT_ANGLE = 293.48
PERIAPSIS_TIME = 2012-05-23T00:51:59.000Z
SPACECRAFT_ORIENTATION = (0.0,1.0,0.0)
^MEX_ORIENTATION_DESC = "MEX_ORIENTATION_DESC.TXT"
SPACECRAFT_POINTING_MODE = ACROSSTRACK
^MEX_POINTING_DESC = "MEX_POINTING_DESC.TXT"
RIGHT_ASCENSION = -1e+32
DECLINATION = -1e+32
OFFSET_ANGLE = -0.8
SPACECRAFT_SOLAR_DISTANCE = 2.42454e+08
TARGET_NAME = MARS
/* CAMERA DATA ELEMENTS */
DETECTOR_TEMPERATURE = 18.5744
FOCAL_PLANE_TEMPERATURE = 8.3794
INST_CMPRS_NAME = "DISCRETE COSINE TRANSFORMATION (DCT)"
INST_CMPRS_RATIO = 7.96067
INST_CMPRS_QUALITY = 0
INST_CMPRS_QUANTZ_TBL_ID = 0
INSTRUMENT_TEMPERATURE = 11.6418
LENS_TEMPERATURE = 7.9716
MACROPIXEL_SIZE = 2
MISSING_FRAMES = 0
PIXEL_SUBSAMPLING_FLAG = N
SIGNAL_CHAIN_ID = 1
/* RADIOMETRIC DATA ELEMENTS */
BANDWIDTH = 178.0
CENTER_FILTER_WAVELENGTH = 679.0
RADIANCE_OFFSET = 0.27368
RADIANCE_SCALING_FACTOR = 0.0167696
REFLECTANCE_SCALING_FACTOR = 0.000522049
MEX:REFLECTANCE_OFFSET = 0.00851984
/* IMAGE OBJECT DEFINITIONS */
OBJECT = IMAGE
  INTERCHANGE_FORMAT = BINARY
  LINES = 28074
  LINE_SAMPLES = 4428
  SAMPLE_TYPE = UNSIGNED_INTEGER
  SAMPLE_BITS = 8
  BANDS = 1
  BAND_STORAGE_TYPE = BAND_SEQUENTIAL
  MAXIMUM = 255
  MEAN = 95.9965
  MINIMUM = 1
  STANDARD_DEVIATION = 22.6319
END_OBJECT = IMAGE
/* MAP OBJECT DEFINITIONS */
OBJECT = IMAGE_MAP_PROJECTION
  ^DATA_SET_MAP_PROJECTION_CATALOG= "DSMAP.CAT"
  A_AXIS_RADIUS = 3396.0
  B_AXIS_RADIUS = 3396.0
  C_AXIS_RADIUS = 3396.0
  CENTER_LATITUDE = 0.0
  CENTER_LONGITUDE = 179.0
  COORDINATE_SYSTEM_NAME = PLANETOGRAPHIC
  COORDINATE_SYSTEM_TYPE = "BODY-FIXED ROTATING"
  EASTERNMOST_LONGITUDE = 179.994
  FIRST_STANDARD_PARALLEL = "N/A"
  LINE_FIRST_PIXEL = 1
  LINE_LAST_PIXEL = 28074
  LINE_PROJECTION_OFFSET = -85569.75
  MAP_PROJECTION_ROTATION = 0.0
  MAP_PROJECTION_TYPE = SINUSOIDAL
  MAP_RESOLUTION = 2370.85521546667
  MAP_SCALE = 0.025
  MAXIMUM_LATITUDE = -36.0589
  MINIMUM_LATITUDE = -47.9954
  POSITIVE_LONGITUDE_DIRECTION = EAST
  REFERENCE_LATITUDE = "N/A"
  REFERENCE_LONGITUDE = "N/A"
  SAMPLE_FIRST_PIXEL = 1
  SAMPLE_LAST_PIXEL = 4428
  SAMPLE_PROJECTION_OFFSET = 2328.75
  SECOND_STANDARD_PARALLEL = "N/A"
  WESTERNMOST_LONGITUDE = 177.739
END_OBJECT = IMAGE_MAP_PROJECTION
/* The JPEG2000 image data file associated with this label. */
OBJECT = COMPRESSED_FILE
  FILE_NAME = "HA688_0000_S23.JP2"
  RECORD_TYPE = UNDEFINED
  FILE_RECORDS = UNK
  ENCODING_TYPE = "JP2"
  INTERCHANGE_FORMAT = BINARY
  UNCOMPRESSED_FILE_NAME = "HA688_0000_S23.IMG"
  REQUIRED_STORAGE_BYTES = "124338240"
  ^DESCRIPTION = "JP2INFO.TXT"
END_OBJECT = COMPRESSED_FILE
END
