PDS_VERSION_ID = PDS3
/* FILE DATA ELEMENTS */
RECORD_TYPE = STREAM
/* POINTERS TO DATA OBJECTS */
^COMPRESSED_FILE = "HA694_0000_P13.JP2"
/* IDENTIFICATION DATA ELEMENTS */
DATA_SET_ID = "MEX-M-HRSC-5-REFDR-MAPPROJECTED-V3.0"
DATA_SET_NAME = "MARS EXPRESS HRSC MAP PROJECTED REFDR V3.0"
DETECTOR_ID = MEX_HRSC_P1
EVENT_TYPE = "MARS-REGIONAL-MAPPING-Te-Fl"
INSTRUMENT_HOST_ID = MEX
INSTRUMENT_HOST_NAME = "MARS EXPRESS"
INSTRUMENT_ID = HRSC
INSTRUMENT_NAME = "HIGH RESOLUTION STEREO CAMERA"
MISSION_NAME = "MARS EXPRESS"
MISSION_PHASE_NAME = ME_Phase_26
PROCESSING_LEVEL_ID = 3
PRODUCT_CREATION_TIME = 2016-10-27T21:34:36.000Z
PRODUCT_ID = "HA694_0000_P13.JP2"
RELEASE_ID = 0109
REVISION_ID = 0000
/* QUALITY DATA ELEMENTS */
DATA_QUALITY_ID = 1
DATA_QUALITY_DESC = "Data calculated based on original SPICE kernels"
/* TIME DATA ELEMENTS */
SPACECRAFT_CLOCK_START_COUNT = "1/0285965672.08262"
SPACECRAFT_CLOCK_STOP_COUNT = "1/0285966034.26790"
START_TIME = 2012-05-24T18:55:48.128Z
STOP_TIME = 2012-05-24T19:00:05.796Z
/* ORBITAL DATA ELEMENTS */
ASCENDING_NODE_LONGITUDE = 13.23
MAXIMUM_RESOLUTION = 39.5
FOOTPRINT_POINT_LATITUDE = (-41.5323,-41.5267,-41.5222,-41.517, -41.5099,-41.1689,-40.9218,-40.4348, -40.1878,-39.9404,-39.6935,-39.4427, -39.1917,-38.941,-38.6862,-38.4318, -38.1749,-37.9158,-37.6577,-37.3965, -37.1342,-36.8701,-36.608,-36.2033, -35.9355,-35.5291,-35.2573,-34.9828, -34.7065,-34.4307,-34.1523,-33.8703, -33.5896,-33.3063,-33.0211,-32.7332, -32.2978,-32.0059,-31.7114,-31.2682, -30.9718,-30.6725,-30.3722,-30.0697, -29.7646,-29.4582,-29.1495,-28.8376, -28.5239,-28.2083,-27.89,-27.6845, -27.6793,-27.6741,-27.6659,-27.6599, -27.8182,-28.1384,-28.4552,-28.7717, -29.0853,-29.3955,-29.8577,-30.3172, -30.62,-30.9228,-31.222,-31.6672, -31.962,-32.2541,-32.6901,-32.9792, -33.2656,-33.6931,-33.9775,-34.2578, -34.6785,-34.9563,-35.2343,-35.5081, -35.7815,-36.0505,-36.4538,-36.7196, -36.9858,-37.3791,-37.6415,-37.9003, -38.1594,-38.5443,-38.7997,-39.0541, -39.3055,-39.5576,-39.9314,-40.1797, -40.4283,-40.9171,-41.2817,-41.5323)
FOOTPRINT_POINT_LONGITUDE = (284.77,284.211,283.866,283.521,283.109 ,282.962,282.97,282.98,282.984,282.989, 282.993,282.996,283.0,283.003,283.006, 283.009,283.012,283.014,283.017,283.018 ,283.02,283.022,283.021,283.025,283.024 ,283.024,283.024,283.023,283.022,283.02 ,283.017,283.016,283.013,283.01,283.006 ,283.003,282.998,282.994,282.99,282.982 ,282.975,282.968,282.961,282.954, 282.946,282.937,282.929,282.92,282.912, 282.902,282.893,283.351,283.979,284.388 ,284.985,285.447,285.696,285.687, 285.678,285.669,285.659,285.65,285.636, 285.622,285.613,285.604,285.595,285.581 ,285.571,285.562,285.548,285.539, 285.529,285.515,285.506,285.497,285.484 ,285.475,285.466,285.457,285.447, 285.437,285.422,285.412,285.402,285.387 ,285.377,285.367,285.356,285.341,285.33 ,285.319,285.309,285.298,285.282, 285.271,285.26,285.238,285.221,284.77)
ORBIT_NUMBER = 10694
ORBITAL_ECCENTRICITY = 0.577
ORBITAL_INCLINATION = 86.87
ORBITAL_SEMIMAJOR_AXIS = 8770.92
PERIAPSIS_ALTITUDE = 329.16
PERIAPSIS_ARGUMENT_ANGLE = 292.47
PERIAPSIS_TIME = 2012-05-24T18:48:35.000Z
SPACECRAFT_ORIENTATION = (0.0,1.0,0.0)
^MEX_ORIENTATION_DESC = "MEX_ORIENTATION_DESC.TXT"
SPACECRAFT_POINTING_MODE = ACROSSTRACK
^MEX_POINTING_DESC = "MEX_POINTING_DESC.TXT"
RIGHT_ASCENSION = -1e+32
DECLINATION = -1e+32
OFFSET_ANGLE = 0.2
SPACECRAFT_SOLAR_DISTANCE = 2.42219e+08
TARGET_NAME = MARS
/* CAMERA DATA ELEMENTS */
DETECTOR_TEMPERATURE = 17.351
FOCAL_PLANE_TEMPERATURE = 7.9716
INST_CMPRS_NAME = "DISCRETE COSINE TRANSFORMATION (DCT)"
INST_CMPRS_RATIO = 8.29956
INST_CMPRS_QUALITY = 0
INST_CMPRS_QUANTZ_TBL_ID = 0
INSTRUMENT_TEMPERATURE = 11.234
LENS_TEMPERATURE = 8.5833
MACROPIXEL_SIZE = 2
MISSING_FRAMES = 0
PIXEL_SUBSAMPLING_FLAG = N
SIGNAL_CHAIN_ID = 3
/* RADIOMETRIC DATA ELEMENTS */
BANDWIDTH = 174.0
CENTER_FILTER_WAVELENGTH = 675.0
RADIANCE_OFFSET = 0.336486
RADIANCE_SCALING_FACTOR = 0.0228722
REFLECTANCE_SCALING_FACTOR = 0.000721785
MEX:REFLECTANCE_OFFSET = 0.0106186
/* IMAGE OBJECT DEFINITIONS */
OBJECT = IMAGE
  INTERCHANGE_FORMAT = BINARY
  LINES = 32939
  LINE_SAMPLES = 5601
  SAMPLE_TYPE = UNSIGNED_INTEGER
  SAMPLE_BITS = 8
  BANDS = 1
  BAND_STORAGE_TYPE = BAND_SEQUENTIAL
  MAXIMUM = 255
  MEAN = 97.5261
  MINIMUM = 1
  STANDARD_DEVIATION = 20.9282
END_OBJECT = IMAGE
/* MAP OBJECT DEFINITIONS */
OBJECT = IMAGE_MAP_PROJECTION
  ^DATA_SET_MAP_PROJECTION_CATALOG= "DSMAP.CAT"
  A_AXIS_RADIUS = 3396.0
  B_AXIS_RADIUS = 3396.0
  C_AXIS_RADIUS = 3396.0
  CENTER_LATITUDE = 0.0
  CENTER_LONGITUDE = 284.0
  COORDINATE_SYSTEM_NAME = PLANETOGRAPHIC
  COORDINATE_SYSTEM_TYPE = "BODY-FIXED ROTATING"
  EASTERNMOST_LONGITUDE = 285.696
  FIRST_STANDARD_PARALLEL = "N/A"
  LINE_FIRST_PIXEL = 1
  LINE_LAST_PIXEL = 32939
  LINE_PROJECTION_OFFSET = -65643.75
  MAP_PROJECTION_ROTATION = 0.0
  MAP_PROJECTION_TYPE = SINUSOIDAL
  MAP_RESOLUTION = 2370.85521546667
  MAP_SCALE = 0.025
  MAXIMUM_LATITUDE = -27.6599
  MINIMUM_LATITUDE = -41.5323
  POSITIVE_LONGITUDE_DIRECTION = EAST
  REFERENCE_LATITUDE = "N/A"
  REFERENCE_LONGITUDE = "N/A"
  SAMPLE_FIRST_PIXEL = 1
  SAMPLE_LAST_PIXEL = 5601
  SAMPLE_PROJECTION_OFFSET = 2217.75
  SECOND_STANDARD_PARALLEL = "N/A"
  WESTERNMOST_LONGITUDE = 282.893
END_OBJECT = IMAGE_MAP_PROJECTION
/* The JPEG2000 image data file associated with this label. */
OBJECT = COMPRESSED_FILE
  FILE_NAME = "HA694_0000_P13.JP2"
  RECORD_TYPE = UNDEFINED
  FILE_RECORDS = UNK
  ENCODING_TYPE = "JP2"
  INTERCHANGE_FORMAT = BINARY
  UNCOMPRESSED_FILE_NAME = "HA694_0000_P13.IMG"
  REQUIRED_STORAGE_BYTES = "184519344"
  ^DESCRIPTION = "JP2INFO.TXT"
END_OBJECT = COMPRESSED_FILE
END
