PDS_VERSION_ID = PDS3
/* FILE DATA ELEMENTS */
RECORD_TYPE = STREAM
/* POINTERS TO DATA OBJECTS */
^COMPRESSED_FILE = "HA694_0000_S13.JP2"
/* IDENTIFICATION DATA ELEMENTS */
DATA_SET_ID = "MEX-M-HRSC-5-REFDR-MAPPROJECTED-V3.0"
DATA_SET_NAME = "MARS EXPRESS HRSC MAP PROJECTED REFDR V3.0"
DETECTOR_ID = MEX_HRSC_S1
EVENT_TYPE = "MARS-REGIONAL-MAPPING-Te-Fl"
INSTRUMENT_HOST_ID = MEX
INSTRUMENT_HOST_NAME = "MARS EXPRESS"
INSTRUMENT_ID = HRSC
INSTRUMENT_NAME = "HIGH RESOLUTION STEREO CAMERA"
MISSION_NAME = "MARS EXPRESS"
MISSION_PHASE_NAME = ME_Phase_26
PROCESSING_LEVEL_ID = 3
PRODUCT_CREATION_TIME = 2016-10-27T21:34:36.000Z
PRODUCT_ID = "HA694_0000_S13.JP2"
RELEASE_ID = 0109
REVISION_ID = 0000
/* QUALITY DATA ELEMENTS */
DATA_QUALITY_ID = 1
DATA_QUALITY_DESC = "Data calculated based on original SPICE kernels"
/* TIME DATA ELEMENTS */
SPACECRAFT_CLOCK_START_COUNT = "1/0285965672.08262"
SPACECRAFT_CLOCK_STOP_COUNT = "1/0285966034.26790"
START_TIME = 2012-05-24T18:56:05.645Z
STOP_TIME = 2012-05-24T19:00:36.220Z
/* ORBITAL DATA ELEMENTS */
ASCENDING_NODE_LONGITUDE = 13.23
MAXIMUM_RESOLUTION = 42.1
FOOTPRINT_POINT_LATITUDE = (-41.5058,-41.5043,-41.502,-41.4976, -41.4938,-41.4893,-41.2788,-41.0301, -40.5425,-40.0504,-39.6768,-39.4278, -39.1759,-38.9226,-38.6707,-38.4142, -38.1575,-37.8981,-37.5089,-37.2463, -36.9822,-36.7164,-36.3208,-36.047, -35.7794,-35.5074,-35.2356,-34.9599, -34.5461,-34.2724,-33.9879,-33.5666, -33.2864,-32.9993,-32.7146,-32.4242, -32.1332,-31.8406,-31.5457,-31.2517, -30.8081,-30.511,-30.2107,-29.9091, -29.6059,-29.3001,-28.9916,-28.6807, -28.3678,-28.0532,-27.7363,-27.6951, -27.6891,-27.6836,-27.6742,-27.6662, -27.6592,-27.6532,-27.9715,-28.2893, -28.6038,-28.9172,-29.2279,-29.5352, -29.9943,-30.2998,-30.5992,-30.9028, -31.2007,-31.6446,-32.0841,-32.5197, -32.9519,-33.2391,-33.524,-33.9496, -34.2314,-34.6523,-35.0706,-35.4851, -35.7583,-36.0274,-36.2974,-36.5636, -36.9627,-37.2258,-37.489,-37.7491, -38.1387,-38.3952,-38.6524,-38.9061, -39.16,-39.4132,-39.7887,-40.0388, -40.2854,-40.533,-41.1441,-41.5058)
FOOTPRINT_POINT_LONGITUDE = (285.106,284.752,284.397,283.886,283.53 ,283.173,282.928,282.936,282.945, 282.953,282.959,282.962,282.965,282.968 ,282.97,282.972,282.975,282.977,282.979 ,282.98,282.982,282.983,282.981,282.983 ,282.982,282.981,282.98,282.979,282.976 ,282.972,282.971,282.966,282.961, 282.958,282.953,282.949,282.944,282.939 ,282.934,282.927,282.916,282.908,282.9, 282.891,282.882,282.872,282.863,282.853 ,282.843,282.833,282.822,283.224, 283.684,284.029,284.516,284.974,285.402 ,285.784,285.773,285.763,285.753, 285.742,285.731,285.721,285.705,285.695 ,285.684,285.674,285.664,285.648, 285.632,285.616,285.601,285.591,285.58, 285.565,285.555,285.54,285.526,285.511, 285.501,285.49,285.48,285.469,285.453, 285.442,285.431,285.42,285.403,285.392, 285.381,285.37,285.359,285.348,285.331, 285.319,285.308,285.296,285.267, 285.106)
ORBIT_NUMBER = 10694
ORBITAL_ECCENTRICITY = 0.577
ORBITAL_INCLINATION = 86.87
ORBITAL_SEMIMAJOR_AXIS = 8770.92
PERIAPSIS_ALTITUDE = 329.16
PERIAPSIS_ARGUMENT_ANGLE = 292.47
PERIAPSIS_TIME = 2012-05-24T18:48:35.000Z
SPACECRAFT_ORIENTATION = (0.0,1.0,0.0)
^MEX_ORIENTATION_DESC = "MEX_ORIENTATION_DESC.TXT"
SPACECRAFT_POINTING_MODE = ACROSSTRACK
^MEX_POINTING_DESC = "MEX_POINTING_DESC.TXT"
RIGHT_ASCENSION = -1e+32
DECLINATION = -1e+32
OFFSET_ANGLE = 0.2
SPACECRAFT_SOLAR_DISTANCE = 2.42219e+08
TARGET_NAME = MARS
/* CAMERA DATA ELEMENTS */
DETECTOR_TEMPERATURE = 17.351
FOCAL_PLANE_TEMPERATURE = 7.9716
INST_CMPRS_NAME = "DISCRETE COSINE TRANSFORMATION (DCT)"
INST_CMPRS_RATIO = 8.64112
INST_CMPRS_QUALITY = 0
INST_CMPRS_QUANTZ_TBL_ID = 0
INSTRUMENT_TEMPERATURE = 11.234
LENS_TEMPERATURE = 8.5833
MACROPIXEL_SIZE = 2
MISSING_FRAMES = 0
PIXEL_SUBSAMPLING_FLAG = N
SIGNAL_CHAIN_ID = 1
/* RADIOMETRIC DATA ELEMENTS */
BANDWIDTH = 180.0
CENTER_FILTER_WAVELENGTH = 677.0
RADIANCE_OFFSET = 0.38778
RADIANCE_SCALING_FACTOR = 0.0238244
REFLECTANCE_SCALING_FACTOR = 0.000729252
MEX:REFLECTANCE_OFFSET = 0.0118697
/* IMAGE OBJECT DEFINITIONS */
OBJECT = IMAGE
  INTERCHANGE_FORMAT = BINARY
  LINES = 32939
  LINE_SAMPLES = 5601
  SAMPLE_TYPE = UNSIGNED_INTEGER
  SAMPLE_BITS = 8
  BANDS = 1
  BAND_STORAGE_TYPE = BAND_SEQUENTIAL
  MAXIMUM = 255
  MEAN = 102.326
  MINIMUM = 1
  STANDARD_DEVIATION = 22.4477
END_OBJECT = IMAGE
/* MAP OBJECT DEFINITIONS */
OBJECT = IMAGE_MAP_PROJECTION
  ^DATA_SET_MAP_PROJECTION_CATALOG= "DSMAP.CAT"
  A_AXIS_RADIUS = 3396.0
  B_AXIS_RADIUS = 3396.0
  C_AXIS_RADIUS = 3396.0
  CENTER_LATITUDE = 0.0
  CENTER_LONGITUDE = 284.0
  COORDINATE_SYSTEM_NAME = PLANETOGRAPHIC
  COORDINATE_SYSTEM_TYPE = "BODY-FIXED ROTATING"
  EASTERNMOST_LONGITUDE = 285.784
  FIRST_STANDARD_PARALLEL = "N/A"
  LINE_FIRST_PIXEL = 1
  LINE_LAST_PIXEL = 32939
  LINE_PROJECTION_OFFSET = -65643.75
  MAP_PROJECTION_ROTATION = 0.0
  MAP_PROJECTION_TYPE = SINUSOIDAL
  MAP_RESOLUTION = 2370.85521546667
  MAP_SCALE = 0.025
  MAXIMUM_LATITUDE = -27.6532
  MINIMUM_LATITUDE = -41.5058
  POSITIVE_LONGITUDE_DIRECTION = EAST
  REFERENCE_LATITUDE = "N/A"
  REFERENCE_LONGITUDE = "N/A"
  SAMPLE_FIRST_PIXEL = 1
  SAMPLE_LAST_PIXEL = 5601
  SAMPLE_PROJECTION_OFFSET = 2217.75
  SECOND_STANDARD_PARALLEL = "N/A"
  WESTERNMOST_LONGITUDE = 282.822
END_OBJECT = IMAGE_MAP_PROJECTION
/* The JPEG2000 image data file associated with this label. */
OBJECT = COMPRESSED_FILE
  FILE_NAME = "HA694_0000_S13.JP2"
  RECORD_TYPE = UNDEFINED
  FILE_RECORDS = UNK
  ENCODING_TYPE = "JP2"
  INTERCHANGE_FORMAT = BINARY
  UNCOMPRESSED_FILE_NAME = "HA694_0000_S13.IMG"
  REQUIRED_STORAGE_BYTES = "184519344"
  ^DESCRIPTION = "JP2INFO.TXT"
END_OBJECT = COMPRESSED_FILE
END
