PDS_VERSION_ID = PDS3
/* FILE DATA ELEMENTS */
RECORD_TYPE = STREAM
/* POINTERS TO DATA OBJECTS */
^COMPRESSED_FILE = "HA706_0000_RE3.JP2"
/* IDENTIFICATION DATA ELEMENTS */
DATA_SET_ID = "MEX-M-HRSC-5-REFDR-MAPPROJECTED-V3.0"
DATA_SET_NAME = "MARS EXPRESS HRSC MAP PROJECTED REFDR V3.0"
DETECTOR_ID = MEX_HRSC_RED
EVENT_TYPE = "MARS-REGIONAL-MAPPING-Im-Fl-Lc"
INSTRUMENT_HOST_ID = MEX
INSTRUMENT_HOST_NAME = "MARS EXPRESS"
INSTRUMENT_ID = HRSC
INSTRUMENT_NAME = "HIGH RESOLUTION STEREO CAMERA"
MISSION_NAME = "MARS EXPRESS"
MISSION_PHASE_NAME = ME_Phase_26
PROCESSING_LEVEL_ID = 3
PRODUCT_CREATION_TIME = 2016-10-28T02:48:22.000Z
PRODUCT_ID = "HA706_0000_RE3.JP2"
RELEASE_ID = 0110
REVISION_ID = 0000
/* QUALITY DATA ELEMENTS */
DATA_QUALITY_ID = 1
DATA_QUALITY_DESC = "Data calculated based on original SPICE kernels"
/* TIME DATA ELEMENTS */
SPACECRAFT_CLOCK_START_COUNT = "1/0286267692.08256"
SPACECRAFT_CLOCK_STOP_COUNT = "1/0286268082.24993"
START_TIME = 2012-05-28T06:48:23.152Z
STOP_TIME = 2012-05-28T06:52:15.565Z
/* ORBITAL DATA ELEMENTS */
ASCENDING_NODE_LONGITUDE = 13.0
MAXIMUM_RESOLUTION = 77
FOOTPRINT_POINT_LATITUDE = (-41.7999,-41.8441,-41.8677,-41.9094, -41.9116,-41.6591,-41.1551,-40.8976, -40.6404,-40.3836,-39.9942,-39.7327, -39.3407,-38.9423,-38.6769,-38.4133, -38.145,-37.8776,-37.6041,-37.3272, -37.0503,-36.7737,-36.492,-36.2033, -35.9225,-35.5018,-35.2167,-34.9272, -34.4933,-34.0533,-33.7602,-33.4622, -33.1655,-32.7135,-32.4114,-32.1045, -31.7978,-31.4876,-31.1764,-30.8624, -30.5455,-30.2204,-29.8999,-29.5835, -29.2585,-28.9292,-28.427,-28.0926, -27.7554,-27.354,-27.3307,-27.3045, -27.256,-27.2206,-27.1847,-27.5231, -27.8586,-28.3628,-28.6934,-29.022, -29.347,-29.6719,-29.9945,-30.3154, -30.6328,-31.1047,-31.4183,-31.7285, -32.0289,-32.3379,-32.7987,-33.1016, -33.4003,-33.6976,-33.9919,-34.2876, -34.5773,-34.8673,-35.2985,-35.5842, -35.8703,-36.1513,-36.4259,-36.7119, -36.988,-37.2644,-37.6743,-37.9462, -38.2178,-38.4852,-38.8858,-39.1529, -39.4155,-39.8015,-40.062,-40.3197, -40.5758,-40.8359,-41.2257,-41.7999)
FOOTPRINT_POINT_LONGITUDE = (141.264,140.663,140.316,139.642, 139.007,139.003,138.995,138.991,138.986 ,138.982,138.974,138.968,138.96,138.951 ,138.944,138.936,138.928,138.919, 138.914,138.908,138.901,138.894,138.887 ,138.883,138.874,138.858,138.85,138.841 ,138.827,138.812,138.802,138.791,138.78 ,138.764,138.753,138.742,138.73,138.718 ,138.706,138.694,138.681,138.671, 138.658,138.642,138.628,138.615,138.595 ,138.581,138.566,138.809,139.193, 139.607,140.3,140.756,141.202,141.206, 141.212,141.214,141.217,141.221,141.225 ,141.228,141.229,141.232,141.234, 141.239,141.241,141.243,141.254,141.254 ,141.252,141.251,141.255,141.258, 141.261,141.263,141.265,141.268,141.272 ,141.274,141.275,141.277,141.288, 141.281,141.284,141.286,141.289,141.291 ,141.293,141.295,141.298,141.3,141.301, 141.314,141.319,141.319,141.323,141.321 ,141.311,141.264)
ORBIT_NUMBER = 10706
ORBITAL_ECCENTRICITY = 0.577
ORBITAL_INCLINATION = 86.87
ORBITAL_SEMIMAJOR_AXIS = 8771.04
PERIAPSIS_ALTITUDE = 329.56
PERIAPSIS_ARGUMENT_ANGLE = 290.43
PERIAPSIS_TIME = 2012-05-28T06:41:49.000Z
SPACECRAFT_ORIENTATION = (0.0,1.0,0.0)
^MEX_ORIENTATION_DESC = "MEX_ORIENTATION_DESC.TXT"
SPACECRAFT_POINTING_MODE = ACROSSTRACK
^MEX_POINTING_DESC = "MEX_POINTING_DESC.TXT"
RIGHT_ASCENSION = -1e+32
DECLINATION = -1e+32
OFFSET_ANGLE = -1.9
SPACECRAFT_SOLAR_DISTANCE = 2.41737e+08
TARGET_NAME = MARS
/* CAMERA DATA ELEMENTS */
DETECTOR_TEMPERATURE = 18.9822
FOCAL_PLANE_TEMPERATURE = 8.3794
INST_CMPRS_NAME = "DISCRETE COSINE TRANSFORMATION (DCT)"
INST_CMPRS_RATIO = 6.24808
INST_CMPRS_QUALITY = 0
INST_CMPRS_QUANTZ_TBL_ID = 0
INSTRUMENT_TEMPERATURE = 11.4379
LENS_TEMPERATURE = 8.7872
MACROPIXEL_SIZE = 4
MISSING_FRAMES = 0
PIXEL_SUBSAMPLING_FLAG = N
SIGNAL_CHAIN_ID = 2
/* RADIOMETRIC DATA ELEMENTS */
BANDWIDTH = 48.0
CENTER_FILTER_WAVELENGTH = 748.0
RADIANCE_OFFSET = 0.082334
RADIANCE_SCALING_FACTOR = 0.00622694
REFLECTANCE_SCALING_FACTOR = 0.000830393
MEX:REFLECTANCE_OFFSET = 0.0109796
/* IMAGE OBJECT DEFINITIONS */
OBJECT = IMAGE
  INTERCHANGE_FORMAT = BINARY
  LINES = 8651
  LINE_SAMPLES = 1569
  SAMPLE_TYPE = UNSIGNED_INTEGER
  SAMPLE_BITS = 8
  BANDS = 1
  BAND_STORAGE_TYPE = BAND_SEQUENTIAL
  MAXIMUM = 255
  MEAN = 102.828
  MINIMUM = 1
  STANDARD_DEVIATION = 21.069
END_OBJECT = IMAGE
/* MAP OBJECT DEFINITIONS */
OBJECT = IMAGE_MAP_PROJECTION
  ^DATA_SET_MAP_PROJECTION_CATALOG= "DSMAP.CAT"
  A_AXIS_RADIUS = 3396.0
  B_AXIS_RADIUS = 3396.0
  C_AXIS_RADIUS = 3396.0
  CENTER_LATITUDE = 0.0
  CENTER_LONGITUDE = 140.0
  COORDINATE_SYSTEM_NAME = PLANETOGRAPHIC
  COORDINATE_SYSTEM_TYPE = "BODY-FIXED ROTATING"
  EASTERNMOST_LONGITUDE = 141.323
  FIRST_STANDARD_PARALLEL = "N/A"
  LINE_FIRST_PIXEL = 1
  LINE_LAST_PIXEL = 8651
  LINE_PROJECTION_OFFSET = -16146.125
  MAP_PROJECTION_ROTATION = 0.0
  MAP_PROJECTION_TYPE = SINUSOIDAL
  MAP_RESOLUTION = 592.713803866667
  MAP_SCALE = 0.1
  MAXIMUM_LATITUDE = -27.1847
  MINIMUM_LATITUDE = -41.9116
  POSITIVE_LONGITUDE_DIRECTION = EAST
  REFERENCE_LATITUDE = "N/A"
  REFERENCE_LONGITUDE = "N/A"
  SAMPLE_FIRST_PIXEL = 1
  SAMPLE_LAST_PIXEL = 1569
  SAMPLE_PROJECTION_OFFSET = 837.125
  SECOND_STANDARD_PARALLEL = "N/A"
  WESTERNMOST_LONGITUDE = 138.566
END_OBJECT = IMAGE_MAP_PROJECTION
/* The JPEG2000 image data file associated with this label. */
OBJECT = COMPRESSED_FILE
  FILE_NAME = "HA706_0000_RE3.JP2"
  RECORD_TYPE = UNDEFINED
  FILE_RECORDS = UNK
  ENCODING_TYPE = "JP2"
  INTERCHANGE_FORMAT = BINARY
  UNCOMPRESSED_FILE_NAME = "HA706_0000_RE3.IMG"
  REQUIRED_STORAGE_BYTES = "13593816"
  ^DESCRIPTION = "JP2INFO.TXT"
END_OBJECT = COMPRESSED_FILE
END
