PDS_VERSION_ID = PDS3
/* FILE DATA ELEMENTS */
RECORD_TYPE = STREAM
/* POINTERS TO DATA OBJECTS */
^COMPRESSED_FILE = "HA712_0000_IR3.JP2"
/* IDENTIFICATION DATA ELEMENTS */
DATA_SET_ID = "MEX-M-HRSC-5-REFDR-MAPPROJECTED-V3.0"
DATA_SET_NAME = "MARS EXPRESS HRSC MAP PROJECTED REFDR V3.0"
DETECTOR_ID = MEX_HRSC_IR
EVENT_TYPE = "MARS-REGIONAL-MAPPING-Vo-Te-Im"
INSTRUMENT_HOST_ID = MEX
INSTRUMENT_HOST_NAME = "MARS EXPRESS"
INSTRUMENT_ID = HRSC
INSTRUMENT_NAME = "HIGH RESOLUTION STEREO CAMERA"
MISSION_NAME = "MARS EXPRESS"
MISSION_PHASE_NAME = ME_Phase_26
PROCESSING_LEVEL_ID = 3
PRODUCT_CREATION_TIME = 2016-10-28T02:48:22.000Z
PRODUCT_ID = "HA712_0000_IR3.JP2"
RELEASE_ID = 0110
REVISION_ID = 0000
/* QUALITY DATA ELEMENTS */
DATA_QUALITY_ID = 1
DATA_QUALITY_DESC = "Data calculated based on original SPICE kernels"
/* TIME DATA ELEMENTS */
SPACECRAFT_CLOCK_START_COUNT = "1/0286418569.07288"
SPACECRAFT_CLOCK_STOP_COUNT = "1/0286418846.23254"
START_TIME = 2012-05-30T00:44:01.080Z
STOP_TIME = 2012-05-30T00:47:17.514Z
/* ORBITAL DATA ELEMENTS */
ASCENDING_NODE_LONGITUDE = 12.89
MAXIMUM_RESOLUTION = 69.9
FOOTPRINT_POINT_LATITUDE = (-50.9311,-50.9246,-50.9174,-50.9094, -50.9006,-50.8892,-50.5295,-50.3257, -49.9193,-49.7136,-49.506,-49.2984, -49.0914,-48.8847,-48.674,-48.4629, -48.2516,-47.9351,-47.7217,-47.5071, -47.2929,-47.0791,-46.8613,-46.643, -46.3197,-46.1,-45.876,-45.5449, -45.3212,-45.0952,-44.871,-44.6465, -44.4183,-44.1895,-43.9615,-43.6146, -43.3836,-43.0346,-42.7997,-42.5653, -42.2077,-41.9686,-41.7287,-41.3697, -41.0055,-40.761,-40.3915,-40.1433, -39.894,-39.7531,-39.751,-39.7537, -39.7612,-39.768,-39.7681,-39.8949, -40.1461,-40.5175,-40.7627,-41.0106, -41.2562,-41.4987,-41.7414,-41.9825, -42.2189,-42.4576,-42.6937,-42.9321, -43.2858,-43.5152,-43.7481,-44.0959, -44.3248,-44.5542,-44.8911,-45.117, -45.3436,-45.5678,-45.7901,-46.0124, -46.3442,-46.6717,-46.8902,-47.1091, -47.4312,-47.6461,-47.9683,-48.1777, -48.3884,-48.6001,-48.8146,-49.0241, -49.2314,-49.4385,-49.6468,-49.9577, -50.3653,-50.5698,-50.9779,-50.9311)
FOOTPRINT_POINT_LONGITUDE = (243.791,243.454,243.116,242.777, 242.437,242.032,242.014,242.03,242.062, 242.077,242.092,242.107,242.122,242.136 ,242.15,242.164,242.178,242.198,242.21, 242.223,242.235,242.247,242.258,242.27, 242.284,242.295,242.307,242.322,242.333 ,242.343,242.352,242.361,242.369, 242.378,242.387,242.399,242.406,242.417 ,242.423,242.43,242.44,242.447,242.454, 242.459,242.467,242.471,242.478,242.483 ,242.487,242.729,243.088,243.607, 243.935,244.359,244.664,245.018,245.007 ,244.988,244.976,244.964,244.952,244.94 ,244.927,244.915,244.902,244.889, 244.876,244.864,244.845,244.831,244.817 ,244.798,244.784,244.771,244.749, 244.736,244.722,244.708,244.694,244.68, 244.658,244.636,244.621,244.606,244.584 ,244.569,244.546,244.53,244.514,244.499 ,244.483,244.468,244.452,244.435, 244.419,244.394,244.361,244.344,244.309 ,243.791)
ORBIT_NUMBER = 10712
ORBITAL_ECCENTRICITY = 0.577
ORBITAL_INCLINATION = 86.88
ORBITAL_SEMIMAJOR_AXIS = 8767.29
PERIAPSIS_ALTITUDE = 328.35
PERIAPSIS_ARGUMENT_ANGLE = 289.4
PERIAPSIS_TIME = 2012-05-30T00:38:29.000Z
SPACECRAFT_ORIENTATION = (0.0,1.0,0.0)
^MEX_ORIENTATION_DESC = "MEX_ORIENTATION_DESC.TXT"
SPACECRAFT_POINTING_MODE = ACROSSTRACK
^MEX_POINTING_DESC = "MEX_POINTING_DESC.TXT"
RIGHT_ASCENSION = -1e+32
DECLINATION = -1e+32
OFFSET_ANGLE = 0.3
SPACECRAFT_SOLAR_DISTANCE = 2.41491e+08
TARGET_NAME = MARS
/* CAMERA DATA ELEMENTS */
DETECTOR_TEMPERATURE = 17.351
FOCAL_PLANE_TEMPERATURE = 7.9716
INST_CMPRS_NAME = "DISCRETE COSINE TRANSFORMATION (DCT)"
INST_CMPRS_RATIO = 6.98353
INST_CMPRS_QUALITY = 0
INST_CMPRS_QUANTZ_TBL_ID = 0
INSTRUMENT_TEMPERATURE = 11.4379
LENS_TEMPERATURE = 8.5833
MACROPIXEL_SIZE = 4
MISSING_FRAMES = 0
PIXEL_SUBSAMPLING_FLAG = N
SIGNAL_CHAIN_ID = 2
/* RADIOMETRIC DATA ELEMENTS */
BANDWIDTH = 81.0
CENTER_FILTER_WAVELENGTH = 955.5
RADIANCE_OFFSET = 0.15482
RADIANCE_SCALING_FACTOR = 0.0042014
REFLECTANCE_SCALING_FACTOR = 0.000528593
MEX:REFLECTANCE_OFFSET = 0.0194785
/* IMAGE OBJECT DEFINITIONS */
OBJECT = IMAGE
  INTERCHANGE_FORMAT = BINARY
  LINES = 13356
  LINE_SAMPLES = 2355
  SAMPLE_TYPE = UNSIGNED_INTEGER
  SAMPLE_BITS = 8
  BANDS = 1
  BAND_STORAGE_TYPE = BAND_SEQUENTIAL
  MAXIMUM = 255
  MEAN = 74.4537
  MINIMUM = 1
  STANDARD_DEVIATION = 36.2485
END_OBJECT = IMAGE
/* MAP OBJECT DEFINITIONS */
OBJECT = IMAGE_MAP_PROJECTION
  ^DATA_SET_MAP_PROJECTION_CATALOG= "DSMAP.CAT"
  A_AXIS_RADIUS = 3396.0
  B_AXIS_RADIUS = 3396.0
  C_AXIS_RADIUS = 3396.0
  CENTER_LATITUDE = 0.0
  CENTER_LONGITUDE = 244.0
  COORDINATE_SYSTEM_NAME = PLANETOGRAPHIC
  COORDINATE_SYSTEM_TYPE = "BODY-FIXED ROTATING"
  EASTERNMOST_LONGITUDE = 245.018
  FIRST_STANDARD_PARALLEL = "N/A"
  LINE_FIRST_PIXEL = 1
  LINE_LAST_PIXEL = 13356
  LINE_PROJECTION_OFFSET = -47137.125
  MAP_PROJECTION_ROTATION = 0.0
  MAP_PROJECTION_TYPE = SINUSOIDAL
  MAP_RESOLUTION = 1185.42760773333
  MAP_SCALE = 0.05
  MAXIMUM_LATITUDE = -39.751
  MINIMUM_LATITUDE = -50.9779
  POSITIVE_LONGITUDE_DIRECTION = EAST
  REFERENCE_LATITUDE = "N/A"
  REFERENCE_LONGITUDE = "N/A"
  SAMPLE_FIRST_PIXEL = 1
  SAMPLE_LAST_PIXEL = 2355
  SAMPLE_PROJECTION_OFFSET = 1497.875
  SECOND_STANDARD_PARALLEL = "N/A"
  WESTERNMOST_LONGITUDE = 242.014
END_OBJECT = IMAGE_MAP_PROJECTION
/* The JPEG2000 image data file associated with this label. */
OBJECT = COMPRESSED_FILE
  FILE_NAME = "HA712_0000_IR3.JP2"
  RECORD_TYPE = UNDEFINED
  FILE_RECORDS = UNK
  ENCODING_TYPE = "JP2"
  INTERCHANGE_FORMAT = BINARY
  UNCOMPRESSED_FILE_NAME = "HA712_0000_IR3.IMG"
  REQUIRED_STORAGE_BYTES = "31476930"
  ^DESCRIPTION = "JP2INFO.TXT"
END_OBJECT = COMPRESSED_FILE
END
