PDS_VERSION_ID = PDS3
/* FILE DATA ELEMENTS */
RECORD_TYPE = STREAM
/* POINTERS TO DATA OBJECTS */
^COMPRESSED_FILE = "HA714_0000_P13.JP2"
/* IDENTIFICATION DATA ELEMENTS */
DATA_SET_ID = "MEX-M-HRSC-5-REFDR-MAPPROJECTED-V3.0"
DATA_SET_NAME = "MARS EXPRESS HRSC MAP PROJECTED REFDR V3.0"
DETECTOR_ID = MEX_HRSC_P1
EVENT_TYPE = "MARS-REGIONAL-MAPPING-Te-Fl-Pf"
INSTRUMENT_HOST_ID = MEX
INSTRUMENT_HOST_NAME = "MARS EXPRESS"
INSTRUMENT_ID = HRSC
INSTRUMENT_NAME = "HIGH RESOLUTION STEREO CAMERA"
MISSION_NAME = "MARS EXPRESS"
MISSION_PHASE_NAME = ME_Phase_26
PROCESSING_LEVEL_ID = 3
PRODUCT_CREATION_TIME = 2016-10-28T02:48:22.000Z
PRODUCT_ID = "HA714_0000_P13.JP2"
RELEASE_ID = 0110
REVISION_ID = 0000
/* QUALITY DATA ELEMENTS */
DATA_QUALITY_ID = 1
DATA_QUALITY_DESC = "Data calculated based on original SPICE kernels"
/* TIME DATA ELEMENTS */
SPACECRAFT_CLOCK_START_COUNT = "1/0286469140.08230"
SPACECRAFT_CLOCK_STOP_COUNT = "1/0286469550.16855"
START_TIME = 2012-05-30T14:47:19.938Z
STOP_TIME = 2012-05-30T14:51:46.966Z
/* ORBITAL DATA ELEMENTS */
ASCENDING_NODE_LONGITUDE = 12.85
MAXIMUM_RESOLUTION = 50.9
FOOTPRINT_POINT_LATITUDE = (-35.9117,-35.9159,-35.9191,-35.9213, -35.9227,-35.9231,-35.9226,-35.7151, -35.371,-34.918,-34.5598,-34.208, -33.7344,-33.4964,-33.2553,-33.0153, -32.7711,-32.5281,-32.282,-32.0378, -31.791,-31.5418,-31.166,-30.9137, -30.659,-30.283,-29.8892,-29.4999, -29.2398,-28.9775,-28.7134,-28.4481, -28.181,-27.9128,-27.6415,-27.3697, -27.0971,-26.8223,-26.5459,-26.2667, -25.9881,-25.7066,-25.2783,-24.8554, -24.5696,-24.1455,-23.8613,-23.4344, -23.1549,-23.0095,-22.9998,-22.9864, -22.9738,-22.9647,-22.955,-22.9457, -22.931,-23.0639,-23.3468,-23.6304, -23.914,-24.3443,-24.632,-24.9221, -25.2097,-25.4954,-25.779,-26.0615, -26.3423,-26.6267,-26.904,-27.312, -27.7263,-27.9987,-28.2683,-28.5368, -28.8034,-29.1964,-29.4612,-29.7215, -29.9822,-30.24,-30.499,-30.753, -31.1346,-31.515,-31.7657,-32.0136, -32.2591,-32.6253,-32.8715,-33.2352, -33.4774,-33.7161,-33.9555,-34.192, -34.6632,-35.1298,-35.5912,-35.9117)
FOOTPRINT_POINT_LONGITUDE = (40.0486,39.6417,39.2326,38.8207, 38.4064,37.9894,37.5687,37.3523,37.355, 37.3469,37.3553,37.3543,37.3528,37.3519 ,37.3511,37.3493,37.3484,37.3463, 37.3446,37.3403,37.3368,37.3336,37.3284 ,37.3249,37.3214,37.3084,37.3081, 37.3001,37.2937,37.2869,37.2803,37.2733 ,37.2662,37.2581,37.2516,37.244,37.235, 37.2258,37.2167,37.2084,37.1979,37.188, 37.1744,37.1529,37.141,37.1208,37.1094, 37.0942,37.081,37.3806,37.8556,38.3957, 38.8329,39.1012,39.4688,39.7353,40.2336 ,40.5397,40.531,40.522,40.5127,40.4992, 40.4898,40.4807,40.4713,40.4619,40.4523 ,40.4428,40.4333,40.4251,40.4156,40.4, 40.3868,40.3775,40.368,40.3583,40.3486, 40.3331,40.324,40.314,40.3042,40.2944, 40.2849,40.2747,40.2599,40.2455,40.2354 ,40.2252,40.2147,40.199,40.1891,40.1737 ,40.1634,40.153,40.1425,40.132,40.1109, 40.0896,40.068,40.0486)
ORBIT_NUMBER = 10714
ORBITAL_ECCENTRICITY = 0.577
ORBITAL_INCLINATION = 86.87
ORBITAL_SEMIMAJOR_AXIS = 8769.11
PERIAPSIS_ALTITUDE = 329.24
PERIAPSIS_ARGUMENT_ANGLE = 289.08
PERIAPSIS_TIME = 2012-05-30T14:37:25.000Z
SPACECRAFT_ORIENTATION = (0.0,1.0,0.0)
^MEX_ORIENTATION_DESC = "MEX_ORIENTATION_DESC.TXT"
SPACECRAFT_POINTING_MODE = ACROSSTRACK
^MEX_POINTING_DESC = "MEX_POINTING_DESC.TXT"
RIGHT_ASCENSION = -1e+32
DECLINATION = -1e+32
OFFSET_ANGLE = 0.808
SPACECRAFT_SOLAR_DISTANCE = 2.41408e+08
TARGET_NAME = MARS
/* CAMERA DATA ELEMENTS */
DETECTOR_TEMPERATURE = 17.5549
FOCAL_PLANE_TEMPERATURE = 7.9716
INST_CMPRS_NAME = "DISCRETE COSINE TRANSFORMATION (DCT)"
INST_CMPRS_RATIO = 9.54934
INST_CMPRS_QUALITY = 0
INST_CMPRS_QUANTZ_TBL_ID = 0
INSTRUMENT_TEMPERATURE = 11.4379
LENS_TEMPERATURE = 8.3794
MACROPIXEL_SIZE = 2
MISSING_FRAMES = 0
PIXEL_SUBSAMPLING_FLAG = N
SIGNAL_CHAIN_ID = 3
/* RADIOMETRIC DATA ELEMENTS */
BANDWIDTH = 174.0
CENTER_FILTER_WAVELENGTH = 675.0
RADIANCE_OFFSET = 1.78832
RADIANCE_SCALING_FACTOR = 0.0184296
REFLECTANCE_SCALING_FACTOR = 0.0005777
MEX:REFLECTANCE_OFFSET = 0.0560574
/* IMAGE OBJECT DEFINITIONS */
OBJECT = IMAGE
  INTERCHANGE_FORMAT = BINARY
  LINES = 15411
  LINE_SAMPLES = 3526
  SAMPLE_TYPE = UNSIGNED_INTEGER
  SAMPLE_BITS = 8
  BANDS = 1
  BAND_STORAGE_TYPE = BAND_SEQUENTIAL
  MAXIMUM = 255
  MEAN = 124.445
  MINIMUM = 1
  STANDARD_DEVIATION = 27.7973
END_OBJECT = IMAGE
/* MAP OBJECT DEFINITIONS */
OBJECT = IMAGE_MAP_PROJECTION
  ^DATA_SET_MAP_PROJECTION_CATALOG= "DSMAP.CAT"
  A_AXIS_RADIUS = 3396.0
  B_AXIS_RADIUS = 3396.0
  C_AXIS_RADIUS = 3396.0
  CENTER_LATITUDE = 0.0
  CENTER_LONGITUDE = 39.0
  COORDINATE_SYSTEM_NAME = PLANETOGRAPHIC
  COORDINATE_SYSTEM_TYPE = "BODY-FIXED ROTATING"
  EASTERNMOST_LONGITUDE = 40.5397
  FIRST_STANDARD_PARALLEL = "N/A"
  LINE_FIRST_PIXEL = 1
  LINE_LAST_PIXEL = 15411
  LINE_PROJECTION_OFFSET = -27226.75
  MAP_PROJECTION_ROTATION = 0.0
  MAP_PROJECTION_TYPE = SINUSOIDAL
  MAP_RESOLUTION = 1185.42760773333
  MAP_SCALE = 0.05
  MAXIMUM_LATITUDE = -22.931
  MINIMUM_LATITUDE = -35.9231
  POSITIVE_LONGITUDE_DIRECTION = EAST
  REFERENCE_LATITUDE = "N/A"
  REFERENCE_LONGITUDE = "N/A"
  SAMPLE_FIRST_PIXEL = 1
  SAMPLE_LAST_PIXEL = 3526
  SAMPLE_PROJECTION_OFFSET = 2007.75
  SECOND_STANDARD_PARALLEL = "N/A"
  WESTERNMOST_LONGITUDE = 37.081
END_OBJECT = IMAGE_MAP_PROJECTION
/* The JPEG2000 image data file associated with this label. */
OBJECT = COMPRESSED_FILE
  FILE_NAME = "HA714_0000_P13.JP2"
  RECORD_TYPE = UNDEFINED
  FILE_RECORDS = UNK
  ENCODING_TYPE = "JP2"
  INTERCHANGE_FORMAT = BINARY
  UNCOMPRESSED_FILE_NAME = "HA714_0000_P13.IMG"
  REQUIRED_STORAGE_BYTES = "54363868"
  ^DESCRIPTION = "JP2INFO.TXT"
END_OBJECT = COMPRESSED_FILE
END
