PDS_VERSION_ID = PDS3
/* FILE DATA ELEMENTS */
RECORD_TYPE = STREAM
/* POINTERS TO DATA OBJECTS */
^COMPRESSED_FILE = "HA720_0000_S23.JP2"
/* IDENTIFICATION DATA ELEMENTS */
DATA_SET_ID = "MEX-M-HRSC-5-REFDR-MAPPROJECTED-V3.0"
DATA_SET_NAME = "MARS EXPRESS HRSC MAP PROJECTED REFDR V3.0"
DETECTOR_ID = MEX_HRSC_S2
EVENT_TYPE = "MARS-REGIONAL-MAPPING-Te-Im-Fl"
INSTRUMENT_HOST_ID = MEX
INSTRUMENT_HOST_NAME = "MARS EXPRESS"
INSTRUMENT_ID = HRSC
INSTRUMENT_NAME = "HIGH RESOLUTION STEREO CAMERA"
MISSION_NAME = "MARS EXPRESS"
MISSION_PHASE_NAME = ME_Phase_26
PROCESSING_LEVEL_ID = 3
PRODUCT_CREATION_TIME = 2016-10-28T02:48:22.000Z
PRODUCT_ID = "HA720_0000_S23.JP2"
RELEASE_ID = 0110
REVISION_ID = 0000
/* QUALITY DATA ELEMENTS */
DATA_QUALITY_ID = 1
DATA_QUALITY_DESC = "Data calculated based on original SPICE kernels"
/* TIME DATA ELEMENTS */
SPACECRAFT_CLOCK_START_COUNT = "1/0286620012.08263"
SPACECRAFT_CLOCK_STOP_COUNT = "1/0286620337.35894"
START_TIME = 2012-06-01T08:40:15.859Z
STOP_TIME = 2012-06-01T08:43:21.895Z
/* ORBITAL DATA ELEMENTS */
ASCENDING_NODE_LONGITUDE = 12.74
MAXIMUM_RESOLUTION = 37.5
FOOTPRINT_POINT_LATITUDE = (-45.5399,-45.5572,-45.57,-45.5811, -45.5906,-45.5986,-45.4463,-45.1285, -44.914,-44.486,-44.0536,-43.7251, -43.5041,-43.2854,-43.0634,-42.7305, -42.506,-42.2825,-42.0547,-41.8276, -41.4875,-41.2569,-41.0258,-40.7947, -40.4462,-40.0925,-39.8569,-39.6195, -39.3804,-39.1399,-38.9,-38.6566, -38.4119,-38.1675,-37.9198,-37.6708, -37.4232,-37.1648,-36.9082,-36.6552, -36.4062,-36.1482,-35.8896,-35.4965, -35.2349,-34.97,-34.7016,-34.4363, -34.1662,-33.8967,-33.6252,-33.6021, -33.5923,-33.5792,-33.5681,-33.5531, -33.5335,-33.651,-33.9207,-34.1895, -34.5908,-34.8577,-35.1217,-35.5162, -35.7802,-36.0314,-36.2938,-36.5534, -36.8086,-37.0621,-37.4392,-37.6879, -38.0614,-38.4294,-38.6747,-39.0387, -39.2811,-39.5234,-39.7624,-39.9991, -40.2353,-40.4721,-40.7029,-41.0491, -41.3958,-41.6223,-41.8496,-42.0777, -42.3041,-42.5279,-42.8634,-43.1986, -43.4179,-43.6382,-43.967,-44.1859, -44.6146,-44.9391,-45.1555,-45.5399)
FOOTPRINT_POINT_LONGITUDE = (148.706,148.283,147.932,147.585, 147.241,146.902,146.489,146.493,146.495 ,146.498,146.501,146.503,146.505, 146.506,146.506,146.506,146.507,146.507 ,146.507,146.507,146.506,146.505, 146.504,146.503,146.501,146.498,146.497 ,146.495,146.492,146.49,146.488,146.485 ,146.482,146.479,146.476,146.472, 146.469,146.465,146.462,146.457,146.452 ,146.448,146.443,146.436,146.43,146.425 ,146.419,146.413,146.407,146.401, 146.394,146.747,147.056,147.438,147.703 ,148.043,148.483,148.887,148.886, 148.886,148.884,148.882,148.881,148.878 ,148.875,148.878,148.873,148.87,148.867 ,148.865,148.863,148.861,148.858, 148.855,148.853,148.849,148.846,148.843 ,148.84,148.837,148.835,148.833,148.832 ,148.83,148.827,148.825,148.823,148.821 ,148.818,148.814,148.81,148.805,148.802 ,148.798,148.793,148.79,148.783,148.776 ,148.771,148.706)
ORBIT_NUMBER = 10720
ORBITAL_ECCENTRICITY = 0.577
ORBITAL_INCLINATION = 86.87
ORBITAL_SEMIMAJOR_AXIS = 8768.33
PERIAPSIS_ALTITUDE = 329.76
PERIAPSIS_ARGUMENT_ANGLE = 288.07
PERIAPSIS_TIME = 2012-06-01T08:34:09.000Z
SPACECRAFT_ORIENTATION = (0.0,1.0,0.0)
^MEX_ORIENTATION_DESC = "MEX_ORIENTATION_DESC.TXT"
SPACECRAFT_POINTING_MODE = ACROSSTRACK
^MEX_POINTING_DESC = "MEX_POINTING_DESC.TXT"
RIGHT_ASCENSION = -1e+32
DECLINATION = -1e+32
OFFSET_ANGLE = -1.078
SPACECRAFT_SOLAR_DISTANCE = 2.41158e+08
TARGET_NAME = MARS
/* CAMERA DATA ELEMENTS */
DETECTOR_TEMPERATURE = 18.7783
FOCAL_PLANE_TEMPERATURE = 8.3794
INST_CMPRS_NAME = "DISCRETE COSINE TRANSFORMATION (DCT)"
INST_CMPRS_RATIO = 6.26897
INST_CMPRS_QUALITY = 0
INST_CMPRS_QUANTZ_TBL_ID = 0
INSTRUMENT_TEMPERATURE = 11.6418
LENS_TEMPERATURE = 8.7872
MACROPIXEL_SIZE = 2
MISSING_FRAMES = 0
PIXEL_SUBSAMPLING_FLAG = N
SIGNAL_CHAIN_ID = 1
/* RADIOMETRIC DATA ELEMENTS */
BANDWIDTH = 178.0
CENTER_FILTER_WAVELENGTH = 679.0
RADIANCE_OFFSET = 0.307195
RADIANCE_SCALING_FACTOR = 0.019034
REFLECTANCE_SCALING_FACTOR = 0.00058622
MEX:REFLECTANCE_OFFSET = 0.00946114
/* IMAGE OBJECT DEFINITIONS */
OBJECT = IMAGE
  INTERCHANGE_FORMAT = BINARY
  LINES = 28413
  LINE_SAMPLES = 5483
  SAMPLE_TYPE = UNSIGNED_INTEGER
  SAMPLE_BITS = 8
  BANDS = 1
  BAND_STORAGE_TYPE = BAND_SEQUENTIAL
  MAXIMUM = 255
  MEAN = 111.452
  MINIMUM = 1
  STANDARD_DEVIATION = 21.858
END_OBJECT = IMAGE
/* MAP OBJECT DEFINITIONS */
OBJECT = IMAGE_MAP_PROJECTION
  ^DATA_SET_MAP_PROJECTION_CATALOG= "DSMAP.CAT"
  A_AXIS_RADIUS = 3396.0
  B_AXIS_RADIUS = 3396.0
  C_AXIS_RADIUS = 3396.0
  CENTER_LATITUDE = 0.0
  CENTER_LONGITUDE = 148.0
  COORDINATE_SYSTEM_NAME = PLANETOGRAPHIC
  COORDINATE_SYSTEM_TYPE = "BODY-FIXED ROTATING"
  EASTERNMOST_LONGITUDE = 148.887
  FIRST_STANDARD_PARALLEL = "N/A"
  LINE_FIRST_PIXEL = 1
  LINE_LAST_PIXEL = 28413
  LINE_PROJECTION_OFFSET = -79485.25
  MAP_PROJECTION_ROTATION = 0.0
  MAP_PROJECTION_TYPE = SINUSOIDAL
  MAP_RESOLUTION = 2370.85521546667
  MAP_SCALE = 0.025
  MAXIMUM_LATITUDE = -33.5335
  MINIMUM_LATITUDE = -45.5986
  POSITIVE_LONGITUDE_DIRECTION = EAST
  REFERENCE_LATITUDE = "N/A"
  REFERENCE_LONGITUDE = "N/A"
  SAMPLE_FIRST_PIXEL = 1
  SAMPLE_LAST_PIXEL = 5483
  SAMPLE_PROJECTION_OFFSET = 3428.75
  SECOND_STANDARD_PARALLEL = "N/A"
  WESTERNMOST_LONGITUDE = 146.394
END_OBJECT = IMAGE_MAP_PROJECTION
/* The JPEG2000 image data file associated with this label. */
OBJECT = COMPRESSED_FILE
  FILE_NAME = "HA720_0000_S23.JP2"
  RECORD_TYPE = UNDEFINED
  FILE_RECORDS = UNK
  ENCODING_TYPE = "JP2"
  INTERCHANGE_FORMAT = BINARY
  UNCOMPRESSED_FILE_NAME = "HA720_0000_S23.IMG"
  REQUIRED_STORAGE_BYTES = "155815894"
  ^DESCRIPTION = "JP2INFO.TXT"
END_OBJECT = COMPRESSED_FILE
END
