PDS_VERSION_ID = PDS3
/* FILE DATA ELEMENTS */
RECORD_TYPE = STREAM
/* POINTERS TO DATA OBJECTS */
^COMPRESSED_FILE = "HA726_0000_GR3.JP2"
/* IDENTIFICATION DATA ELEMENTS */
DATA_SET_ID = "MEX-M-HRSC-5-REFDR-MAPPROJECTED-V3.0"
DATA_SET_NAME = "MARS EXPRESS HRSC MAP PROJECTED REFDR V3.0"
DETECTOR_ID = MEX_HRSC_GREEN
EVENT_TYPE = "MARS-CLOUD-VARIABLE-At"
INSTRUMENT_HOST_ID = MEX
INSTRUMENT_HOST_NAME = "MARS EXPRESS"
INSTRUMENT_ID = HRSC
INSTRUMENT_NAME = "HIGH RESOLUTION STEREO CAMERA"
MISSION_NAME = "MARS EXPRESS"
MISSION_PHASE_NAME = ME_Phase_26
PROCESSING_LEVEL_ID = 3
PRODUCT_CREATION_TIME = 2016-10-28T02:48:22.000Z
PRODUCT_ID = "HA726_0000_GR3.JP2"
RELEASE_ID = 0110
REVISION_ID = 0000
/* QUALITY DATA ELEMENTS */
DATA_QUALITY_ID = 1
DATA_QUALITY_DESC = "Data calculated based on original SPICE kernels"
/* TIME DATA ELEMENTS */
SPACECRAFT_CLOCK_START_COUNT = "1/0286771426.09052"
SPACECRAFT_CLOCK_STOP_COUNT = "1/0286772776.04275"
START_TIME = 2012-06-03T02:45:27.005Z
STOP_TIME = 2012-06-03T03:06:17.885Z
/* ORBITAL DATA ELEMENTS */
ASCENDING_NODE_LONGITUDE = 12.63
MAXIMUM_RESOLUTION = 147.2
FOOTPRINT_POINT_LATITUDE = (-21.6555,-21.6783,-21.6921,-21.1085, -19.9431,-18.7957,-17.6666,-16.5508, -15.457,-14.3817,-13.3135,-12.2707, -11.2397,-10.2297,-9.23583,-8.25904, -7.29778,-6.35183,-5.42116,-4.50545, -3.6007,-2.71441,-1.84241,-0.984706, -0.137453,0.696907,1.51588,2.31773, 3.10808,3.88782,4.65348,5.40776,6.15024 ,6.881,7.60062,8.30755,9.00675,9.69322, 10.3697,11.0357,11.6919,12.3382,13.6019 ,14.8286,16.0197,17.1767,18.301,19.1618 ,19.3132,19.4838,19.5811,19.7154, 19.7886,19.8861,19.9407,19.9914,19.4928 ,18.3318,17.1389,15.9126,14.6526, 13.3625,12.0379,11.3555,10.6621,9.95564 ,9.23849,8.51214,7.77611,7.02989, 6.27256,5.50425,4.72422,3.92892,3.1249, 2.30508,1.47616,0.634614,-0.220058, -1.08807,-1.96956,-2.86481,-3.77358, -4.70117,-5.63813,-6.59089,-7.5597, -8.54282,-9.54173,-10.5562,-11.5868, -12.638,-13.7059,-14.7902,-15.8863, -16.9994,-18.1346,-19.2824,-20.4476, -21.6555)
FOOTPRINT_POINT_LONGITUDE = (253.956,252.862,251.993,251.025, 250.957,250.886,250.811,250.731,250.65, 250.563,250.476,250.387,250.297,250.204 ,250.11,250.011,249.911,249.809,249.706 ,249.6,249.493,249.384,249.273,249.161, 249.052,248.943,248.829,248.707,248.58, 248.454,248.331,248.207,248.082,247.956 ,247.829,247.698,247.572,247.441, 247.309,247.177,247.043,246.909,246.637 ,246.362,246.083,245.801,245.515, 245.578,246.825,248.352,249.304,250.733 ,251.593,252.84,253.609,254.381,255.543 ,255.475,255.409,255.346,255.283, 255.209,255.13,255.105,255.083,255.068, 255.054,255.038,255.02,255.0,254.981, 254.961,254.942,254.924,254.905,254.887 ,254.87,254.852,254.835,254.818,254.801 ,254.785,254.768,254.752,254.734, 254.718,254.705,254.69,254.675,254.66, 254.646,254.631,254.616,254.601,254.584 ,254.567,254.549,254.531,254.513, 253.956)
ORBIT_NUMBER = 10726
ORBITAL_ECCENTRICITY = 0.577
ORBITAL_INCLINATION = 86.88
ORBITAL_SEMIMAJOR_AXIS = 8765.16
PERIAPSIS_ALTITUDE = 328.48
PERIAPSIS_ARGUMENT_ANGLE = 287.04
PERIAPSIS_TIME = 2012-06-03T02:30:50.000Z
SPACECRAFT_ORIENTATION = (0.0,1.0,0.0)
^MEX_ORIENTATION_DESC = "MEX_ORIENTATION_DESC.TXT"
SPACECRAFT_POINTING_MODE = NADIR
^MEX_POINTING_DESC = "MEX_POINTING_DESC.TXT"
RIGHT_ASCENSION = -1e+32
DECLINATION = -1e+32
OFFSET_ANGLE = -1e+32
SPACECRAFT_SOLAR_DISTANCE = 2.40904e+08
TARGET_NAME = MARS
/* CAMERA DATA ELEMENTS */
DETECTOR_TEMPERATURE = 18.5744
FOCAL_PLANE_TEMPERATURE = 8.5833
INST_CMPRS_NAME = "DISCRETE COSINE TRANSFORMATION (DCT)"
INST_CMPRS_RATIO = 25.1154
INST_CMPRS_QUALITY = 0
INST_CMPRS_QUANTZ_TBL_ID = 0
INSTRUMENT_TEMPERATURE = 11.8457
LENS_TEMPERATURE = 8.7872
MACROPIXEL_SIZE = 4
MISSING_FRAMES = 7
PIXEL_SUBSAMPLING_FLAG = N
SIGNAL_CHAIN_ID = 2
/* RADIOMETRIC DATA ELEMENTS */
BANDWIDTH = 88.0
CENTER_FILTER_WAVELENGTH = 538.0
RADIANCE_OFFSET = 1.00624
RADIANCE_SCALING_FACTOR = 0.0162483
REFLECTANCE_SCALING_FACTOR = 0.00081186
MEX:REFLECTANCE_OFFSET = 0.0502773
/* IMAGE OBJECT DEFINITIONS */
OBJECT = IMAGE
  INTERCHANGE_FORMAT = BINARY
  LINES = 24738
  LINE_SAMPLES = 5131
  SAMPLE_TYPE = UNSIGNED_INTEGER
  SAMPLE_BITS = 8
  BANDS = 1
  BAND_STORAGE_TYPE = BAND_SEQUENTIAL
  MAXIMUM = 255
  MEAN = 129.236
  MINIMUM = 1
  STANDARD_DEVIATION = 44.4547
END_OBJECT = IMAGE
/* MAP OBJECT DEFINITIONS */
OBJECT = IMAGE_MAP_PROJECTION
  ^DATA_SET_MAP_PROJECTION_CATALOG= "DSMAP.CAT"
  A_AXIS_RADIUS = 3396.0
  B_AXIS_RADIUS = 3396.0
  C_AXIS_RADIUS = 3396.0
  CENTER_LATITUDE = 0.0
  CENTER_LONGITUDE = 252.0
  COORDINATE_SYSTEM_NAME = PLANETOGRAPHIC
  COORDINATE_SYSTEM_TYPE = "BODY-FIXED ROTATING"
  EASTERNMOST_LONGITUDE = 255.543
  FIRST_STANDARD_PARALLEL = "N/A"
  LINE_FIRST_PIXEL = 1
  LINE_LAST_PIXEL = 24738
  LINE_PROJECTION_OFFSET = 11875.0
  MAP_PROJECTION_ROTATION = 0.0
  MAP_PROJECTION_TYPE = SINUSOIDAL
  MAP_RESOLUTION = 592.713803866667
  MAP_SCALE = 0.1
  MAXIMUM_LATITUDE = 19.9914
  MINIMUM_LATITUDE = -21.6921
  POSITIVE_LONGITUDE_DIRECTION = EAST
  REFERENCE_LATITUDE = "N/A"
  REFERENCE_LONGITUDE = "N/A"
  SAMPLE_FIRST_PIXEL = 1
  SAMPLE_LAST_PIXEL = 5131
  SAMPLE_PROJECTION_OFFSET = 3431.0
  SECOND_STANDARD_PARALLEL = "N/A"
  WESTERNMOST_LONGITUDE = 245.515
END_OBJECT = IMAGE_MAP_PROJECTION
/* The JPEG2000 image data file associated with this label. */
OBJECT = COMPRESSED_FILE
  FILE_NAME = "HA726_0000_GR3.JP2"
  RECORD_TYPE = UNDEFINED
  FILE_RECORDS = UNK
  ENCODING_TYPE = "JP2"
  INTERCHANGE_FORMAT = BINARY
  UNCOMPRESSED_FILE_NAME = "HA726_0000_GR3.IMG"
  REQUIRED_STORAGE_BYTES = "126956333"
  ^DESCRIPTION = "JP2INFO.TXT"
END_OBJECT = COMPRESSED_FILE
END
