PDS_VERSION_ID = PDS3
/* FILE DATA ELEMENTS */
RECORD_TYPE = STREAM
/* POINTERS TO DATA OBJECTS */
^COMPRESSED_FILE = "HA727_0000_IR3.JP2"
/* IDENTIFICATION DATA ELEMENTS */
DATA_SET_ID = "MEX-M-HRSC-5-REFDR-MAPPROJECTED-V3.0"
DATA_SET_NAME = "MARS EXPRESS HRSC MAP PROJECTED REFDR V3.0"
DETECTOR_ID = MEX_HRSC_IR
EVENT_TYPE = "MARS-REGIONAL-MAPPING-Im-Fl-Lc"
INSTRUMENT_HOST_ID = MEX
INSTRUMENT_HOST_NAME = "MARS EXPRESS"
INSTRUMENT_ID = HRSC
INSTRUMENT_NAME = "HIGH RESOLUTION STEREO CAMERA"
MISSION_NAME = "MARS EXPRESS"
MISSION_PHASE_NAME = ME_Phase_26
PROCESSING_LEVEL_ID = 3
PRODUCT_CREATION_TIME = 2016-10-28T02:48:22.000Z
PRODUCT_ID = "HA727_0000_IR3.JP2"
RELEASE_ID = 0110
REVISION_ID = 0000
/* QUALITY DATA ELEMENTS */
DATA_QUALITY_ID = 1
DATA_QUALITY_DESC = "Data calculated based on original SPICE kernels"
/* TIME DATA ELEMENTS */
SPACECRAFT_CLOCK_START_COUNT = "1/0286796114.09039"
SPACECRAFT_CLOCK_STOP_COUNT = "1/0286796413.00964"
START_TIME = 2012-06-03T09:36:31.913Z
STOP_TIME = 2012-06-03T09:40:02.741Z
/* ORBITAL DATA ELEMENTS */
ASCENDING_NODE_LONGITUDE = 12.61
MAXIMUM_RESOLUTION = 74.5
FOOTPRINT_POINT_LATITUDE = (-50.9389,-50.9366,-50.9334,-50.9293, -50.9243,-50.9182,-50.755,-50.3391, -50.0215,-49.7051,-49.4936,-49.2802, -49.063,-48.843,-48.6304,-48.414, -48.1951,-47.9769,-47.7591,-47.5375, -47.3139,-46.9809,-46.7589,-46.5329, -46.1985,-45.8574,-45.6302,-45.4007, -45.169,-44.9379,-44.7066,-44.4703, -44.2371,-44.0002,-43.7618,-43.5248, -43.1645,-42.9241,-42.6804,-42.3149, -42.0679,-41.6986,-41.4482,-41.1977, -40.8183,-40.5656,-40.3093,-40.0532, -39.7937,-39.5351,-39.3235,-39.3234, -39.3217,-39.3171,-39.3111,-39.305, -39.5652,-39.8237,-40.0847,-40.3393, -40.597,-40.8517,-41.2325,-41.4836, -41.8599,-42.1078,-42.3554,-42.5998, -42.9663,-43.2075,-43.5698,-43.9271, -44.1656,-44.4009,-44.6362,-44.869, -45.1027,-45.3327,-45.5637,-45.9075, -46.2525,-46.5914,-46.8173,-47.1534, -47.3745,-47.5971,-47.8179,-48.036, -48.2546,-48.582,-48.7985,-49.123, -49.3399,-49.5516,-49.7669,-50.0881, -50.3008,-50.7177,-50.9271,-50.9389)
FOOTPRINT_POINT_LONGITUDE = (149.06,148.696,148.329,147.957,147.581 ,147.2,146.866,146.912,146.948,146.979, 147.001,147.023,147.047,147.075,147.091 ,147.111,147.13,147.149,147.167,147.186 ,147.206,147.234,147.247,147.265, 147.286,147.308,147.322,147.337,147.352 ,147.367,147.379,147.395,147.407,147.42 ,147.434,147.446,147.463,147.475, 147.487,147.503,147.514,147.529,147.539 ,147.549,147.564,147.573,147.581,147.59 ,147.599,147.607,147.613,148.227, 148.651,149.306,149.85,150.26,150.405, 150.388,150.37,150.353,150.336,150.318, 150.292,150.274,150.247,150.229,150.21, 150.192,150.164,150.146,150.117,150.089 ,150.07,150.05,150.031,150.012,149.992, 149.972,149.952,149.922,149.891,149.86, 149.839,149.807,149.786,149.765,149.743 ,149.722,149.7,149.667,149.644,149.61, 149.587,149.564,149.54,149.504,149.479, 149.432,149.407,149.06)
ORBIT_NUMBER = 10727
ORBITAL_ECCENTRICITY = 0.577
ORBITAL_INCLINATION = 86.87
ORBITAL_SEMIMAJOR_AXIS = 8767.02
PERIAPSIS_ALTITUDE = 329.79
PERIAPSIS_ARGUMENT_ANGLE = 286.89
PERIAPSIS_TIME = 2012-06-03T09:30:18.000Z
SPACECRAFT_ORIENTATION = (0.0,1.0,0.0)
^MEX_ORIENTATION_DESC = "MEX_ORIENTATION_DESC.TXT"
SPACECRAFT_POINTING_MODE = ACROSSTRACK
^MEX_POINTING_DESC = "MEX_POINTING_DESC.TXT"
RIGHT_ASCENSION = -1e+32
DECLINATION = -1e+32
OFFSET_ANGLE = 1.145
SPACECRAFT_SOLAR_DISTANCE = 2.40861e+08
TARGET_NAME = MARS
/* CAMERA DATA ELEMENTS */
DETECTOR_TEMPERATURE = 17.5549
FOCAL_PLANE_TEMPERATURE = 8.3794
INST_CMPRS_NAME = "DISCRETE COSINE TRANSFORMATION (DCT)"
INST_CMPRS_RATIO = 8.77869
INST_CMPRS_QUALITY = 0
INST_CMPRS_QUANTZ_TBL_ID = 0
INSTRUMENT_TEMPERATURE = 11.8457
LENS_TEMPERATURE = 8.7872
MACROPIXEL_SIZE = 4
MISSING_FRAMES = 0
PIXEL_SUBSAMPLING_FLAG = N
SIGNAL_CHAIN_ID = 2
/* RADIOMETRIC DATA ELEMENTS */
BANDWIDTH = 81.0
CENTER_FILTER_WAVELENGTH = 955.5
RADIANCE_OFFSET = 0.0859137
RADIANCE_SCALING_FACTOR = 0.00512113
REFLECTANCE_SCALING_FACTOR = 0.000640951
MEX:REFLECTANCE_OFFSET = 0.0107528
/* IMAGE OBJECT DEFINITIONS */
OBJECT = IMAGE
  INTERCHANGE_FORMAT = BINARY
  LINES = 13925
  LINE_SAMPLES = 2801
  SAMPLE_TYPE = UNSIGNED_INTEGER
  SAMPLE_BITS = 8
  BANDS = 1
  BAND_STORAGE_TYPE = BAND_SEQUENTIAL
  MAXIMUM = 255
  MEAN = 92.4234
  MINIMUM = 1
  STANDARD_DEVIATION = 27.2113
END_OBJECT = IMAGE
/* MAP OBJECT DEFINITIONS */
OBJECT = IMAGE_MAP_PROJECTION
  ^DATA_SET_MAP_PROJECTION_CATALOG= "DSMAP.CAT"
  A_AXIS_RADIUS = 3396.0
  B_AXIS_RADIUS = 3396.0
  C_AXIS_RADIUS = 3396.0
  CENTER_LATITUDE = 0.0
  CENTER_LONGITUDE = 149.0
  COORDINATE_SYSTEM_NAME = PLANETOGRAPHIC
  COORDINATE_SYSTEM_TYPE = "BODY-FIXED ROTATING"
  EASTERNMOST_LONGITUDE = 150.405
  FIRST_STANDARD_PARALLEL = "N/A"
  LINE_FIRST_PIXEL = 1
  LINE_LAST_PIXEL = 13925
  LINE_PROJECTION_OFFSET = -46587.375
  MAP_PROJECTION_ROTATION = 0.0
  MAP_PROJECTION_TYPE = SINUSOIDAL
  MAP_RESOLUTION = 1185.42760773333
  MAP_SCALE = 0.05
  MAXIMUM_LATITUDE = -39.305
  MINIMUM_LATITUDE = -50.9389
  POSITIVE_LONGITUDE_DIRECTION = EAST
  REFERENCE_LATITUDE = "N/A"
  REFERENCE_LONGITUDE = "N/A"
  SAMPLE_FIRST_PIXEL = 1
  SAMPLE_LAST_PIXEL = 2801
  SAMPLE_PROJECTION_OFFSET = 1602.125
  SECOND_STANDARD_PARALLEL = "N/A"
  WESTERNMOST_LONGITUDE = 146.866
END_OBJECT = IMAGE_MAP_PROJECTION
/* The JPEG2000 image data file associated with this label. */
OBJECT = COMPRESSED_FILE
  FILE_NAME = "HA727_0000_IR3.JP2"
  RECORD_TYPE = UNDEFINED
  FILE_RECORDS = UNK
  ENCODING_TYPE = "JP2"
  INTERCHANGE_FORMAT = BINARY
  UNCOMPRESSED_FILE_NAME = "HA727_0000_IR3.IMG"
  REQUIRED_STORAGE_BYTES = "39026333"
  ^DESCRIPTION = "JP2INFO.TXT"
END_OBJECT = COMPRESSED_FILE
END
