PDS_VERSION_ID = PDS3
/* FILE DATA ELEMENTS */
RECORD_TYPE = STREAM
/* POINTERS TO DATA OBJECTS */
^COMPRESSED_FILE = "HA742_0000_BL3.JP2"
/* IDENTIFICATION DATA ELEMENTS */
DATA_SET_ID = "MEX-M-HRSC-5-REFDR-MAPPROJECTED-V3.0"
DATA_SET_NAME = "MARS EXPRESS HRSC MAP PROJECTED REFDR V3.0"
DETECTOR_ID = MEX_HRSC_BLUE
EVENT_TYPE = "MARS-LOCAL-VARIABLE-Gl-Lc-Pf"
INSTRUMENT_HOST_ID = MEX
INSTRUMENT_HOST_NAME = "MARS EXPRESS"
INSTRUMENT_ID = HRSC
INSTRUMENT_NAME = "HIGH RESOLUTION STEREO CAMERA"
MISSION_NAME = "MARS EXPRESS"
MISSION_PHASE_NAME = ME_Phase_26
PROCESSING_LEVEL_ID = 3
PRODUCT_CREATION_TIME = 2016-10-28T02:48:22.000Z
PRODUCT_ID = "HA742_0000_BL3.JP2"
RELEASE_ID = 0110
REVISION_ID = 0000
/* QUALITY DATA ELEMENTS */
DATA_QUALITY_ID = 1
DATA_QUALITY_DESC = "Data calculated based on original SPICE kernels"
/* TIME DATA ELEMENTS */
SPACECRAFT_CLOCK_START_COUNT = "1/0287173941.07299"
SPACECRAFT_CLOCK_STOP_COUNT = "1/0287174355.16031"
START_TIME = 2012-06-07T18:33:21.955Z
STOP_TIME = 2012-06-07T18:36:33.130Z
/* ORBITAL DATA ELEMENTS */
ASCENDING_NODE_LONGITUDE = 12.32
MAXIMUM_RESOLUTION = 114.2
FOOTPRINT_POINT_LATITUDE = (-32.6264,-32.6286,-32.6294,-32.6287, -32.6263,-32.6202,-32.6015,-32.3339, -31.9741,-31.6109,-31.0596,-30.6914, -30.317,-30.034,-29.8454,-29.6557, -29.4666,-29.2752,-29.0828,-28.8881, -28.6935,-28.4982,-28.3025,-28.0068, -27.8092,-27.6102,-27.3099,-27.109, -26.9068,-26.7043,-26.5002,-26.193, -25.9871,-25.7798,-25.5724,-25.3636, -25.1558,-24.9448,-24.7322,-24.4127, -24.1994,-23.9845,-23.66,-23.3328, -23.1142,-22.8939,-22.6041,-22.603, -22.6005,-22.5975,-22.5951,-22.5918, -22.5877,-22.583,-22.5756,-22.5704, -22.5637,-22.5573,-22.662,-22.8847, -23.1064,-23.3269,-23.6577,-23.8742, -24.0915,-24.3059,-24.6273,-24.841, -25.0532,-25.37,-25.58,-25.7889, -26.1007,-26.3077,-26.5132,-26.7184, -26.9226,-27.2268,-27.5293,-27.7285, -28.0266,-28.2255,-28.4216,-28.6199, -28.816,-29.0104,-29.2034,-29.3958, -29.5869,-29.873,-30.0616,-30.251, -30.5327,-30.7206,-31.0935,-31.4622, -31.919,-32.2815,-32.5519,-32.6264)
FOOTPRINT_POINT_LONGITUDE = (58.1081,57.7034,57.3258,56.8674, 56.4363,55.8153,55.5666,55.5623,55.5548 ,55.5466,55.5318,55.5262,55.5153, 55.5068,55.5012,55.4974,55.494,55.4892, 55.4828,55.4743,55.4668,55.46,55.4532, 55.4425,55.4351,55.4283,55.4163,55.4082 ,55.3999,55.3917,55.3835,55.3705, 55.3616,55.3526,55.3434,55.3344,55.328, 55.3182,55.3064,55.2907,55.2815,55.2718 ,55.2556,55.238,55.2267,55.2152,55.1995 ,55.4566,55.8467,56.1709,56.3977, 56.6567,56.9482,57.2075,57.5645,57.7919 ,58.0841,58.3438,58.6784,58.675,58.6721 ,58.6687,58.6607,58.6601,58.6569, 58.6559,58.6522,58.649,58.6458,58.6411, 58.6378,58.6345,58.6296,58.6263,58.623, 58.6194,58.6156,58.6098,58.6045,58.6033 ,58.599,58.5952,58.5928,58.587,58.5817, 58.5796,58.5764,58.575,58.5726,58.5691, 58.5675,58.565,58.5598,58.5558,58.5474, 58.5402,58.5318,58.5238,58.5177, 58.1081)
ORBIT_NUMBER = 10742
ORBITAL_ECCENTRICITY = 0.577
ORBITAL_INCLINATION = 86.88
ORBITAL_SEMIMAJOR_AXIS = 8764.15
PERIAPSIS_ALTITUDE = 328.57
PERIAPSIS_ARGUMENT_ANGLE = 284.36
PERIAPSIS_TIME = 2012-06-07T18:21:57.000Z
SPACECRAFT_ORIENTATION = (0.0,1.0,0.0)
^MEX_ORIENTATION_DESC = "MEX_ORIENTATION_DESC.TXT"
SPACECRAFT_POINTING_MODE = NADIR
^MEX_POINTING_DESC = "MEX_POINTING_DESC.TXT"
RIGHT_ASCENSION = -1e+32
DECLINATION = -1e+32
OFFSET_ANGLE = -1e+32
SPACECRAFT_SOLAR_DISTANCE = 2.40212e+08
TARGET_NAME = MARS
/* CAMERA DATA ELEMENTS */
DETECTOR_TEMPERATURE = 18.5744
FOCAL_PLANE_TEMPERATURE = 7.156
INST_CMPRS_NAME = "DISCRETE COSINE TRANSFORMATION (DCT)"
INST_CMPRS_RATIO = 11.6321
INST_CMPRS_QUALITY = 0
INST_CMPRS_QUANTZ_TBL_ID = 0
INSTRUMENT_TEMPERATURE = 11.8457
LENS_TEMPERATURE = 8.5833
MACROPIXEL_SIZE = 4
MISSING_FRAMES = 0
PIXEL_SUBSAMPLING_FLAG = N
SIGNAL_CHAIN_ID = 2
/* RADIOMETRIC DATA ELEMENTS */
BANDWIDTH = 76.0
CENTER_FILTER_WAVELENGTH = 444.0
RADIANCE_OFFSET = 0.349607
RADIANCE_SCALING_FACTOR = 0.00441293
REFLECTANCE_SCALING_FACTOR = 0.000261618
MEX:REFLECTANCE_OFFSET = 0.0207262
/* IMAGE OBJECT DEFINITIONS */
OBJECT = IMAGE
  INTERCHANGE_FORMAT = BINARY
  LINES = 5974
  LINE_SAMPLES = 1989
  SAMPLE_TYPE = UNSIGNED_INTEGER
  SAMPLE_BITS = 8
  BANDS = 1
  BAND_STORAGE_TYPE = BAND_SEQUENTIAL
  MAXIMUM = 255
  MEAN = 108.849
  MINIMUM = 1
  STANDARD_DEVIATION = 74.3811
END_OBJECT = IMAGE
/* MAP OBJECT DEFINITIONS */
OBJECT = IMAGE_MAP_PROJECTION
  ^DATA_SET_MAP_PROJECTION_CATALOG= "DSMAP.CAT"
  A_AXIS_RADIUS = 3396.0
  B_AXIS_RADIUS = 3396.0
  C_AXIS_RADIUS = 3396.0
  CENTER_LATITUDE = 0.0
  CENTER_LONGITUDE = 57.0
  COORDINATE_SYSTEM_NAME = PLANETOGRAPHIC
  COORDINATE_SYSTEM_TYPE = "BODY-FIXED ROTATING"
  EASTERNMOST_LONGITUDE = 58.6784
  FIRST_STANDARD_PARALLEL = "N/A"
  LINE_FIRST_PIXEL = 1
  LINE_LAST_PIXEL = 5974
  LINE_PROJECTION_OFFSET = -13367.875
  MAP_PROJECTION_ROTATION = 0.0
  MAP_PROJECTION_TYPE = SINUSOIDAL
  MAP_RESOLUTION = 592.713803866667
  MAP_SCALE = 0.1
  MAXIMUM_LATITUDE = -22.5573
  MINIMUM_LATITUDE = -32.6294
  POSITIVE_LONGITUDE_DIRECTION = EAST
  REFERENCE_LATITUDE = "N/A"
  REFERENCE_LONGITUDE = "N/A"
  SAMPLE_FIRST_PIXEL = 1
  SAMPLE_LAST_PIXEL = 1989
  SAMPLE_PROJECTION_OFFSET = 1029.875
  SECOND_STANDARD_PARALLEL = "N/A"
  WESTERNMOST_LONGITUDE = 55.1995
END_OBJECT = IMAGE_MAP_PROJECTION
/* The JPEG2000 image data file associated with this label. */
OBJECT = COMPRESSED_FILE
  FILE_NAME = "HA742_0000_BL3.JP2"
  RECORD_TYPE = UNDEFINED
  FILE_RECORDS = UNK
  ENCODING_TYPE = "JP2"
  INTERCHANGE_FORMAT = BINARY
  UNCOMPRESSED_FILE_NAME = "HA742_0000_BL3.IMG"
  REQUIRED_STORAGE_BYTES = "11902176"
  ^DESCRIPTION = "JP2INFO.TXT"
END_OBJECT = COMPRESSED_FILE
END
