PDS_VERSION_ID = PDS3
/* FILE DATA ELEMENTS */
RECORD_TYPE = STREAM
/* POINTERS TO DATA OBJECTS */
^COMPRESSED_FILE = "HA743_0000_RE3.JP2"
/* IDENTIFICATION DATA ELEMENTS */
DATA_SET_ID = "MEX-M-HRSC-5-REFDR-MAPPROJECTED-V3.0"
DATA_SET_NAME = "MARS EXPRESS HRSC MAP PROJECTED REFDR V3.0"
DETECTOR_ID = MEX_HRSC_RED
EVENT_TYPE = "MARS-REGIONAL-MAPPING-Im-Fl-Gl"
INSTRUMENT_HOST_ID = MEX
INSTRUMENT_HOST_NAME = "MARS EXPRESS"
INSTRUMENT_ID = HRSC
INSTRUMENT_NAME = "HIGH RESOLUTION STEREO CAMERA"
MISSION_NAME = "MARS EXPRESS"
MISSION_PHASE_NAME = ME_Phase_26
PROCESSING_LEVEL_ID = 3
PRODUCT_CREATION_TIME = 2016-10-28T02:48:22.000Z
PRODUCT_ID = "HA743_0000_RE3.JP2"
RELEASE_ID = 0110
REVISION_ID = 0000
/* QUALITY DATA ELEMENTS */
DATA_QUALITY_ID = 1
DATA_QUALITY_DESC = "Data calculated based on original SPICE kernels"
/* TIME DATA ELEMENTS */
SPACECRAFT_CLOCK_START_COUNT = "1/0287198869.07275"
SPACECRAFT_CLOCK_STOP_COUNT = "1/0287199211.08153"
START_TIME = 2012-06-08T01:27:59.970Z
STOP_TIME = 2012-06-08T01:31:17.077Z
/* ORBITAL DATA ELEMENTS */
ASCENDING_NODE_LONGITUDE = 12.31
MAXIMUM_RESOLUTION = 77.3
FOOTPRINT_POINT_LATITUDE = (-48.0637,-48.0535,-48.0432,-48.0219, -47.9336,-47.6791,-47.2994,-47.0464, -46.7927,-46.5387,-46.2866,-46.0353, -45.7843,-45.4081,-45.0321,-44.7817, -44.5315,-44.1588,-43.9119,-43.6599, -43.4108,-43.0403,-42.7917,-42.545, -42.2946,-42.0477,-41.8006,-41.5582, -41.3098,-41.0673,-40.8171,-40.5698, -40.3264,-40.0819,-39.7117,-39.4622, -39.2216,-38.7375,-38.4867,-38.2449, -38.0077,-37.7645,-37.5051,-37.2626, -36.7849,-36.5422,-36.0678,-35.826, -35.5883,-35.5974,-35.6018,-35.6058, -35.613,-35.6129,-35.7391,-35.9824, -36.2229,-36.6979,-36.9402,-37.1828, -37.4338,-37.671,-37.9142,-38.2763, -38.5184,-38.7632,-39.1313,-39.3779, -39.6269,-40.1121,-40.364,-40.6114, -40.8599,-41.1056,-41.3514,-41.5989, -41.8483,-42.0974,-42.4691,-42.7213, -42.9717,-43.218,-43.5926,-43.8438, -44.0868,-44.3324,-44.5803,-44.8302, -45.0893,-45.338,-45.7166,-45.9696, -46.2275,-46.4793,-46.7336,-47.1142, -47.3675,-47.6242,-47.8779,-48.0637)
FOOTPRINT_POINT_LONGITUDE = (315.004,314.566,314.195,313.561, 313.216,313.229,313.247,313.259,313.27, 313.28,313.291,313.301,313.312,313.326, 313.34,313.348,313.357,313.369,313.378, 313.384,313.391,313.401,313.407,313.413 ,313.418,313.423,313.428,313.434, 313.438,313.444,313.446,313.448,313.453 ,313.456,313.458,313.459,313.462, 313.467,313.465,313.467,313.47,313.47, 313.463,313.463,313.465,313.464,313.464 ,313.463,313.461,313.905,314.375, 314.722,315.193,315.838,316.114,316.107 ,316.101,316.092,316.086,316.079, 316.068,316.064,316.057,316.048,316.042 ,316.034,316.023,316.014,316.005, 315.991,315.98,315.971,315.962,315.954, 315.946,315.937,315.927,315.917,315.903 ,315.891,315.88,315.872,315.856,315.845 ,315.837,315.829,315.819,315.808, 315.792,315.782,315.763,315.75,315.734, 315.722,315.708,315.687,315.673,315.658 ,315.643,315.004)
ORBIT_NUMBER = 10743
ORBITAL_ECCENTRICITY = 0.577
ORBITAL_INCLINATION = 86.89
ORBITAL_SEMIMAJOR_AXIS = 8761.99
PERIAPSIS_ALTITUDE = 328.93
PERIAPSIS_ARGUMENT_ANGLE = 284.2
PERIAPSIS_TIME = 2012-06-08T01:21:25.000Z
SPACECRAFT_ORIENTATION = (0.0,1.0,0.0)
^MEX_ORIENTATION_DESC = "MEX_ORIENTATION_DESC.TXT"
SPACECRAFT_POINTING_MODE = NADIR
^MEX_POINTING_DESC = "MEX_POINTING_DESC.TXT"
RIGHT_ASCENSION = -1e+32
DECLINATION = -1e+32
OFFSET_ANGLE = -1e+32
SPACECRAFT_SOLAR_DISTANCE = 2.40168e+08
TARGET_NAME = MARS
/* CAMERA DATA ELEMENTS */
DETECTOR_TEMPERATURE = 18.3705
FOCAL_PLANE_TEMPERATURE = 8.3794
INST_CMPRS_NAME = "DISCRETE COSINE TRANSFORMATION (DCT)"
INST_CMPRS_RATIO = 10.306
INST_CMPRS_QUALITY = 0
INST_CMPRS_QUANTZ_TBL_ID = 0
INSTRUMENT_TEMPERATURE = 11.6418
LENS_TEMPERATURE = 8.3794
MACROPIXEL_SIZE = 4
MISSING_FRAMES = 0
PIXEL_SUBSAMPLING_FLAG = N
SIGNAL_CHAIN_ID = 2
/* RADIOMETRIC DATA ELEMENTS */
BANDWIDTH = 48.0
CENTER_FILTER_WAVELENGTH = 748.0
RADIANCE_OFFSET = 0.200366
RADIANCE_SCALING_FACTOR = 0.00381088
REFLECTANCE_SCALING_FACTOR = 0.000501623
MEX:REFLECTANCE_OFFSET = 0.026374
/* IMAGE OBJECT DEFINITIONS */
OBJECT = IMAGE
  INTERCHANGE_FORMAT = BINARY
  LINES = 7359
  LINE_SAMPLES = 1408
  SAMPLE_TYPE = UNSIGNED_INTEGER
  SAMPLE_BITS = 8
  BANDS = 1
  BAND_STORAGE_TYPE = BAND_SEQUENTIAL
  MAXIMUM = 255
  MEAN = 121.707
  MINIMUM = 1
  STANDARD_DEVIATION = 28.3158
END_OBJECT = IMAGE
/* MAP OBJECT DEFINITIONS */
OBJECT = IMAGE_MAP_PROJECTION
  ^DATA_SET_MAP_PROJECTION_CATALOG= "DSMAP.CAT"
  A_AXIS_RADIUS = 3396.0
  B_AXIS_RADIUS = 3396.0
  C_AXIS_RADIUS = 3396.0
  CENTER_LATITUDE = 0.0
  CENTER_LONGITUDE = 315.0
  COORDINATE_SYSTEM_NAME = PLANETOGRAPHIC
  COORDINATE_SYSTEM_TYPE = "BODY-FIXED ROTATING"
  EASTERNMOST_LONGITUDE = 316.114
  FIRST_STANDARD_PARALLEL = "N/A"
  LINE_FIRST_PIXEL = 1
  LINE_LAST_PIXEL = 7359
  LINE_PROJECTION_OFFSET = -21095.875
  MAP_PROJECTION_ROTATION = 0.0
  MAP_PROJECTION_TYPE = SINUSOIDAL
  MAP_RESOLUTION = 592.713803866667
  MAP_SCALE = 0.1
  MAXIMUM_LATITUDE = -35.5883
  MINIMUM_LATITUDE = -48.0637
  POSITIVE_LONGITUDE_DIRECTION = EAST
  REFERENCE_LATITUDE = "N/A"
  REFERENCE_LONGITUDE = "N/A"
  SAMPLE_FIRST_PIXEL = 1
  SAMPLE_LAST_PIXEL = 1408
  SAMPLE_PROJECTION_OFFSET = 811.875
  SECOND_STANDARD_PARALLEL = "N/A"
  WESTERNMOST_LONGITUDE = 313.216
END_OBJECT = IMAGE_MAP_PROJECTION
/* The JPEG2000 image data file associated with this label. */
OBJECT = COMPRESSED_FILE
  FILE_NAME = "HA743_0000_RE3.JP2"
  RECORD_TYPE = UNDEFINED
  FILE_RECORDS = UNK
  ENCODING_TYPE = "JP2"
  INTERCHANGE_FORMAT = BINARY
  UNCOMPRESSED_FILE_NAME = "HA743_0000_RE3.IMG"
  REQUIRED_STORAGE_BYTES = "10381184"
  ^DESCRIPTION = "JP2INFO.TXT"
END_OBJECT = COMPRESSED_FILE
END
