PDS_VERSION_ID = PDS3
/* FILE DATA ELEMENTS */
RECORD_TYPE = STREAM
/* POINTERS TO DATA OBJECTS */
^COMPRESSED_FILE = "HA758_0000_BL3.JP2"
/* IDENTIFICATION DATA ELEMENTS */
DATA_SET_ID = "MEX-M-HRSC-5-REFDR-MAPPROJECTED-V3.0"
DATA_SET_NAME = "MARS EXPRESS HRSC MAP PROJECTED REFDR V3.0"
DETECTOR_ID = MEX_HRSC_BLUE
EVENT_TYPE = "MARS-REGIONAL-MAPPING-Te-Lc-Pf"
INSTRUMENT_HOST_ID = MEX
INSTRUMENT_HOST_NAME = "MARS EXPRESS"
INSTRUMENT_ID = HRSC
INSTRUMENT_NAME = "HIGH RESOLUTION STEREO CAMERA"
MISSION_NAME = "MARS EXPRESS"
MISSION_PHASE_NAME = ME_Phase_26
PROCESSING_LEVEL_ID = 3
PRODUCT_CREATION_TIME = 2016-10-28T02:48:22.000Z
PRODUCT_ID = "HA758_0000_BL3.JP2"
RELEASE_ID = 0110
REVISION_ID = 0000
/* QUALITY DATA ELEMENTS */
DATA_QUALITY_ID = 1
DATA_QUALITY_DESC = "Data calculated based on original SPICE kernels"
/* TIME DATA ELEMENTS */
SPACECRAFT_CLOCK_START_COUNT = "1/0287576340.08260"
SPACECRAFT_CLOCK_STOP_COUNT = "1/0287576735.08190"
START_TIME = 2012-06-12T10:19:39.891Z
STOP_TIME = 2012-06-12T10:23:54.932Z
/* ORBITAL DATA ELEMENTS */
ASCENDING_NODE_LONGITUDE = 12.03
MAXIMUM_RESOLUTION = 74.7
FOOTPRINT_POINT_LATITUDE = (-51.4157,-51.3758,-51.3534,-51.3294, -51.1547,-50.9005,-50.643,-50.3858, -49.9981,-49.6061,-49.3442,-49.0777, -48.8112,-48.545,-48.2742,-48.0035, -47.5952,-47.3195,-47.0446,-46.7649, -46.3456,-45.92,-45.6358,-45.2035, -44.9154,-44.6227,-44.3304,-43.8862, -43.5896,-43.2883,-42.9877,-42.6828, -42.378,-42.0704,-41.6052,-41.292, -40.9757,-40.658,-40.3372,-39.8526, -39.3621,-39.0344,-38.7015,-38.1981, -37.8619,-37.5208,-37.1774,-36.832, -36.4838,-36.4171,-36.4331,-36.4472, -36.4594,-36.4756,-36.6593,-37.0092, -37.3555,-37.6994,-38.0416,-38.3798, -38.8832,-39.382,-39.8759,-40.2021, -40.5234,-41.0042,-41.3224,-41.6366, -41.9504,-42.2607,-42.5698,-42.8758, -43.1809,-43.4828,-43.9329,-44.2305, -44.6734,-45.1129,-45.4021,-45.6919, -45.9769,-46.2622,-46.6855,-46.9665, -47.2459,-47.5221,-47.9357,-48.2069, -48.4805,-48.7514,-49.0184,-49.286, -49.6818,-49.9445,-50.338,-50.5973, -50.8553,-51.1139,-51.3679,-51.4157)
FOOTPRINT_POINT_LONGITUDE = (219.33,218.558,218.165,217.767,217.22, 217.251,217.282,217.312,217.358,217.404 ,217.43,217.456,217.482,217.507,217.532 ,217.557,217.596,217.618,217.641, 217.662,217.694,217.724,217.742,217.77, 217.788,217.806,217.824,217.85,217.866, 217.883,217.898,217.914,217.928,217.948 ,217.969,217.982,217.992,218.001, 218.011,218.026,218.035,218.049,218.055 ,218.061,218.072,218.078,218.083, 218.088,218.093,218.581,219.037,219.488 ,219.936,220.629,221.093,221.075, 221.056,221.038,221.019,220.999,220.97, 220.941,220.911,220.891,220.87,220.838, 220.817,220.796,220.774,220.752,220.73, 220.707,220.684,220.661,220.626,220.602 ,220.567,220.53,220.506,220.48,220.455, 220.43,220.391,220.365,220.339,220.312, 220.271,220.243,220.217,220.189,220.16, 220.132,220.086,220.056,220.011,219.983 ,219.951,219.92,219.889,219.33)
ORBIT_NUMBER = 10758
ORBITAL_ECCENTRICITY = 0.577
ORBITAL_INCLINATION = 86.89
ORBITAL_SEMIMAJOR_AXIS = 8760.29
PERIAPSIS_ALTITUDE = 327.85
PERIAPSIS_ARGUMENT_ANGLE = 281.64
PERIAPSIS_TIME = 2012-06-12T10:12:51.000Z
SPACECRAFT_ORIENTATION = (0.0,1.0,0.0)
^MEX_ORIENTATION_DESC = "MEX_ORIENTATION_DESC.TXT"
SPACECRAFT_POINTING_MODE = ACROSSTRACK
^MEX_POINTING_DESC = "MEX_POINTING_DESC.TXT"
RIGHT_ASCENSION = -1e+32
DECLINATION = -1e+32
OFFSET_ANGLE = 1.3
SPACECRAFT_SOLAR_DISTANCE = 2.39497e+08
TARGET_NAME = MARS
/* CAMERA DATA ELEMENTS */
DETECTOR_TEMPERATURE = 18.3705
FOCAL_PLANE_TEMPERATURE = 8.7872
INST_CMPRS_NAME = "DISCRETE COSINE TRANSFORMATION (DCT)"
INST_CMPRS_RATIO = 4.58209
INST_CMPRS_QUALITY = 0
INST_CMPRS_QUANTZ_TBL_ID = 0
INSTRUMENT_TEMPERATURE = 12.0496
LENS_TEMPERATURE = 8.7872
MACROPIXEL_SIZE = 4
MISSING_FRAMES = 0
PIXEL_SUBSAMPLING_FLAG = N
SIGNAL_CHAIN_ID = 2
/* RADIOMETRIC DATA ELEMENTS */
BANDWIDTH = 76.0
CENTER_FILTER_WAVELENGTH = 444.0
RADIANCE_OFFSET = 0.160474
RADIANCE_SCALING_FACTOR = 0.0036145
REFLECTANCE_SCALING_FACTOR = 0.000213012
MEX:REFLECTANCE_OFFSET = 0.00945715
/* IMAGE OBJECT DEFINITIONS */
OBJECT = IMAGE
  INTERCHANGE_FORMAT = BINARY
  LINES = 8900
  LINE_SAMPLES = 1720
  SAMPLE_TYPE = UNSIGNED_INTEGER
  SAMPLE_BITS = 8
  BANDS = 1
  BAND_STORAGE_TYPE = BAND_SEQUENTIAL
  MAXIMUM = 255
  MEAN = 91.633
  MINIMUM = 1
  STANDARD_DEVIATION = 18.9138
END_OBJECT = IMAGE
/* MAP OBJECT DEFINITIONS */
OBJECT = IMAGE_MAP_PROJECTION
  ^DATA_SET_MAP_PROJECTION_CATALOG= "DSMAP.CAT"
  A_AXIS_RADIUS = 3396.0
  B_AXIS_RADIUS = 3396.0
  C_AXIS_RADIUS = 3396.0
  CENTER_LATITUDE = 0.0
  CENTER_LONGITUDE = 219.0
  COORDINATE_SYSTEM_NAME = PLANETOGRAPHIC
  COORDINATE_SYSTEM_TYPE = "BODY-FIXED ROTATING"
  EASTERNMOST_LONGITUDE = 221.093
  FIRST_STANDARD_PARALLEL = "N/A"
  LINE_FIRST_PIXEL = 1
  LINE_LAST_PIXEL = 8900
  LINE_PROJECTION_OFFSET = -21580.625
  MAP_PROJECTION_ROTATION = 0.0
  MAP_PROJECTION_TYPE = SINUSOIDAL
  MAP_RESOLUTION = 592.713803866667
  MAP_SCALE = 0.1
  MAXIMUM_LATITUDE = -36.4171
  MINIMUM_LATITUDE = -51.4157
  POSITIVE_LONGITUDE_DIRECTION = EAST
  REFERENCE_LATITUDE = "N/A"
  REFERENCE_LONGITUDE = "N/A"
  SAMPLE_FIRST_PIXEL = 1
  SAMPLE_LAST_PIXEL = 1720
  SAMPLE_PROJECTION_OFFSET = 703.625
  SECOND_STANDARD_PARALLEL = "N/A"
  WESTERNMOST_LONGITUDE = 217.22
END_OBJECT = IMAGE_MAP_PROJECTION
/* The JPEG2000 image data file associated with this label. */
OBJECT = COMPRESSED_FILE
  FILE_NAME = "HA758_0000_BL3.JP2"
  RECORD_TYPE = UNDEFINED
  FILE_RECORDS = UNK
  ENCODING_TYPE = "JP2"
  INTERCHANGE_FORMAT = BINARY
  UNCOMPRESSED_FILE_NAME = "HA758_0000_BL3.IMG"
  REQUIRED_STORAGE_BYTES = "15328640"
  ^DESCRIPTION = "JP2INFO.TXT"
END_OBJECT = COMPRESSED_FILE
END
